Workbook

Sheet PITALITO
B1: SECRETARÍA DE EDUCACIÓN MUNICIPAL DE PITALITO
B2: AREA DE COBERTURA - SISTEMA INTEGRADO DE MATRICULAS
B3: EVOLUCIÓN DE LA MATRÍCULA OFICIAL POR GRADO
C5: 2008 | D5: 2009 | E5: 2010 | F5: 2011 | G5: 2012 | H5: 2013 | I5: 2014 | J5: 2015 | K5: 2016 | L5: 2017 | M5: 2018 | N5: 2019 | O5: 2020 | P5: 2021 | Q5: 2022 | R5: 2023 | S5: 2024 | T5: 2025 | W5: 2008 | X5: 2009 | Y5: 2010 | Z5: 2011 | AA5: 2012 | AB5: 2013 | AC5: 2014 | AD5: 2015 | AE5: 2016 | AF5: 2017 | AG5: 2018 | AH5: 2019 | AI5: 2020 | AJ5: 2021 | AK5: 2022 | AL5: 2023 | AM5: 2024 | AN5: 2025
B6: Prej | T6: 17 | V6: Preescolar | W6: =C8 -> 1874 | X6: =D8 -> 1853 | Y6: =E8 -> 1858 | Z6: =F8 -> 2066 | AA6: =G8 -> 2105 | AB6: =H8 -> 2153 | AC6: =I8 -> 1954 | AD6: =J8 -> 1930 | ... AN6: =T8 -> 1940
B7: Jard | T7: 83 | V7: Primaria | W7: =SUM(C9:C13,C34) -> 14140 | X7: =SUM(D9:D13,D34) -> 14140 | Y7: =SUM(E9:E13,E34) -> 14054 | Z7: =SUM(F9:F13,F34) -> 13642 | AA7: =SUM(G9:G13,G34) -> 13820 | AB7: =SUM(H9:H13,H34) -> 13977 | AC7: =SUM(I9:I13,I34) -> 13554 | AD7: =SUM(J9:J13,J34) -> 13277 | ... AN7: =SUM(T9:T13,T34) -> 12629
B8: 0° | C8: 1874 | D8: 1853 | E8: 1858 | F8: 2066 | G8: 2105 | H8: 2153 | I8: 1954 | J8: 1930 | K8: 1960 | L8: 2034 | M8: 2075 | N8: 2134 | O8: 2026 | P8: 1895 | Q8: 2216 | R8: 2306 | S8: 2113 | T8: 1940 | V8: Secundaria | W8: =SUM(C14:C17) -> 7903 | X8: =SUM(D14:D17) -> 8176 | Y8: =SUM(E14:E17) -> 9215 | Z8: =SUM(F14:F17) -> 9407 | AA8: =SUM(G14:G17) -> 9427 | AB8: =SUM(H14:H17) -> 9624 | AC8: =SUM(I14:I17) -> 9790 | AD8: =SUM(J14:J17) -> 9891 | ... AN8: =SUM(T14:T17) -> 8785
B9: 1º | C9: 2903 | D9: 3034 | E9: 2751 | F9: 2770 | G9: 2981 | H9: 3138 | I9: 3000 | J9: 2681 | K9: 2609 | L9: 2562 | M9: 2600 | N9: 2797 | O9: 2782 | P9: 2590 | Q9: 2629 | R9: 2797 | S9: 2763 | T9: 2624 | V9: Media | W9: =SUM(C18:C19) -> 2048 | X9: =SUM(D18:D19) -> 2145 | Y9: =SUM(E18:E19) -> 2423 | Z9: =SUM(F18:F19) -> 2606 | AA9: =SUM(G18:G19) -> 2631 | AB9: =SUM(H18:H19) -> 2677 | AC9: =SUM(I18:I19) -> 2703 | AD9: =SUM(J18:J19) -> 2765 | ... AN9: =SUM(T18:T19) -> 2645
B10: 2º | C10: 2777 | D10: 2750 | E10: 2906 | F10: 2683 | G10: 2692 | H10: 2731 | I10: 2722 | J10: 2722 | K10: 2422 | L10: 2388 | M10: 2322 | N10: 2397 | O10: 2479 | P10: 2552 | Q10: 2375 | R10: 2450 | S10: 2531 | T10: 2551 | V10: Total (0 a 11) | W10: =SUM(C8:C19,C34) -> 25965 | X10: =SUM(D8:D19,D34) -> 26314 | Y10: =SUM(E8:E19,E34) -> 27550 | Z10: =SUM(F8:F19,F34) -> 27721 | AA10: =SUM(G8:G19,G34) -> 27983 | AB10: =SUM(H8:H19,H34) -> 28431 | AC10: =SUM(I8:I19,I34) -> 28001 | AD10: =SUM(J8:J19,J34) -> 27863 | ... AN10: =SUM(T8:T19,T34) -> 25999
B11: 3º | C11: 2959 | D11: 2765 | E11: 2726 | F11: 2828 | G11: 2701 | H11: 2658 | I11: 2688 | J11: 2714 | K11: 2681 | L11: 2505 | M11: 2359 | N11: 2355 | O11: 2393 | P11: 2551 | Q11: 2296 | R11: 2382 | S11: 2403 | T11: 2572
B12: 4º | C12: 2733 | D12: 2855 | E12: 2781 | F12: 2660 | G12: 2769 | H12: 2667 | I12: 2581 | J12: 2600 | K12: 2611 | L12: 2603 | M12: 2443 | N12: 2348 | O12: 2434 | P12: 2446 | Q12: 2456 | R12: 2359 | S12: 2439 | T12: 2421 | V12: Matrícula por Nivel Educativo del Grado Cero a Once
B13: 5º | C13: 2689 | D13: 2684 | E13: 2868 | F13: 2677 | G13: 2649 | H13: 2759 | I13: 2545 | J13: 2541 | K13: 2603 | L13: 2592 | M13: 2556 | N13: 2421 | O13: 2286 | P13: 2460 | Q13: 2363 | R13: 2435 | S13: 2334 | T13: 2439
B14: 6º | C14: 2568 | D14: 2588 | E14: 2879 | F14: 3005 | G14: 3046 | H14: 3134 | I14: 3351 | J14: 3281 | K14: 3213 | L14: 3177 | M14: 3164 | N14: 3228 | O14: 3163 | P14: 2750 | Q14: 2797 | R14: 2743 | S14: 2903 | T14: 2711
B15: 7º | C15: 2201 | D15: 2214 | E15: 2464 | F15: 2417 | G15: 2554 | H15: 2547 | I15: 2508 | J15: 2607 | K15: 2512 | L15: 2564 | M15: 2342 | N15: 2451 | O15: 2440 | P15: 2626 | Q15: 2280 | R15: 2346 | S15: 2246 | T15: 2387 | W15: 2008 | X15: 2009 | Y15: 2010 | Z15: 2011 | AA15: 2012 | AB15: 2013 | AC15: 2014 | AD15: 2015 | AE15: 2016 | AF15: 2017 | AG15: 2018 | AH15: 2019 | AI15: 2020 | AJ15: 2021 | AK15: 2022 | AL15: 2023 | AM15: 2024 | AN15: 2025
B16: 8º | C16: 1755 | D16: 1850 | E16: 2141 | F16: 2227 | G16: 2071 | H16: 2179 | I16: 2169 | J16: 2203 | K16: 2191 | L16: 2139 | M16: 2123 | N16: 2175 | O16: 2100 | P16: 2220 | Q16: 2189 | R16: 1970 | S16: 1966 | T16: 1970 | V16: Preescolar | X16: =(X6-W6)/W6*100 -> -1.1205977 | Y16: =(Y6-X6)/X6*100 -> 0.2698327 | Z16: =(Z6-Y6)/Y6*100 -> 11.194833 | AA16: =(AA6-Z6)/Z6*100 -> 1.8877057 | AB16: =(AB6-AA6)/AA6*100 -> 2.280285 | AC16: =(AC6-AB6)/AB6*100 -> -9.2429169 | AD16: =(AD6-AC6)/AC6*100 -> -1.2282497 | AE16: =(AE6-AD6)/AD6*100 -> 1.5544041 | ... AN16: =(AN6-AM6)/AM6*100 -> -8.1874113
B17: 9º | C17: 1379 | D17: 1524 | E17: 1731 | F17: 1758 | G17: 1756 | H17: 1764 | I17: 1762 | J17: 1800 | K17: 1733 | L17: 1767 | M17: 1700 | N17: 1859 | O17: 1784 | P17: 1810 | Q17: 1737 | R17: 1851 | S17: 1668 | T17: 1717 | V17: Primaria | X17: =(X7-W7)/W7*100 -> 0 | Y17: =(Y7-X7)/X7*100 -> -0.60820368 | Z17: =(Z7-Y7)/Y7*100 -> -2.9315497 | AA17: =(AA7-Z7)/Z7*100 -> 1.304794 | AB17: =(AB7-AA7)/AA7*100 -> 1.1360347 | AC17: =(AC7-AB7)/AB7*100 -> -3.0264005 | AD17: =(AD7-AC7)/AC7*100 -> -2.0436771 | AE17: =(AE7-AD7)/AD7*100 -> -2.4779694 | ... AN17: =(AN7-AM7)/AM7*100 -> 1.1371827
B18: 10º | C18: 1141 | D18: 1152 | E18: 1454 | F18: 1581 | G18: 1547 | H18: 1538 | I18: 1584 | J18: 1583 | K18: 1628 | L18: 1583 | M18: 1565 | N18: 1477 | O18: 1575 | P18: 1606 | Q18: 1577 | R18: 1478 | S18: 1517 | T18: 1424 | V18: Secundaria | X18: =(X8-W8)/W8*100 -> 3.4543844 | Y18: =(Y8-X8)/X8*100 -> 12.707926 | Z18: =(Z8-Y8)/Y8*100 -> 2.0835594 | AA18: =(AA8-Z8)/Z8*100 -> 0.21260763 | AB18: =(AB8-AA8)/AA8*100 -> 2.0897422 | AC18: =(AC8-AB8)/AB8*100 -> 1.7248545 | AD18: =(AD8-AC8)/AC8*100 -> 1.031665 | AE18: =(AE8-AD8)/AD8*100 -> -2.4466687 | ... AN18: =(AN8-AM8)/AM8*100 -> 0.022771263
B19: 11º | C19: 907 | D19: 993 | E19: 969 | F19: 1025 | G19: 1084 | H19: 1139 | I19: 1119 | J19: 1182 | K19: 1147 | L19: 1166 | M19: 1121 | N19: 1164 | O19: 1135 | P19: 1261 | Q19: 1166 | R19: 1151 | S19: 1140 | T19: 1221 | V19: Media | X19: =(X9-W9)/W9*100 -> 4.7363281 | Y19: =(Y9-X9)/X9*100 -> 12.960373 | Z19: =(Z9-Y9)/Y9*100 -> 7.5526207 | AA19: =(AA9-Z9)/Z9*100 -> 0.95932464 | AB19: =(AB9-AA9)/AA9*100 -> 1.7483846 | AC19: =(AC9-AB9)/AB9*100 -> 0.97123646 | AD19: =(AD9-AC9)/AC9*100 -> 2.2937477 | AE19: =(AE9-AD9)/AD9*100 -> 0.36166365 | ... AN19: =(AN9-AM9)/AM9*100 -> -0.45163718
B20: 12° | C20: 23 | D20: 58 | E20: 51 | F20: 42 | G20: 58 | H20: 59 | I20: 69 | J20: 65 | K20: 11 | L20: 40 | M20: 78 | N20: 85 | O20: 87 | P20: 126 | Q20: 116 | V20: Total (0 a 11) | X20: =(X10-W10)/W10*100 -> 1.3441171 | Y20: =(Y10-X10)/X10*100 -> 4.6971194 | Z20: =(Z10-Y10)/Y10*100 -> 0.62068966 | AA20: =(AA10-Z10)/Z10*100 -> 0.94513185 | AB20: =(AB10-AA10)/AA10*100 -> 1.600972 | AC20: =(AC10-AB10)/AB10*100 -> -1.5124336 | AD20: =(AD10-AC10)/AC10*100 -> -0.49283954 | AE20: =(AE10-AD10)/AD10*100 -> -1.9057531 | ... AN20: =(AN10-AM10)/AM10*100 -> -0.15745008
B21: 13° | C21: 26 | D21: 57 | E21: 58 | F21: 106 | G21: 106 | H21: 55 | I21: 42 | J21: 39 | K21: 31 | L21: 62 | M21: 50 | N21: 88 | O21: 99 | P21: 60 | Q21: 69
B22: C0 | H22: 3103 | V22: Tasa de aumento o disminución de la matrícula por nivel y año
B23: C1 | C23: 274 | D23: 379 | E23: 345 | F23: 195 | G23: 58 | H23: 22 | I23: 1769 | J23: 2108 | K23: 21 | L23: 21 | M23: 35 | P23: 60 | Q23: 164 | R23: 14 | S23: 26 | T23: 17
B24: C2 | C24: 520 | D24: 415 | E24: 536 | F24: 151 | G24: 188 | H24: 1128 | I24: 809 | J24: 86 | K24: 66 | L24: 54 | M24: 75 | N24: 34 | O24: 44 | P24: 58 | Q24: 86 | R24: 48 | S24: 58 | T24: 39
B25: C3 | C25: 419 | D25: 458 | E25: 495 | F25: 619 | G25: 546 | H25: 509 | I25: 1623 | J25: 1346 | K25: 732 | L25: 593 | M25: 663 | N25: 596 | O25: 596 | P25: 470 | Q25: 547 | R25: 441 | S25: 383 | T25: 345
B26: C4 | C26: 142 | D26: 365 | E26: 418 | F26: 468 | G26: 557 | H26: 537 | I26: 513 | J26: 623 | K26: 975 | L26: 709 | M26: 663 | N26: 698 | O26: 648 | P26: 481 | Q26: 502 | R26: 501 | S26: 488 | T26: 348
B27: C5 | C27: 92 | D27: 120 | E27: 310 | F27: 410 | G27: 374 | H27: 445 | I27: 261 | J27: 469 | K27: 433 | L27: 537 | M27: 543 | N27: 554 | O27: 556 | P27: 505 | Q27: 455 | R27: 486 | S27: 472 | T27: 392
B28: C6 | D28: 30 | E28: 1 | F28: 28 | G28: 40 | H28: 52 | I28: 374 | J28: 114 | K28: 125 | L28: 337 | M28: 196 | N28: 89 | O28: 94 | P28: 14 | Q28: 10
B29: 41° | R29: 29 | S29: 22 | T29: 38
B30: 42° | R30: 24 | S30: 35 | T30: 29
B31: 43° | R31: 43 | S31: 22 | T31: 14
B32: 44° | R32: 36 | S32: 35 | T32: 28
B33: 45° | R33: 48 | S33: 29 | T33: 17
B34: Acel | C34: 79 | D34: 52 | E34: 22 | F34: 24 | G34: 28 | H34: 24 | I34: 18 | J34: 19 | K34: 22 | L34: 20 | M34: 11 | N34: 25 | O34: 25 | P34: 21 | Q34: 21 | R34: 20 | S34: 17 | T34: 22
B35: Total | C35: 27461 | D35: 28196 | E35: 29764 | F35: 29740 | G35: 29910 | H35: 34341 | I35: 33461 | J35: 32713 | K35: 29726 | L35: 29453 | M35: 28684 | N35: 28975 | O35: 28746 | P35: 28562 | Q35: 28051 | R35: 27958 | S35: 27610 | T35: 27366
B37: Promoción por año del grado cero a quinto y de sexto a once, análisis de cohortes (%)
C38: 2008 | D38: 2009 | E38: 2010 | F38: 2011 | G38: 2012 | H38: 2013 | I38: 2014 | J38: 2015 | K38: 2016 | L38: 2017 | M38: 2018 | N38: 2019 | O38: 2020 | P38: 2021 | Q38: 2022 | R38: 2023 | S38: 2024
B39: 0° | N39: 2134
B40: 1º | O40: =(O9-N8)/N8*100 -> 30.365511
B41: 2º | P41: =(P10-O9)/O9*100 -> -8.2674335
B42: 3º | Q42: =(Q11-P10)/P10*100 -> -10.031348
B43: 4º | R43: =(R12-Q11)/Q11*100 -> 2.7439024 | T43: 5° VS 0°
B44: 5º | S44: =(S13-R12)/R12*100 -> -1.0597711 | T44: =(S13-N8)/N8*100 -> 9.3720712
B45: 6º | N45: 3228
B46: 7º | O46: =(O15-N14)/N14*100 -> -24.4114
B47: 8º | P47: =(P16-O15)/O15*100 -> -9.0163934
B48: 9º | Q48: =(Q17-P16)/P16*100 -> -21.756757
B49: 10º | R49: =(R18-Q17)/Q17*100 -> -14.910766 | T49: 11° VS 6°
B50: 11º | S50: =(S19-R18)/R18*100 -> -22.868742 | T50: =(S19-N14)/N14*100 -> -64.684015
B57: Fuente: MEN-SIMAT- Anexo 6A - 5A
B58: Información 2008 corte 03/04/2008 y 01/11/2008 | H58: Información 2016 corte 6A 31/03/2016 y 5A 01/12/2016
B59: Información 2009 corte 28/08/2009 y 30/11/2009 | H59: Información 2017 corte 6A 01/04/2017 y 5A 30/11/2017
B60: Información 2010 corte 10/03/2010 y 02/12/2010 | H60: Información 2018 corte 6A 01/04/2018 y 5A 30/11/2018
B61: Información 2011 corte 01/05/2011 y 30/10/2011 | H61: Información 2019 corte 6A 01/04/2019 y 5A 01/04/2019 Preeliminar
B62: Información 2012 corte 30/05/2012 y 30/11/2012 | H62: Información 2020 corte 6A 01/05/2020 y 5A 01/05/2020
B63: Información 2013 corte 31/05/2013 y 30/11/2013 | H63: Información 2021 corte 6A 01/05/2021 y 5A 01/05/2021
B64: Información 2014 corte 6A 01/04/2014 - 31/12/2014 y 5A 31 diciembre 2014 | H64: Información 2022 corte 6A 02/05/2022 y 5A 31/12/2022
B65: Información 2015 corte 6A 01/04/2015 y 01/11/2015 | H65: Información 2023 corte 6A 01/05/2023 y 5A 31/12/2023
H66: Información 2024 corte 6A 01/05/2024 y 5A 01/05/2024
H67: Información 2025 corte 6A 01/05/2025 y 5A 01/05/2025

Sheet PITALITO GRADO Y ZONA
B1: SECRETARÍA DE EDUCACIÓN MUNICIPAL DE PITALITO
B2: AREA DE COBERTURA - SISTEMA INTEGRADO DE MATRICULAS
B3: EVOLUCIÓN DE LA MATRÍCULA OFICIAL POR GRADO Y ZONA
C5: 2008 | E5: 2009 | G5: 2010 | I5: 2011 | K5: 2012 | M5: 2013 | O5: 2014 | Q5: 2015 | S5: 2016 | U5: 2017 | W5: 2018 | Y5: 2019 | AA5: 2020 | AC5: 2021 | AE5: 2022 | AG5: 2023 | AI5: 2024 | AK5: 2025 | AO5: 2008 | AQ5: 2009 | AS5: 2010 | AU5: 2011 | AW5: 2012 | AY5: 2013 | BA5: 2014 | BC5: 2015 | BE5: 2016 | BG5: 2017 | BI5: 2018 | BK5: 2019 | BM5: 2020 | BO5: 2021 | BQ5: 2022 | BS5: 2023 | BU5: 2024 | BW5: 2025
C6: RURAL | D6: URBANA | E6: RURAL | F6: URBANA | G6: RURAL | H6: URBANA | I6: RURAL | J6: URBANA | K6: RURAL | L6: URBANA | M6: RURAL | N6: URBANA | O6: RURAL | P6: URBANA | Q6: RURAL | R6: URBANA | S6: RURAL | T6: URBANA | U6: RURAL | V6: URBANA | W6: RURAL | X6: URBANA | Y6: RURAL | Z6: URBANA | AA6: RURAL | AB6: URBANA | AC6: RURAL | AD6: URBANA | AE6: RURAL | AF6: URBANA | AG6: RURAL | AH6: URBANA | AI6: RURAL | AJ6: URBANA | AK6: RURAL | AL6: URBANA | AO6: RURAL | AP6: URBANA | AQ6: RURAL | AR6: URBANA | AS6: RURAL | AT6: URBANA | AU6: RURAL | AV6: URBANA | AW6: RURAL | AX6: URBANA | AY6: RURAL | AZ6: URBANA | BA6: RURAL | BB6: URBANA | BC6: RURAL | BD6: URBANA | BE6: RURAL | BF6: URBANA | BG6: RURAL | BH6: URBANA | BI6: RURAL | BJ6: URBANA | BK6: RURAL | BL6: URBANA | BM6: RURAL | BN6: URBANA | BO6: RURAL | BP6: URBANA | BQ6: RURAL | BR6: URBANA | BS6: RURAL | BT6: URBANA | BU6: RURAL | BV6: URBANA | BW6: RURAL | BX6: URBANA
B7: Prej | AK7: 10 | AL7: 7 | AN7: Preescolar | AO7: =C9 -> 787 | AP7: =D9 -> 1087 | AQ7: =E9 -> 807 | AR7: =F9 -> 1046 | AS7: =G9 -> 802 | AT7: =H9 -> 1056 | AU7: =I9 -> 844 | AV7: =J9 -> 1222 | ... BX7: =AL9 -> 1032
B8: Jard | AK8: 55 | AL8: 28 | AN8: Primaria + Acel | AO8: =SUM(C10:C14,C35) -> 6768 | AP8: =SUM(D10:D14,D35) -> 7372 | AQ8: =SUM(E10:E14,E35) -> 6741 | AR8: =SUM(F10:F14,F35) -> 7399 | AS8: =SUM(G10:G14,G35) -> 6602 | AT8: =SUM(H10:H14,H35) -> 7452 | AU8: =SUM(I10:I14,I35) -> 6374 | AV8: =SUM(J10:J14,J35) -> 7268 | ... BX8: =SUM(AL10:AL14,AL35) -> 6865
B9: 0° | C9: 787 | D9: 1087 | E9: 807 | F9: 1046 | G9: 802 | H9: 1056 | I9: 844 | J9: 1222 | K9: 838 | L9: 1267 | M9: 940 | N9: 1213 | O9: 806 | P9: 1148 | Q9: 864 | R9: 1066 | S9: 882 | T9: 1078 | U9: 886 | V9: 1148 | W9: 994 | X9: 1081 | Y9: 967 | Z9: 1167 | AA9: 872 | AB9: 1154 | AC9: 857 | AD9: 1038 | AE9: 1031 | AF9: 1185 | AG9: 1122 | AH9: 1184 | AI9: 954 | AJ9: 1159 | AK9: 908 | AL9: 1032 | AN9: Secundaria | AO9: =SUM(C15:C18) -> 1847 | AP9: =SUM(D15:D18) -> 6056 | AQ9: =SUM(E15:E18) -> 2082 | AR9: =SUM(F15:F18) -> 6094 | AS9: =SUM(G15:G18) -> 2535 | AT9: =SUM(H15:H18) -> 6680 | AU9: =SUM(I15:I18) -> 2607 | AV9: =SUM(J15:J18) -> 6800 | ... BX9: =SUM(AL15:AL18) -> 5599
B10: 1º | C10: 1422 | D10: 1481 | E10: 1477 | F10: 1557 | G10: 1305 | H10: 1446 | I10: 1300 | J10: 1470 | K10: 1334 | L10: 1647 | M10: 1485 | N10: 1653 | O10: 1443 | P10: 1557 | Q10: 1195 | R10: 1486 | S10: 1203 | T10: 1406 | U10: 1188 | V10: 1374 | W10: 1198 | X10: 1402 | Y10: 1356 | Z10: 1441 | AA10: 1250 | AB10: 1532 | AC10: 1136 | AD10: 1454 | AE10: 1201 | AF10: 1428 | AG10: 1345 | AH10: 1452 | AI10: 1359 | AJ10: 1404 | AK10: 1177 | AL10: 1447 | AN10: Media | AO10: =SUM(C19:C20) -> 168 | AP10: =SUM(D19:D20) -> 1880 | AQ10: =SUM(E19:E20) -> 186 | AR10: =SUM(F19:F20) -> 1959 | AS10: =SUM(G19:G20) -> 272 | AT10: =SUM(H19:H20) -> 2151 | AU10: =SUM(I19:I20) -> 427 | AV10: =SUM(J19:J20) -> 2179 | ... BX10: =SUM(AL19:AL20) -> 1738
B11: 2º | C11: 1419 | D11: 1358 | E11: 1367 | F11: 1383 | G11: 1384 | H11: 1522 | I11: 1274 | J11: 1409 | K11: 1300 | L11: 1392 | M11: 1197 | N11: 1534 | O11: 1228 | P11: 1494 | Q11: 1313 | R11: 1409 | S11: 1071 | T11: 1351 | U11: 1111 | V11: 1277 | W11: 1101 | X11: 1221 | Y11: 1064 | Z11: 1333 | AA11: 1163 | AB11: 1316 | AC11: 1185 | AD11: 1367 | AE11: 1084 | AF11: 1291 | AG11: 1149 | AH11: 1301 | AI11: 1175 | AJ11: 1356 | AK11: 1255 | AL11: 1296 | AN11: Total (0 a 11) | AO11: =SUM(C9:C20,C35) -> 9570 | AP11: =SUM(D9:D20,D35) -> 16395 | AQ11: =SUM(E9:E20,E35) -> 9816 | AR11: =SUM(F9:F20,F35) -> 16498 | AS11: =SUM(G9:G20,G35) -> 10211 | AT11: =SUM(H9:H20,H35) -> 17339 | AU11: =SUM(I9:I20,I35) -> 10252 | AV11: =SUM(J9:J20,J35) -> 17469 | ... BX11: =SUM(AL9:AL20,AL35) -> 15234
B12: 3º | C12: 1465 | D12: 1494 | E12: 1346 | F12: 1419 | G12: 1321 | H12: 1405 | I12: 1308 | J12: 1520 | K12: 1280 | L12: 1421 | M12: 1282 | N12: 1376 | O12: 1154 | P12: 1534 | Q12: 1213 | R12: 1501 | S12: 1217 | T12: 1464 | U12: 1101 | V12: 1404 | W12: 1107 | X12: 1252 | Y12: 1113 | Z12: 1242 | AA12: 1036 | AB12: 1357 | AC12: 1193 | AD12: 1358 | AE12: 1056 | AF12: 1240 | AG12: 1063 | AH12: 1319 | AI12: 1127 | AJ12: 1276 | AK12: 1169 | AL12: 1403
B13: 4º | C13: 1275 | D13: 1458 | E13: 1363 | F13: 1492 | G13: 1282 | H13: 1499 | I13: 1300 | J13: 1360 | K13: 1246 | L13: 1523 | M13: 1249 | N13: 1418 | O13: 1182 | P13: 1399 | Q13: 1106 | R13: 1494 | S13: 1124 | T13: 1487 | U13: 1154 | V13: 1449 | W13: 1042 | X13: 1401 | Y13: 1046 | Z13: 1302 | AA13: 1081 | AB13: 1353 | AC13: 1067 | AD13: 1379 | AE13: 1180 | AF13: 1276 | AG13: 1067 | AH13: 1292 | AI13: 1083 | AJ13: 1356 | AK13: 1099 | AL13: 1322 | AN13: Matrícula por Nivel Educativo y Zona del Grado Cero a Once
B14: 5º | C14: 1187 | D14: 1502 | E14: 1188 | F14: 1496 | G14: 1310 | H14: 1558 | I14: 1192 | J14: 1485 | K14: 1228 | L14: 1421 | M14: 1218 | N14: 1541 | O14: 1153 | P14: 1392 | Q14: 1148 | R14: 1393 | S14: 1073 | T14: 1530 | U14: 1118 | V14: 1474 | W14: 1141 | X14: 1415 | Y14: 1034 | Z14: 1387 | AA14: 1024 | AB14: 1262 | AC14: 1142 | AD14: 1318 | AE14: 1045 | AF14: 1318 | AG14: 1143 | AH14: 1292 | AI14: 1038 | AJ14: 1296 | AK14: 1064 | AL14: 1375
B15: 6º | C15: 740 | D15: 1828 | E15: 752 | F15: 1836 | G15: 857 | H15: 2022 | I15: 897 | J15: 2108 | K15: 912 | L15: 2134 | M15: 1022 | N15: 2112 | O15: 1083 | P15: 2268 | Q15: 1061 | R15: 2220 | S15: 1052 | T15: 2161 | U15: 999 | V15: 2178 | W15: 1064 | X15: 2100 | Y15: 1063 | Z15: 2165 | AA15: 1053 | AB15: 2110 | AC15: 1017 | AD15: 1733 | AE15: 1003 | AF15: 1794 | AG15: 990 | AH15: 1753 | AI15: 1062 | AJ15: 1841 | AK15: 995 | AL15: 1716 | AO15: 2008 | AQ15: 2009 | AS15: 2010 | AU15: 2011 | AW15: 2012 | AY15: 2013 | BA15: 2014 | BC15: 2015 | BE15: 2016 | BG15: 2017 | BI15: 2018 | BK15: 2019 | BM15: 2020 | BO15: 2021 | BQ15: 2022 | BS15: 2023 | BU15: 2024 | BW15: 2025
B16: 7º | C16: 558 | D16: 1643 | E16: 590 | F16: 1624 | G16: 684 | H16: 1780 | I16: 677 | J16: 1740 | K16: 747 | L16: 1807 | M16: 809 | N16: 1738 | O16: 835 | P16: 1673 | Q16: 849 | R16: 1758 | S16: 829 | T16: 1683 | U16: 862 | V16: 1702 | W16: 810 | X16: 1532 | Y16: 895 | Z16: 1556 | AA16: 856 | AB16: 1584 | AC16: 920 | AD16: 1706 | AE16: 848 | AF16: 1432 | AG16: 853 | AH16: 1493 | AI16: 844 | AJ16: 1402 | AK16: 897 | AL16: 1490 | AO16: RURAL | AP16: URBANA | AQ16: RURAL | AR16: URBANA | AS16: RURAL | AT16: URBANA | AU16: RURAL | AV16: URBANA | AW16: RURAL | AX16: URBANA | AY16: RURAL | AZ16: URBANA | BA16: RURAL | BB16: URBANA | BC16: RURAL | BD16: URBANA | BE16: RURAL | BF16: URBANA | BG16: RURAL | BH16: URBANA | BI16: RURAL | BJ16: URBANA | BK16: RURAL | BL16: URBANA | BM16: RURAL | BN16: URBANA | BO16: RURAL | BP16: URBANA | BQ16: RURAL | BR16: URBANA | BS16: RURAL | BT16: URBANA | BU16: RURAL | BV16: URBANA | BW16: RURAL | BX16: URBANA
B17: 8º | C17: 330 | D17: 1425 | E17: 471 | F17: 1379 | G17: 577 | H17: 1564 | I17: 560 | J17: 1667 | K17: 568 | L17: 1503 | M17: 645 | N17: 1534 | O17: 665 | P17: 1504 | Q17: 738 | R17: 1465 | S17: 743 | T17: 1448 | U17: 748 | V17: 1391 | W17: 700 | X17: 1423 | Y17: 718 | Z17: 1457 | AA17: 740 | AB17: 1360 | AC17: 831 | AD17: 1389 | AE17: 734 | AF17: 1455 | AG17: 722 | AH17: 1248 | AI17: 729 | AJ17: 1237 | AK17: 652 | AL17: 1318 | AN17: Preescolar | AQ17: =(AQ7-AO7)/AO7*100 -> 2.5412961 | AR17: =(AR7-AP7)/AP7*100 -> -3.7718491 | AS17: =(AS7-AQ7)/AQ7*100 -> -0.61957869 | AT17: =(AT7-AR7)/AR7*100 -> 0.95602294 | AU17: =(AU7-AS7)/AS7*100 -> 5.2369077 | AV17: =(AV7-AT7)/AT7*100 -> 15.719697 | AW17: =(AW7-AU7)/AU7*100 -> -0.71090047 | AX17: =(AX7-AV7)/AV7*100 -> 3.6824877 | ... BX17: =(BX7-BV7)/BV7*100 -> -10.957722
B18: 9º | C18: 219 | D18: 1160 | E18: 269 | F18: 1255 | G18: 417 | H18: 1314 | I18: 473 | J18: 1285 | K18: 424 | L18: 1332 | M18: 460 | N18: 1304 | O18: 533 | P18: 1229 | Q18: 551 | R18: 1249 | S18: 515 | T18: 1218 | U18: 549 | V18: 1218 | W18: 562 | X18: 1138 | Y18: 586 | Z18: 1273 | AA18: 540 | AB18: 1244 | AC18: 638 | AD18: 1172 | AE18: 635 | AF18: 1102 | AG18: 614 | AH18: 1237 | AI18: 581 | AJ18: 1087 | AK18: 642 | AL18: 1075 | AN18: Primaria + Acel | AQ18: =(AQ8-AO8)/AO8*100 -> -0.39893617 | AR18: =(AR8-AP8)/AP8*100 -> 0.36625068 | AS18: =(AS8-AQ8)/AQ8*100 -> -2.0620086 | AT18: =(AT8-AR8)/AR8*100 -> 0.71631302 | AU18: =(AU8-AS8)/AS8*100 -> -3.4534989 | AV18: =(AV8-AT8)/AT8*100 -> -2.4691358 | AW18: =(AW8-AU8)/AU8*100 -> 0.2196423 | AX18: =(AX8-AV8)/AV8*100 -> 2.2564667 | ... BX18: =(BX8-BV8)/BV8*100 -> 2.3862789
B19: 10º | C19: 89 | D19: 1052 | E19: 114 | F19: 1038 | G19: 165 | H19: 1289 | I19: 317 | J19: 1264 | K19: 334 | L19: 1213 | M19: 355 | N19: 1183 | O19: 362 | P19: 1222 | Q19: 460 | R19: 1123 | S19: 465 | T19: 1163 | U19: 429 | V19: 1154 | W19: 483 | X19: 1082 | Y19: 491 | Z19: 986 | AA19: 490 | AB19: 1085 | AC19: 474 | AD19: 1132 | AE19: 538 | AF19: 1039 | AG19: 528 | AH19: 950 | AI19: 503 | AJ19: 1014 | AK19: 484 | AL19: 940 | AN19: Secundaria | AQ19: =(AQ9-AO9)/AO9*100 -> 12.723335 | AR19: =(AR9-AP9)/AP9*100 -> 0.62747688 | AS19: =(AS9-AQ9)/AQ9*100 -> 21.757925 | AT19: =(AT9-AR9)/AR9*100 -> 9.6160158 | AU19: =(AU9-AS9)/AS9*100 -> 2.8402367 | AV19: =(AV9-AT9)/AT9*100 -> 1.7964072 | AW19: =(AW9-AU9)/AU9*100 -> 1.6877637 | AX19: =(AX9-AV9)/AV9*100 -> -0.35294118 | ... BX19: =(BX9-BV9)/BV9*100 -> 0.57481588
B20: 11º | C20: 79 | D20: 828 | E20: 72 | F20: 921 | G20: 107 | H20: 862 | I20: 110 | J20: 915 | K20: 243 | L20: 841 | M20: 266 | N20: 873 | O20: 292 | P20: 827 | Q20: 303 | R20: 879 | S20: 355 | T20: 792 | U20: 405 | V20: 761 | W20: 307 | X20: 814 | Y20: 384 | Z20: 780 | AA20: 402 | AB20: 733 | AC20: 398 | AD20: 863 | AE20: 354 | AF20: 812 | AG20: 401 | AH20: 750 | AI20: 403 | AJ20: 737 | AK20: 423 | AL20: 798 | AN20: Media | AQ20: =(AQ10-AO10)/AO10*100 -> 10.714286 | AR20: =(AR10-AP10)/AP10*100 -> 4.2021277 | AS20: =(AS10-AQ10)/AQ10*100 -> 46.236559 | AT20: =(AT10-AR10)/AR10*100 -> 9.8009188 | AU20: =(AU10-AS10)/AS10*100 -> 56.985294 | AV20: =(AV10-AT10)/AT10*100 -> 1.3017201 | AW20: =(AW10-AU10)/AU10*100 -> 35.128806 | AX20: =(AX10-AV10)/AV10*100 -> -5.7365764 | ... BX20: =(BX10-BV10)/BV10*100 -> -0.7424329
B21: 12° | D21: 23 | F21: 58 | H21: 51 | J21: 42 | L21: 58 | N21: 59 | P21: 69 | R21: 65 | T21: 11 | V21: 40 | X21: 78 | Z21: 85 | AB21: 87 | AD21: 126 | AF21: 116 | AN21: Total (0 a 11) | AQ21: =(AQ11-AO11)/AO11*100 -> 2.5705329 | AR21: =(AR11-AP11)/AP11*100 -> 0.62824032 | AS21: =(AS11-AQ11)/AQ11*100 -> 4.0240424 | AT21: =(AT11-AR11)/AR11*100 -> 5.0975876 | AU21: =(AU11-AS11)/AS11*100 -> 0.40152776 | AV21: =(AV11-AT11)/AT11*100 -> 0.74975489 | AW21: =(AW11-AU11)/AU11*100 -> 1.9703472 | AX21: =(AX11-AV11)/AV11*100 -> 0.34346557 | ... BX21: =(BX11-BV11)/BV11*100 -> 0.34251087
B22: 13° | D22: 26 | F22: 57 | H22: 58 | J22: 106 | L22: 106 | N22: 55 | P22: 42 | R22: 39 | T22: 31 | V22: 62 | X22: 50 | Z22: 88 | AB22: 99 | AD22: 60 | AF22: 69
B23: C0 | M23: 1844 | N23: 1259 | AN23: Tasa de aumento o disminución de la matrícula por nivel y zona
B24: C1 | C24: 110 | D24: 164 | E24: 233 | F24: 146 | G24: 238 | H24: 107 | I24: 86 | J24: 109 | L24: 58 | N24: 22 | O24: 778 | P24: 991 | Q24: 903 | R24: 1205 | T24: 21 | V24: 21 | X24: 35 | AD24: 60 | AE24: 96 | AF24: 68 | AH24: 14 | AJ24: 26 | AL24: 17
B25: C2 | C25: 288 | D25: 232 | E25: 215 | F25: 200 | G25: 246 | H25: 290 | I25: 56 | J25: 95 | K25: 77 | L25: 111 | M25: 567 | N25: 561 | O25: 325 | P25: 484 | R25: 86 | T25: 66 | V25: 54 | X25: 75 | Z25: 34 | AB25: 44 | AD25: 58 | AF25: 86 | AH25: 48 | AJ25: 58 | AL25: 39
B26: C3 | C26: 71 | D26: 348 | E26: 162 | F26: 296 | G26: 215 | H26: 280 | I26: 292 | J26: 327 | K26: 203 | L26: 343 | M26: 204 | N26: 305 | O26: 735 | P26: 888 | Q26: 623 | R26: 723 | S26: 291 | T26: 441 | U26: 225 | V26: 368 | W26: 253 | X26: 410 | Y26: 245 | Z26: 351 | AA26: 287 | AB26: 309 | AC26: 218 | AD26: 252 | AE26: 262 | AF26: 285 | AG26: 193 | AH26: 248 | AI26: 179 | AJ26: 204 | AK26: 168 | AL26: 177
B27: C4 | C27: 28 | D27: 114 | E27: 83 | F27: 282 | G27: 95 | H27: 323 | I27: 146 | J27: 322 | K27: 224 | L27: 333 | M27: 182 | N27: 355 | O27: 183 | P27: 330 | Q27: 229 | R27: 394 | S27: 430 | T27: 545 | U27: 304 | V27: 405 | W27: 301 | X27: 362 | Y27: 265 | Z27: 433 | AA27: 259 | AB27: 389 | AC27: 231 | AD27: 250 | AE27: 241 | AF27: 261 | AG27: 245 | AH27: 256 | AI27: 201 | AJ27: 287 | AK27: 155 | AL27: 193
B28: C5 | C28: 27 | D28: 65 | E28: 21 | F28: 99 | G28: 87 | H28: 223 | I28: 94 | J28: 316 | K28: 148 | L28: 226 | M28: 220 | N28: 225 | O28: 70 | P28: 191 | Q28: 210 | R28: 259 | S28: 201 | T28: 232 | U28: 230 | V28: 307 | W28: 246 | X28: 297 | Y28: 208 | Z28: 346 | AA28: 243 | AB28: 313 | AC28: 218 | AD28: 287 | AE28: 210 | AF28: 245 | AG28: 219 | AH28: 267 | AI28: 201 | AJ28: 271 | AK28: 165 | AL28: 227
B29: C6 | E29: 30 | H29: 1 | J29: 28 | L29: 40 | N29: 52 | O29: 155 | P29: 219 | Q29: 23 | R29: 91 | T29: 125 | U29: 146 | V29: 191 | W29: 62 | X29: 134 | Z29: 89 | AB29: 94 | AD29: 14 | AF29: 10
B30: 41° | AH30: 29 | AJ30: 22 | AL30: 38
B31: 42° | AH31: 24 | AJ31: 35 | AL31: 29
B32: 43° | AH32: 43 | AJ32: 22 | AL32: 14
B33: 44° | AH33: 36 | AJ33: 35 | AL33: 28
B34: 45° | AH34: 48 | AJ34: 29 | AL34: 17
B35: Acel | D35: 79 | F35: 52 | H35: 22 | J35: 24 | L35: 28 | N35: 24 | P35: 18 | R35: 19 | T35: 22 | V35: 20 | X35: 11 | Z35: 25 | AB35: 25 | AD35: 21 | AF35: 21 | AH35: 20 | AJ35: 17 | AL35: 22
B36: Total | C36: 10094 | D36: 17367 | E36: 10560 | F36: 17636 | G36: 11092 | H36: 18672 | I36: 10926 | J36: 18814 | K36: 11106 | L36: 18804 | M36: 13945 | N36: 20396 | O36: 12982 | P36: 20479 | Q36: 12789 | R36: 19924 | S36: 11451 | T36: 18275 | U36: 11455 | V36: 17998 | W36: 11371 | X36: 17313 | Y36: 11435 | Z36: 17540 | AA36: 11296 | AB36: 17450 | AC36: 11525 | AD36: 17037 | AE36: 11518 | AF36: 16533 | AG36: 11654 | AH36: 16304 | AI36: 11439 | AJ36: 16171 | AK36: 11318 | AL36: 16048

Sheet COMPARATIVO IE
C2: Tasa de Variación de Población que Ingresa al Nivel de Preescolar (0°) y Culmina en Nivel de Primaria (5°)
C3: IE | D3: 0° (2019) | E3: 5° (2024) | F3: 5° (2024) vs 0° (2019)
B4: 1 | C4: IE MUNICIPAL JORGE VILLAMIL CORDOVEZ | D4: 61 | E4: 38 | F4: =(E4-D4)/D4*100 -> -37.704918
B5: 2 | C5: IE MUNICIPAL WINNIPEG | D5: 160 | E5: 143 | F5: =(E5-D5)/D5*100 -> -10.625
B6: 3 | C6: IE MUNICIPAL VILLA FATIMA | D6: 57 | E6: 54 | F6: =(E6-D6)/D6*100 -> -5.2631579
B7: 4 | C7: IE MUNICIPAL PALMARITO | D7: 59 | E7: 57 | F7: =(E7-D7)/D7*100 -> -3.3898305
B8: 5 | C8: IE MUNICIPAL JOSE EUSTASIO RIVERA | D8: 284 | E8: 279 | F8: =(E8-D8)/D8*100 -> -1.7605634
B9: 6 | C9: IE MUNICIPAL GUACACALLO | D9: 72 | E9: 71 | F9: =(E9-D9)/D9*100 -> -1.3888889
B10: 7 | C10: IE MUNICIPAL MONTESSORI | D10: 292 | E10: 298 | F10: =(E10-D10)/D10*100 -> 2.0547945
B11: 8 | C11: IE MUNICIPAL NORMAL SUPERIOR | D11: 303 | E11: 334 | F11: =(E11-D11)/D11*100 -> 10.231023
B12: 9 | C12: IE MUNICIPAL NACIONAL | D12: 270 | E12: 302 | F12: =(E12-D12)/D12*100 -> 11.851852
B13: 10 | C13: IE MUNICIPAL CRIOLLO | D13: 128 | E13: 149 | F13: =(E13-D13)/D13*100 -> 16.40625
B14: 11 | C14: IE MUNICIPAL CHILLURCO | D14: 25 | E14: 30 | F14: =(E14-D14)/D14*100 -> 20
B15: 12 | C15: IE MUNICIPAL HUMBERTO MUÑOZ ORDOÑEZ | D15: 185 | E15: 229 | F15: =(E15-D15)/D15*100 -> 23.783784
... B19: 16 | C19: IE MUNICIPAL PACHAKUTI | D19: 6 | E19: 14 | F19: =(E19-D19)/D19*100 -> 133.33333
C20: Total general | D20: 2134 | E20: 2334 | F20: =(E20-D20)/D20*100 -> 9.3720712
B22: Este análisis contempla el estudio de la población que ingresó al sistema escolar en un periodo de tiempo y cuantos de estos terminaron el nivel educativo. La I.E Jorge Villamil Cordovez presenta una disminución de población lo que significa que de 61 niños que ingresaron en el año 2019 al grado de transición, 38 culminaron el grado quinto en la vigencia 2024. De acuerdo a la cifra general se puede deducir que en el nivel de primaria se logra retener y promocionar a la población escolar.
C28: Tasa de Variación de Población que Ingresa al Nivel de Secundaria (6°) y Culmina en Nivel de Media (11°)
C29: IE | D29: 6° (2019 | E29: 11° (2024) | F29: 11° (2024) vs 6° (2019)
B30: 1 | C30: IE MUNICIPAL JOSE EUSTASIO RIVERA | D30: 316 | E30: 76 | F30: =(E30-D30)/D30*100 -> -75.949367
B31: 2 | C31: IE MUNICIPAL LICEO SUR ANDINO | D31: 240 | E31: 61 | F31: =(E31-D31)/D31*100 -> -74.583333
B32: 3 | C32: IE MUNICIPAL JORGE VILLAMIL CORDOVEZ | D32: 54 | E32: 15 | F32: =(E32-D32)/D32*100 -> -72.222222
B33: 4 | C33: IE MUNICIPAL HUMBERTO MUÑOZ ORDOÑEZ | D33: 536 | E33: 166 | F33: =(E33-D33)/D33*100 -> -69.029851
B34: 5 | C34: IE MUNICIPAL CHILLURCO | D34: 50 | E34: 16 | F34: =(E34-D34)/D34*100 -> -68
B35: 6 | C35: IE MUNICIPAL NORMAL SUPERIOR | D35: 529 | E35: 173 | F35: =(E35-D35)/D35*100 -> -67.296786
B36: 7 | C36: IE MUNICIPAL NACIONAL | D36: 506 | E36: 173 | F36: =(E36-D36)/D36*100 -> -65.810277
B37: 8 | C37: IE MUNICIPAL PALMARITO | D37: 92 | E37: 34 | F37: =(E37-D37)/D37*100 -> -63.043478
B38: 9 | C38: IE MUNICIPAL LA LAGUNA | D38: 68 | E38: 27 | F38: =(E38-D38)/D38*100 -> -60.294118
B39: 10 | C39: IE MUNICIPAL PACHAKUTI | D39: 30 | E39: 12 | F39: =(E39-D39)/D39*100 -> -60
B40: 11 | C40: IE MUNICIPAL MONTESSORI | D40: 340 | E40: 151 | F40: =(E40-D40)/D40*100 -> -55.588235
B41: 12 | C41: IE MUNICIPAL VILLA FATIMA | D41: 40 | E41: 18 | F41: =(E41-D41)/D41*100 -> -55
... B45: 16 | C45: IE MUNICIPAL DOMINGO SAVIO | D45: 52 | E45: 28 | F45: =(E45-D45)/D45*100 -> -46.153846
C46: Total general | D46: 3228 | E46: 1140 | F46: =(E46-D46)/D46*100 -> -64.684015
B48: En el Municipio de Pitalito la situación es muy crítica en los niveles de secundaria y media. En el año 2018 ingresaron 3228 estudiantes al grado sexto y de estos solamente 1140 lograron culminar el nivel de media en la vigencia 2024 en la jornada regular, lo que significa que el 64,68 % se queda rezagado, deserta del sistema escolar, se traslada a otro lugar diferente a Pitalito o se vincula a modelos flexibles. De la zona rural la I.E José Eustasio Rivera presenta el nivel mas crítico mientras que en la zona urbana es el I.E Liceo Sur Andino

Sheet CHILLURCO
B1: SECRETARÍA DE EDUCACIÓN MUNICIPAL DE PITALITO
B2: AREA DE COBERTURA - SISTEMA INTEGRADO DE MATRICULAS
B3: MATRICULA OFICIAL I.E MUNICIPAL CHILLURCO POR GRADO NIVELES
C5: 2008 | D5: 2009 | E5: 2010 | F5: 2011 | G5: 2012 | H5: 2013 | I5: 2014 | J5: 2015 | K5: 2016 | L5: 2017 | M5: 2018 | N5: 2019 | O5: 2020 | P5: 2021 | Q5: 2022 | R5: 2023 | S5: 2024 | T5: 2025 | W5: 2008 | X5: 2009 | Y5: 2010 | Z5: 2011 | AA5: 2012 | AB5: 2013 | AC5: 2014 | AD5: 2015 | AE5: 2016 | AF5: 2017 | AG5: 2018 | AH5: 2019 | AI5: 2020 | AJ5: 2021 | AK5: 2022 | AL5: 2023 | AM5: 2024 | AN5: 2025
B6: Prej | V6: Preescolar | W6: =C8 -> 30 | X6: =D8 -> 35 | Y6: =E8 -> 48 | Z6: =F8 -> 47 | AA6: =G8 -> 39 | AB6: =H8 -> 40 | AC6: =I8 -> 30 | AD6: =J8 -> 25 | ... AN6: =T8 -> 25
B7: Jard | V7: Primaria | W7: =SUM(C9:C13,C34) -> 259 | X7: =SUM(D9:D13,D34) -> 273 | Y7: =SUM(E9:E13,E34) -> 271 | Z7: =SUM(F9:F13,F34) -> 261 | AA7: =SUM(G9:G13,G34) -> 239 | AB7: =SUM(H9:H13,H34) -> 222 | AC7: =SUM(I9:I13,I34) -> 225 | AD7: =SUM(J9:J13,J34) -> 225 | ... AN7: =SUM(T9:T13,T34) -> 161
B8: 0° | C8: 30 | D8: 35 | E8: 48 | F8: 47 | G8: 39 | H8: 40 | I8: 30 | J8: 25 | K8: 31 | L8: 27 | M8: 33 | N8: 25 | O8: 35 | P8: 14 | Q8: 31 | R8: 32 | S8: 30 | T8: 25 | V8: Secundaria | W8: =SUM(C14:C17) -> 77 | X8: =SUM(D14:D17) -> 98 | Y8: =SUM(E14:E17) -> 118 | Z8: =SUM(F14:F17) -> 123 | AA8: =SUM(G14:G17) -> 127 | AB8: =SUM(H14:H17) -> 152 | AC8: =SUM(I14:I17) -> 140 | AD8: =SUM(J14:J17) -> 153 | ... AN8: =SUM(T14:T17) -> 107
B9: 1º | C9: 58 | D9: 52 | E9: 46 | F9: 58 | G9: 51 | H9: 40 | I9: 48 | J9: 50 | K9: 35 | L9: 41 | M9: 34 | N9: 46 | O9: 36 | P9: 38 | Q9: 28 | R9: 40 | S9: 39 | T9: 29 | V9: Media | W9: =SUM(C18:C19) -> 0 | X9: =SUM(D18:D19) -> 0 | Y9: =SUM(E18:E19) -> 0 | Z9: =SUM(F18:F19) -> 14 | AA9: =SUM(G18:G19) -> 23 | AB9: =SUM(H18:H19) -> 26 | AC9: =SUM(I18:I19) -> 19 | AD9: =SUM(J18:J19) -> 35 | ... AN9: =SUM(T18:T19) -> 35
B10: 2º | C10: 58 | D10: 61 | E10: 47 | F10: 53 | G10: 46 | H10: 51 | I10: 40 | J10: 48 | K10: 37 | L10: 30 | M10: 41 | N10: 33 | O10: 37 | P10: 32 | Q10: 34 | R10: 25 | S10: 35 | T10: 38 | V10: Total (0 a 11) | W10: =SUM(C8:C19,C34) -> 366 | X10: =SUM(D8:D19,D34) -> 406 | Y10: =SUM(E8:E19,E34) -> 437 | Z10: =SUM(F8:F19,F34) -> 445 | AA10: =SUM(G8:G19,G34) -> 428 | AB10: =SUM(H8:H19,H34) -> 440 | AC10: =SUM(I8:I19,I34) -> 414 | AD10: =SUM(J8:J19,J34) -> 438 | ... AN10: =SUM(T8:T19,T34) -> 328
B11: 3º | C11: 59 | D11: 57 | E11: 65 | F11: 35 | G11: 51 | H11: 46 | I11: 51 | J11: 43 | K11: 45 | L11: 36 | M11: 36 | N11: 39 | O11: 33 | P11: 34 | Q11: 38 | R11: 32 | S11: 34 | T11: 29
B12: 4º | C12: 45 | D12: 63 | E12: 55 | F12: 60 | G12: 40 | H12: 48 | I12: 42 | J12: 37 | K12: 42 | L12: 40 | M12: 36 | N12: 31 | O12: 44 | P12: 33 | Q12: 36 | R12: 38 | S12: 34 | T12: 30 | V12: Matrícula por Nivel Educativo del Grado Cero a Once
B13: 5º | C13: 39 | D13: 40 | E13: 58 | F13: 55 | G13: 51 | H13: 37 | I13: 44 | J13: 47 | K13: 35 | L13: 43 | M13: 38 | N13: 39 | O13: 35 | P13: 44 | Q13: 31 | R13: 37 | S13: 30 | T13: 35
B14: 6º | C14: 27 | D14: 35 | E14: 37 | F14: 48 | G14: 53 | H14: 55 | I14: 39 | J14: 55 | K14: 44 | L14: 41 | M14: 51 | N14: 50 | O14: 48 | P14: 44 | Q14: 42 | R14: 29 | S14: 40 | T14: 36
B15: 7º | C15: 22 | D15: 29 | E15: 34 | F15: 34 | G15: 38 | H15: 49 | I15: 47 | J15: 21 | K15: 35 | L15: 36 | M15: 25 | N15: 31 | O15: 44 | P15: 42 | Q15: 26 | R15: 37 | S15: 31 | T15: 26 | W15: 2008 | X15: 2009 | Y15: 2010 | Z15: 2011 | AA15: 2012 | AB15: 2013 | AC15: 2014 | AD15: 2015 | AE15: 2016 | AF15: 2017 | AG15: 2018 | AH15: 2019 | AI15: 2020 | AJ15: 2021 | AK15: 2022 | AL15: 2023 | AM15: 2024 | AN15: 2025
B16: 8º | C16: 15 | D16: 21 | E16: 29 | F16: 22 | G16: 18 | H16: 32 | I16: 31 | J16: 47 | K16: 16 | L16: 35 | M16: 30 | N16: 20 | O16: 29 | P16: 35 | Q16: 28 | R16: 23 | S16: 26 | T16: 27 | V16: Preescolar | X16: =(X6-W6)/W6*100 -> 16.666667 | Y16: =(Y6-X6)/X6*100 -> 37.142857 | Z16: =(Z6-Y6)/Y6*100 -> -2.0833333 | AA16: =(AA6-Z6)/Z6*100 -> -17.021277 | AB16: =(AB6-AA6)/AA6*100 -> 2.5641026 | AC16: =(AC6-AB6)/AB6*100 -> -25 | AD16: =(AD6-AC6)/AC6*100 -> -16.666667 | AE16: =(AE6-AD6)/AD6*100 -> 24 | ... AN16: =(AN6-AM6)/AM6*100 -> -16.666667
B17: 9º | C17: 13 | D17: 13 | E17: 18 | F17: 19 | G17: 18 | H17: 16 | I17: 23 | J17: 30 | K17: 29 | L17: 12 | M17: 24 | N17: 25 | O17: 23 | P17: 27 | Q17: 18 | R17: 26 | S17: 14 | T17: 18 | V17: Primaria | X17: =(X7-W7)/W7*100 -> 5.4054054 | Y17: =(Y7-X7)/X7*100 -> -0.73260073 | Z17: =(Z7-Y7)/Y7*100 -> -3.6900369 | AA17: =(AA7-Z7)/Z7*100 -> -8.4291188 | AB17: =(AB7-AA7)/AA7*100 -> -7.1129707 | AC17: =(AC7-AB7)/AB7*100 -> 1.3513514 | AD17: =(AD7-AC7)/AC7*100 -> 0 | AE17: =(AE7-AD7)/AD7*100 -> -13.777778 | ... AN17: =(AN7-AM7)/AM7*100 -> -6.3953488
B18: 10º | F18: 14 | G18: 13 | H18: 14 | I18: 7 | J18: 26 | K18: 27 | L18: 22 | M18: 5 | N18: 24 | O18: 20 | P18: 18 | Q18: 20 | R18: 16 | S18: 26 | T18: 12 | V18: Secundaria | X18: =(X8-W8)/W8*100 -> 27.272727 | Y18: =(Y8-X8)/X8*100 -> 20.408163 | Z18: =(Z8-Y8)/Y8*100 -> 4.2372881 | AA18: =(AA8-Z8)/Z8*100 -> 3.2520325 | AB18: =(AB8-AA8)/AA8*100 -> 19.685039 | AC18: =(AC8-AB8)/AB8*100 -> -7.8947368 | AD18: =(AD8-AC8)/AC8*100 -> 9.2857143 | AE18: =(AE8-AD8)/AD8*100 -> -18.954248 | ... AN18: =(AN8-AM8)/AM8*100 -> -3.6036036
B19: 11º | G19: 10 | H19: 12 | I19: 12 | J19: 9 | K19: 19 | L19: 24 | M19: 19 | N19: 5 | O19: 21 | P19: 21 | Q19: 12 | R19: 15 | S19: 16 | T19: 23 | V19: Media | AA19: =(AA9-Z9)/Z9*100 -> 64.285714 | AB19: =(AB9-AA9)/AA9*100 -> 13.043478 | AC19: =(AC9-AB9)/AB9*100 -> -26.923077 | AD19: =(AD9-AC9)/AC9*100 -> 84.210526 | AE19: =(AE9-AD9)/AD9*100 -> 31.428571 | AF19: =(AF9-AE9)/AE9*100 -> 0 | AG19: =(AG9-AF9)/AF9*100 -> -47.826087 | AH19: =(AH9-AG9)/AG9*100 -> 20.833333 | ... AN19: =(AN9-AM9)/AM9*100 -> -16.666667
B20: 12° | V20: Total (0 a 11) | X20: =(X10-W10)/W10*100 -> 10.928962 | Y20: =(Y10-X10)/X10*100 -> 7.635468 | Z20: =(Z10-Y10)/Y10*100 -> 1.8306636 | AA20: =(AA10-Z10)/Z10*100 -> -3.8202247 | AB20: =(AB10-AA10)/AA10*100 -> 2.8037383 | AC20: =(AC10-AB10)/AB10*100 -> -5.9090909 | AD20: =(AD10-AC10)/AC10*100 -> 5.7971014 | AE20: =(AE10-AD10)/AD10*100 -> -9.8173516 | ... AN20: =(AN10-AM10)/AM10*100 -> -7.6056338
B21: 13°
B22: C0 | H22: 19 | V22: Tasa de aumento o disminución de la matrícula por nivel y año
B23: C1 | I23: 22 | J23: 21 | Q23: 18
B24: C2 | C24: 55
B25: C3 | H25: 34 | I25: 26 | J25: 7 | K25: 11 | L25: 19 | M25: 7 | N25: 4
B26: C4 | H26: 8 | I26: 35 | J26: 11 | K26: 8 | L26: 10 | M26: 10 | N26: 12
B27: C5 | H27: 7 | J27: 31 | K27: 8 | L27: 9 | M27: 16 | N27: 8
B28: C6 | I28: 5
B29: 41°
B30: 42°
B31: 43°
B32: 44°
B33: 45°
B34: Acel
B35: Total | C35: 421 | D35: 406 | E35: 437 | F35: 445 | G35: 428 | H35: 508 | I35: 502 | J35: 508 | K35: 422 | L35: 425 | M35: 405 | N35: 392 | O35: 405 | P35: 382 | Q35: 362 | R35: 350 | S35: 355 | T35: 328
B37: Promoción por año del grado cero a quinto y de sexto a once, análisis de cohortes (%)
C38: 2008 | D38: 2009 | E38: 2010 | F38: 2011 | G38: 2012 | H38: 2013 | I38: 2014 | J38: 2015 | K38: 2016 | L38: 2017 | M38: 2018 | N38: 2019 | O38: 2020 | P38: 2021 | Q38: 2022 | R38: 2023 | S38: 2024
B39: 0° | N39: 25
B40: 1º | O40: =(O9-N8)/N8*100 -> 44
B41: 2º | P41: =(P10-O9)/O9*100 -> -11.111111
B42: 3º | Q42: =(Q11-P10)/P10*100 -> 18.75
B43: 4º | R43: =(R12-Q11)/Q11*100 -> 0 | T43: 5° VS 0°
B44: 5º | S44: =(S13-R12)/R12*100 -> -21.052632 | T44: =(S13-N8)/N8*100 -> 20
B45: 6º | N45: 50
B46: 7º | O46: =(O15-N14)/N14*100 -> -12
B47: 8º | P47: =(P16-O15)/O15*100 -> -20.454545
B48: 9º | Q48: =(Q17-P16)/P16*100 -> -48.571429
B49: 10º | R49: =(R18-Q17)/Q17*100 -> -11.111111 | T49: 11° VS 6°
B50: 11º | S50: =(S19-R18)/R18*100 -> 0 | T50: =(S19-N14)/N14*100 -> -68

Sheet CRIOLLO
B1: SECRETARÍA DE EDUCACIÓN MUNICIPAL DE PITALITO
B2: AREA DE COBERTURA - SISTEMA INTEGRADO DE MATRICULAS
B3: MATRICULA OFICIAL I.E MUNICIPAL CRIOLLO POR GRADO Y NIVELES
C5: 2008 | D5: 2009 | E5: 2010 | F5: 2011 | G5: 2012 | H5: 2013 | I5: 2014 | J5: 2015 | K5: 2016 | L5: 2017 | M5: 2018 | N5: 2019 | O5: 2020 | P5: 2021 | Q5: 2022 | R5: 2023 | S5: 2024 | T5: 2025 | W5: 2008 | X5: 2009 | Y5: 2010 | Z5: 2011 | AA5: 2012 | AB5: 2013 | AC5: 2014 | AD5: 2015 | AE5: 2016 | AF5: 2017 | AG5: 2018 | AH5: 2019 | AI5: 2020 | AJ5: 2021 | AK5: 2022 | AL5: 2023 | AM5: 2024 | AN5: 2025
B6: Prej | V6: Preescolar | W6: =C8 -> 170 | X6: =D8 -> 127 | Y6: =E8 -> 115 | Z6: =F8 -> 118 | AA6: =G8 -> 116 | AB6: =H8 -> 115 | AC6: =I8 -> 99 | AD6: =J8 -> 100 | ... AN6: =T8 -> 110
B7: Jard | V7: Primaria | W7: =SUM(C9:C13,C34) -> 862 | X7: =SUM(D9:D13,D34) -> 840 | Y7: =SUM(E9:E13,E34) -> 821 | Z7: =SUM(F9:F13,F34) -> 789 | AA7: =SUM(G9:G13,G34) -> 776 | AB7: =SUM(H9:H13,H34) -> 820 | AC7: =SUM(I9:I13,I34) -> 783 | AD7: =SUM(J9:J13,J34) -> 741 | ... AN7: =SUM(T9:T13,T34) -> 717
B8: 0° | C8: 170 | D8: 127 | E8: 115 | F8: 118 | G8: 116 | H8: 115 | I8: 99 | J8: 100 | K8: 114 | L8: 120 | M8: 107 | N8: 128 | O8: 120 | P8: 116 | Q8: 121 | R8: 141 | S8: 120 | T8: 110 | V8: Secundaria | W8: =SUM(C14:C17) -> 255 | X8: =SUM(D14:D17) -> 323 | Y8: =SUM(E14:E17) -> 439 | Z8: =SUM(F14:F17) -> 393 | AA8: =SUM(G14:G17) -> 372 | AB8: =SUM(H14:H17) -> 417 | AC8: =SUM(I14:I17) -> 468 | AD8: =SUM(J14:J17) -> 445 | ... AN8: =SUM(T14:T17) -> 466
B9: 1º | C9: 213 | D9: 210 | E9: 164 | F9: 177 | G9: 150 | H9: 182 | I9: 183 | J9: 136 | K9: 130 | L9: 153 | M9: 139 | N9: 156 | O9: 159 | P9: 138 | Q9: 145 | R9: 150 | S9: 165 | T9: 152 | V9: Media | W9: =SUM(C18:C19) -> 0 | X9: =SUM(D18:D19) -> 0 | Y9: =SUM(E18:E19) -> 14 | Z9: =SUM(F18:F19) -> 73 | AA9: =SUM(G18:G19) -> 99 | AB9: =SUM(H18:H19) -> 92 | AC9: =SUM(I18:I19) -> 104 | AD9: =SUM(J18:J19) -> 108 | ... AN9: =SUM(T18:T19) -> 116
B10: 2º | C10: 184 | D10: 185 | E10: 196 | F10: 146 | G10: 160 | H10: 151 | I10: 148 | J10: 163 | K10: 129 | L10: 128 | M10: 156 | N10: 129 | O10: 131 | P10: 152 | Q10: 125 | R10: 149 | S10: 142 | T10: 155 | V10: Total (0 a 11) | W10: =SUM(C8:C19,C34) -> 1287 | X10: =SUM(D8:D19,D34) -> 1290 | Y10: =SUM(E8:E19,E34) -> 1389 | Z10: =SUM(F8:F19,F34) -> 1373 | AA10: =SUM(G8:G19,G34) -> 1363 | AB10: =SUM(H8:H19,H34) -> 1444 | AC10: =SUM(I8:I19,I34) -> 1454 | AD10: =SUM(J8:J19,J34) -> 1394 | ... AN10: =SUM(T8:T19,T34) -> 1409
B11: 3º | C11: 160 | D11: 155 | E11: 179 | F11: 174 | G11: 143 | H11: 174 | I11: 154 | J11: 134 | K11: 149 | L11: 143 | M11: 132 | N11: 165 | O11: 127 | P11: 129 | Q11: 130 | R11: 125 | S11: 143 | T11: 142
B12: 4º | C12: 152 | D12: 144 | E12: 152 | F12: 153 | G12: 177 | H12: 141 | I12: 165 | J12: 153 | K12: 131 | L12: 138 | M12: 131 | N12: 122 | O12: 154 | P12: 126 | Q12: 132 | R12: 143 | S12: 139 | T12: 131 | V12: Matrícula por Nivel Educativo del Grado Cero a Once
B13: 5º | C13: 153 | D13: 146 | E13: 130 | F13: 139 | G13: 146 | H13: 172 | I13: 133 | J13: 155 | K13: 149 | L13: 143 | M13: 140 | N13: 137 | O13: 105 | P13: 155 | Q13: 125 | R13: 140 | S13: 149 | T13: 137
B14: 6º | C14: 125 | D14: 124 | E14: 143 | F14: 117 | G14: 111 | H14: 132 | I14: 176 | J14: 135 | K14: 153 | L14: 158 | M14: 174 | N14: 157 | O14: 164 | P14: 128 | Q14: 151 | R14: 150 | S14: 165 | T14: 160
B15: 7º | C15: 98 | D15: 103 | E15: 121 | F15: 102 | G15: 99 | H15: 105 | I15: 116 | J15: 142 | K15: 109 | L15: 136 | M15: 121 | N15: 136 | O15: 138 | P15: 151 | Q15: 125 | R15: 144 | S15: 116 | T15: 113 | W15: 2008 | X15: 2009 | Y15: 2010 | Z15: 2011 | AA15: 2012 | AB15: 2013 | AC15: 2014 | AD15: 2015 | AE15: 2016 | AF15: 2017 | AG15: 2018 | AH15: 2019 | AI15: 2020 | AJ15: 2021 | AK15: 2022 | AL15: 2023 | AM15: 2024 | AN15: 2025
B16: 8º | C16: 22 | D16: 81 | E16: 106 | F16: 92 | G16: 97 | H16: 88 | I16: 101 | J16: 92 | K16: 115 | L16: 101 | M16: 118 | N16: 115 | O16: 107 | P16: 144 | Q16: 118 | R16: 114 | S16: 122 | T16: 85 | V16: Preescolar | X16: =(X6-W6)/W6*100 -> -25.294118 | Y16: =(Y6-X6)/X6*100 -> -9.4488189 | Z16: =(Z6-Y6)/Y6*100 -> 2.6086957 | AA16: =(AA6-Z6)/Z6*100 -> -1.6949153 | AB16: =(AB6-AA6)/AA6*100 -> -0.86206897 | AC16: =(AC6-AB6)/AB6*100 -> -13.913043 | AD16: =(AD6-AC6)/AC6*100 -> 1.010101 | AE16: =(AE6-AD6)/AD6*100 -> 14 | ... AN16: =(AN6-AM6)/AM6*100 -> -8.3333333
B17: 9º | C17: 10 | D17: 15 | E17: 69 | F17: 82 | G17: 65 | H17: 92 | I17: 75 | J17: 76 | K17: 75 | L17: 93 | M17: 79 | N17: 105 | O17: 75 | P17: 98 | Q17: 119 | R17: 89 | S17: 84 | T17: 108 | V17: Primaria | X17: =(X7-W7)/W7*100 -> -2.5522042 | Y17: =(Y7-X7)/X7*100 -> -2.2619048 | Z17: =(Z7-Y7)/Y7*100 -> -3.8976857 | AA17: =(AA7-Z7)/Z7*100 -> -1.6476553 | AB17: =(AB7-AA7)/AA7*100 -> 5.6701031 | AC17: =(AC7-AB7)/AB7*100 -> -4.5121951 | AD17: =(AD7-AC7)/AC7*100 -> -5.3639847 | AE17: =(AE7-AD7)/AD7*100 -> -7.1524966 | ... AN17: =(AN7-AM7)/AM7*100 -> -2.8455285
B18: 10º | E18: 14 | F18: 63 | G18: 52 | H18: 45 | I18: 72 | J18: 53 | K18: 73 | L18: 65 | M18: 94 | N18: 70 | O18: 99 | P18: 76 | Q18: 82 | R18: 95 | S18: 67 | T18: 57 | V18: Secundaria | X18: =(X8-W8)/W8*100 -> 26.666667 | Y18: =(Y8-X8)/X8*100 -> 35.913313 | Z18: =(Z8-Y8)/Y8*100 -> -10.47836 | AA18: =(AA8-Z8)/Z8*100 -> -5.3435115 | AB18: =(AB8-AA8)/AA8*100 -> 12.096774 | AC18: =(AC8-AB8)/AB8*100 -> 12.230216 | AD18: =(AD8-AC8)/AC8*100 -> -4.9145299 | AE18: =(AE8-AD8)/AD8*100 -> 1.5730337 | ... AN18: =(AN8-AM8)/AM8*100 -> -4.312115
B19: 11º | F19: 10 | G19: 47 | H19: 47 | I19: 32 | J19: 55 | K19: 45 | L19: 66 | M19: 46 | N19: 68 | O19: 57 | P19: 78 | Q19: 63 | R19: 62 | S19: 79 | T19: 59 | V19: Media | Z19: =(Z9-Y9)/Y9*100 -> 421.42857 | AA19: =(AA9-Z9)/Z9*100 -> 35.616438 | AB19: =(AB9-AA9)/AA9*100 -> -7.0707071 | AC19: =(AC9-AB9)/AB9*100 -> 13.043478 | AD19: =(AD9-AC9)/AC9*100 -> 3.8461538 | AE19: =(AE9-AD9)/AD9*100 -> 9.2592593 | AF19: =(AF9-AE9)/AE9*100 -> 11.016949 | AG19: =(AG9-AF9)/AF9*100 -> 6.870229 | ... AN19: =(AN9-AM9)/AM9*100 -> -20.547945
B20: 12° | V20: Total (0 a 11) | X20: =(X10-W10)/W10*100 -> 0.23310023 | Y20: =(Y10-X10)/X10*100 -> 7.6744186 | Z20: =(Z10-Y10)/Y10*100 -> -1.1519078 | AA20: =(AA10-Z10)/Z10*100 -> -0.72833212 | AB20: =(AB10-AA10)/AA10*100 -> 5.9427733 | AC20: =(AC10-AB10)/AB10*100 -> 0.69252078 | AD20: =(AD10-AC10)/AC10*100 -> -4.1265475 | AE20: =(AE10-AD10)/AD10*100 -> -1.5781923 | ... AN20: =(AN10-AM10)/AM10*100 -> -5.4996647
B21: 13°
B22: C0 | H22: 246 | V22: Tasa de aumento o disminución de la matrícula por nivel y año
B23: C1 | C23: 109 | D23: 45 | E23: 50 | F23: 22 | I23: 69 | J23: 73 | Q23: 25
B24: C2 | C24: 37 | E24: 20 | F24: 1 | G24: 5 | H24: 48 | I24: 16
B25: C3 | C25: 22 | F25: 47 | G25: 14 | H25: 43 | I25: 85 | J25: 77 | K25: 37 | L25: 35 | M25: 34 | N25: 35 | O25: 37 | P25: 25 | Q25: 22 | R25: 18 | S25: 16 | T25: 21
B26: C4 | F26: 16 | G26: 25 | H26: 35 | I26: 36 | J26: 47 | K26: 59 | L26: 46 | M26: 53 | N26: 35 | O26: 32 | P26: 43 | Q26: 38 | R26: 25 | S26: 29 | T26: 25
B27: C5 | F27: 6 | G27: 27 | H27: 37 | I27: 40 | J27: 43 | K27: 40 | L27: 36 | M27: 37 | N27: 29 | O27: 33 | P27: 42 | Q27: 28 | R27: 30 | S27: 33 | T27: 26
B28: C6 | L28: 14
B29: 41°
B30: 42°
B31: 43°
B32: 44°
B33: 45°
B34: Acel
B35: Total | C35: 1455 | D35: 1335 | E35: 1459 | F35: 1465 | G35: 1434 | H35: 1853 | I35: 1700 | J35: 1634 | K35: 1508 | L35: 1575 | M35: 1561 | N35: 1587 | O35: 1538 | P35: 1601 | Q35: 1549 | R35: 1575 | S35: 1569 | T35: 1481
B37: Promoción por año del grado cero a quinto y de sexto a once, análisis de cohortes (%)
C38: 2008 | D38: 2009 | E38: 2010 | F38: 2011 | G38: 2012 | H38: 2013 | I38: 2014 | J38: 2015 | K38: 2016 | L38: 2017 | M38: 2018 | N38: 2019 | O38: 2020 | P38: 2021 | Q38: 2022 | R38: 2023 | S38: 2024
B39: 0° | N39: 128
B40: 1º | O40: =(O9-N8)/N8*100 -> 24.21875
B41: 2º | P41: =(P10-O9)/O9*100 -> -4.4025157
B42: 3º | Q42: =(Q11-P10)/P10*100 -> -14.473684
B43: 4º | R43: =(R12-Q11)/Q11*100 -> 10 | T43: 5° VS 0°
B44: 5º | S44: =(S13-R12)/R12*100 -> 4.1958042 | T44: =(S13-N8)/N8*100 -> 16.40625
B45: 6º | N45: 157
B46: 7º | O46: =(O15-N14)/N14*100 -> -12.101911
B47: 8º | P47: =(P16-O15)/O15*100 -> 4.3478261
B48: 9º | Q48: =(Q17-P16)/P16*100 -> -17.361111
B49: 10º | R49: =(R18-Q17)/Q17*100 -> -20.168067 | T49: 11° VS 6°
B50: 11º | S50: =(S19-R18)/R18*100 -> -16.842105 | T50: =(S19-N14)/N14*100 -> -49.681529

Sheet DOMINGO SAVIO
B1: SECRETARÍA DE EDUCACIÓN MUNICIPAL DE PITALITO
B2: AREA DE COBERTURA - SISTEMA INTEGRADO DE MATRICULAS
B3: MATRICULA OFICIAL I.E MUNICIPAL DOMINGO SAVIO POR GRADO Y NIVELES
C5: 2008 | D5: 2009 | E5: 2010 | F5: 2011 | G5: 2012 | H5: 2013 | I5: 2014 | J5: 2015 | K5: 2016 | L5: 2017 | M5: 2018 | N5: 2019 | O5: 2020 | P5: 2021 | Q5: 2022 | R5: 2023 | S5: 2024 | T5: 2025 | W5: 2008 | X5: 2009 | Y5: 2010 | Z5: 2011 | AA5: 2012 | AB5: 2013 | AC5: 2014 | AD5: 2015 | AE5: 2016 | AF5: 2017 | AG5: 2018 | AH5: 2019 | AI5: 2020 | AJ5: 2021 | AK5: 2022 | AL5: 2023 | AM5: 2024 | AN5: 2025
B6: Prej | T6: 3 | V6: Preescolar | W6: =C8 -> 77 | X6: =D8 -> 72 | Y6: =E8 -> 70 | Z6: =F8 -> 82 | AA6: =G8 -> 60 | AB6: =H8 -> 68 | AC6: =I8 -> 44 | AD6: =J8 -> 48 | ... AN6: =T8 -> 56
B7: Jard | T7: 7 | V7: Primaria | W7: =SUM(C9:C13,C34) -> 434 | X7: =SUM(D9:D13,D34) -> 395 | Y7: =SUM(E9:E13,E34) -> 399 | Z7: =SUM(F9:F13,F34) -> 377 | AA7: =SUM(G9:G13,G34) -> 397 | AB7: =SUM(H9:H13,H34) -> 399 | AC7: =SUM(I9:I13,I34) -> 360 | AD7: =SUM(J9:J13,J34) -> 357 | ... AN7: =SUM(T9:T13,T34) -> 339
B8: 0° | C8: 77 | D8: 72 | E8: 70 | F8: 82 | G8: 60 | H8: 68 | I8: 44 | J8: 48 | K8: 72 | L8: 75 | M8: 64 | N8: 54 | O8: 36 | P8: 60 | Q8: 56 | R8: 58 | S8: 69 | T8: 56 | V8: Secundaria | W8: =SUM(C14:C17) -> 100 | X8: =SUM(D14:D17) -> 117 | Y8: =SUM(E14:E17) -> 120 | Z8: =SUM(F14:F17) -> 140 | AA8: =SUM(G14:G17) -> 126 | AB8: =SUM(H14:H17) -> 138 | AC8: =SUM(I14:I17) -> 163 | AD8: =SUM(J14:J17) -> 174 | ... AN8: =SUM(T14:T17) -> 179
B9: 1º | C9: 98 | D9: 87 | E9: 79 | F9: 63 | G9: 96 | H9: 94 | I9: 91 | J9: 64 | K9: 73 | L9: 79 | M9: 92 | N9: 75 | O9: 68 | P9: 49 | Q9: 84 | R9: 74 | S9: 68 | T9: 79 | V9: Media | W9: =SUM(C18:C19) -> 0 | X9: =SUM(D18:D19) -> 0 | Y9: =SUM(E18:E19) -> 0 | Z9: =SUM(F18:F19) -> 0 | AA9: =SUM(G18:G19) -> 15 | AB9: =SUM(H18:H19) -> 31 | AC9: =SUM(I18:I19) -> 35 | AD9: =SUM(J18:J19) -> 37 | ... AN9: =SUM(T18:T19) -> 63
B10: 2º | C10: 86 | D10: 85 | E10: 92 | F10: 75 | G10: 67 | H10: 89 | I10: 74 | J10: 87 | K10: 56 | L10: 70 | M10: 74 | N10: 89 | O10: 75 | P10: 65 | Q10: 54 | R10: 88 | S10: 67 | T10: 56 | V10: Total (0 a 11) | W10: =SUM(C8:C19,C34) -> 611 | X10: =SUM(D8:D19,D34) -> 584 | Y10: =SUM(E8:E19,E34) -> 589 | Z10: =SUM(F8:F19,F34) -> 599 | AA10: =SUM(G8:G19,G34) -> 598 | AB10: =SUM(H8:H19,H34) -> 636 | AC10: =SUM(I8:I19,I34) -> 602 | AD10: =SUM(J8:J19,J34) -> 616 | ... AN10: =SUM(T8:T19,T34) -> 637
B11: 3º | C11: 91 | D11: 84 | E11: 84 | F11: 87 | G11: 74 | H11: 61 | I11: 71 | J11: 81 | K11: 92 | L11: 54 | M11: 62 | N11: 88 | O11: 67 | P11: 77 | Q11: 66 | R11: 68 | S11: 85 | T11: 73
B12: 4º | C12: 74 | D12: 74 | E12: 76 | F12: 87 | G12: 84 | H12: 76 | I12: 62 | J12: 62 | K12: 74 | L12: 83 | M12: 53 | N12: 48 | O12: 73 | P12: 63 | Q12: 77 | R12: 79 | S12: 53 | T12: 80 | V12: Matrícula por Nivel Educativo del Grado Cero a Once
B13: 5º | C13: 85 | D13: 65 | E13: 68 | F13: 65 | G13: 76 | H13: 79 | I13: 62 | J13: 63 | K13: 60 | L13: 69 | M13: 78 | N13: 55 | O13: 48 | P13: 72 | Q13: 66 | R13: 75 | S13: 72 | T13: 51
B14: 6º | C14: 36 | D14: 46 | E14: 35 | F14: 54 | G14: 43 | H14: 57 | I14: 66 | J14: 62 | K14: 70 | L14: 58 | M14: 44 | N14: 52 | O14: 44 | P14: 46 | Q14: 59 | R14: 53 | S14: 58 | T14: 58
B15: 7º | C15: 26 | D15: 31 | E15: 44 | F15: 30 | G15: 30 | H15: 34 | I15: 40 | J15: 56 | K15: 41 | L15: 40 | M15: 51 | N15: 39 | O15: 43 | P15: 45 | Q15: 43 | R15: 45 | S15: 46 | T15: 44 | W15: 2008 | X15: 2009 | Y15: 2010 | Z15: 2011 | AA15: 2012 | AB15: 2013 | AC15: 2014 | AD15: 2015 | AE15: 2016 | AF15: 2017 | AG15: 2018 | AH15: 2019 | AI15: 2020 | AJ15: 2021 | AK15: 2022 | AL15: 2023 | AM15: 2024 | AN15: 2025
B16: 8º | C16: 25 | D16: 20 | E16: 24 | F16: 37 | G16: 31 | H16: 28 | I16: 32 | J16: 32 | K16: 38 | L16: 31 | M16: 36 | N16: 48 | O16: 39 | P16: 39 | Q16: 35 | R16: 34 | S16: 37 | T16: 42 | V16: Preescolar | X16: =(X6-W6)/W6*100 -> -6.4935065 | Y16: =(Y6-X6)/X6*100 -> -2.7777778 | Z16: =(Z6-Y6)/Y6*100 -> 17.142857 | AA16: =(AA6-Z6)/Z6*100 -> -26.829268 | AB16: =(AB6-AA6)/AA6*100 -> 13.333333 | AC16: =(AC6-AB6)/AB6*100 -> -35.294118 | AD16: =(AD6-AC6)/AC6*100 -> 9.0909091 | AE16: =(AE6-AD6)/AD6*100 -> 50 | ... AN16: =(AN6-AM6)/AM6*100 -> -18.84058
B17: 9º | C17: 13 | D17: 20 | E17: 17 | F17: 19 | G17: 22 | H17: 19 | I17: 25 | J17: 24 | K17: 19 | L17: 32 | M17: 25 | N17: 35 | O17: 38 | P17: 27 | Q17: 33 | R17: 38 | S17: 31 | T17: 35 | V17: Primaria | X17: =(X7-W7)/W7*100 -> -8.9861751 | Y17: =(Y7-X7)/X7*100 -> 1.0126582 | Z17: =(Z7-Y7)/Y7*100 -> -5.5137845 | AA17: =(AA7-Z7)/Z7*100 -> 5.3050398 | AB17: =(AB7-AA7)/AA7*100 -> 0.50377834 | AC17: =(AC7-AB7)/AB7*100 -> -9.7744361 | AD17: =(AD7-AC7)/AC7*100 -> -0.83333333 | AE17: =(AE7-AD7)/AD7*100 -> -0.56022409 | ... AN17: =(AN7-AM7)/AM7*100 -> -1.7391304
B18: 10º | G18: 15 | H18: 17 | I18: 19 | J18: 20 | K18: 20 | L18: 14 | M18: 24 | N18: 32 | O18: 30 | P18: 35 | Q18: 22 | R18: 34 | S18: 36 | T18: 31 | V18: Secundaria | X18: =(X8-W8)/W8*100 -> 17 | Y18: =(Y8-X8)/X8*100 -> 2.5641026 | Z18: =(Z8-Y8)/Y8*100 -> 16.666667 | AA18: =(AA8-Z8)/Z8*100 -> -10 | AB18: =(AB8-AA8)/AA8*100 -> 9.5238095 | AC18: =(AC8-AB8)/AB8*100 -> 18.115942 | AD18: =(AD8-AC8)/AC8*100 -> 6.7484663 | AE18: =(AE8-AD8)/AD8*100 -> -3.4482759 | ... AN18: =(AN8-AM8)/AM8*100 -> 4.0697674
B19: 11º | H19: 14 | I19: 16 | J19: 17 | K19: 16 | L19: 17 | M19: 9 | N19: 22 | O19: 25 | P19: 23 | Q19: 26 | R19: 18 | S19: 28 | T19: 32 | V19: Media | AB19: =(AB9-AA9)/AA9*100 -> 106.66667 | AC19: =(AC9-AB9)/AB9*100 -> 12.903226 | AD19: =(AD9-AC9)/AC9*100 -> 5.7142857 | AE19: =(AE9-AD9)/AD9*100 -> -2.7027027 | AF19: =(AF9-AE9)/AE9*100 -> -13.888889 | AG19: =(AG9-AF9)/AF9*100 -> 6.4516129 | AH19: =(AH9-AG9)/AG9*100 -> 63.636364 | AI19: =(AI9-AH9)/AH9*100 -> 1.8518519 | ... AN19: =(AN9-AM9)/AM9*100 -> -1.5625
B20: 12° | V20: Total (0 a 11) | X20: =(X10-W10)/W10*100 -> -4.4189853 | Y20: =(Y10-X10)/X10*100 -> 0.85616438 | Z20: =(Z10-Y10)/Y10*100 -> 1.6977929 | AA20: =(AA10-Z10)/Z10*100 -> -0.16694491 | AB20: =(AB10-AA10)/AA10*100 -> 6.3545151 | AC20: =(AC10-AB10)/AB10*100 -> -5.3459119 | AD20: =(AD10-AC10)/AC10*100 -> 2.3255814 | AE20: =(AE10-AD10)/AD10*100 -> 2.4350649 | ... AN20: =(AN10-AM10)/AM10*100 -> -2
B21: 13°
B22: C0 | H22: 70 | V22: Tasa de aumento o disminución de la matrícula por nivel y año
B23: C1 | I23: 18 | J23: 23
B24: C2 | H24: 43 | I24: 12
B25: C3
B26: C4
B27: C5
B28: C6
B29: 41°
B30: 42°
B31: 43°
B32: 44°
B33: 45°
B34: Acel
B35: Total | C35: 611 | D35: 584 | E35: 589 | F35: 599 | G35: 598 | H35: 749 | I35: 632 | J35: 639 | K35: 631 | L35: 622 | M35: 612 | N35: 637 | O35: 586 | P35: 601 | Q35: 621 | R35: 664 | S35: 650 | T35: 647
B37: Promoción por año del grado cero a quinto y de sexto a once, análisis de cohortes (%)
C38: 2008 | D38: 2009 | E38: 2010 | F38: 2011 | G38: 2012 | H38: 2013 | I38: 2014 | J38: 2015 | K38: 2016 | L38: 2017 | M38: 2018 | N38: 2019 | O38: 2020 | P38: 2021 | Q38: 2022 | R38: 2023 | S38: 2024
B39: 0° | N39: 54
B40: 1º | O40: =(O9-N8)/N8*100 -> 25.925926
B41: 2º | P41: =(P10-O9)/O9*100 -> -4.4117647
B42: 3º | Q42: =(Q11-P10)/P10*100 -> 1.5384615
B43: 4º | R43: =(R12-Q11)/Q11*100 -> 19.69697 | T43: 5° VS 0°
B44: 5º | S44: =(S13-R12)/R12*100 -> -8.8607595 | T44: =(S13-N8)/N8*100 -> 33.333333
B45: 6º | N45: 52
B46: 7º | O46: =(O15-N14)/N14*100 -> -17.307692
B47: 8º | P47: =(P16-O15)/O15*100 -> -9.3023256
B48: 9º | Q48: =(Q17-P16)/P16*100 -> -15.384615
B49: 10º | R49: =(R18-Q17)/Q17*100 -> 3.030303 | T49: 11° VS 6°
B50: 11º | S50: =(S19-R18)/R18*100 -> -17.647059 | T50: =(S19-N14)/N14*100 -> -46.153846

Sheet GUACACALLO
B1: SECRETARÍA DE EDUCACIÓN MUNICIPAL DE PITALITO
B2: AREA DE COBERTURA - SISTEMA INTEGRADO DE MATRICULAS
B3: MATRICULA OFICIAL I.E MUNICIPAL GUACACALLO POR GRADO Y NIVELES
C5: 2008 | D5: 2009 | E5: 2010 | F5: 2011 | G5: 2012 | H5: 2013 | I5: 2014 | J5: 2015 | K5: 2016 | L5: 2017 | M5: 2018 | N5: 2019 | O5: 2020 | P5: 2021 | Q5: 2022 | R5: 2023 | S5: 2024 | T5: 2025 | W5: 2008 | X5: 2009 | Y5: 2010 | Z5: 2011 | AA5: 2012 | AB5: 2013 | AC5: 2014 | AD5: 2015 | AE5: 2016 | AF5: 2017 | AG5: 2018 | AH5: 2019 | AI5: 2020 | AJ5: 2021 | AK5: 2022 | AL5: 2023 | AM5: 2024 | AN5: 2025
B6: Prej | V6: Preescolar | W6: =C8 -> 51 | X6: =D8 -> 63 | Y6: =E8 -> 65 | Z6: =F8 -> 44 | AA6: =G8 -> 50 | AB6: =H8 -> 72 | AC6: =I8 -> 66 | AD6: =J8 -> 65 | ... AN6: =T8 -> 76
B7: Jard | T7: 13 | V7: Primaria | W7: =SUM(C9:C13,C34) -> 393 | X7: =SUM(D9:D13,D34) -> 380 | Y7: =SUM(E9:E13,E34) -> 385 | Z7: =SUM(F9:F13,F34) -> 389 | AA7: =SUM(G9:G13,G34) -> 397 | AB7: =SUM(H9:H13,H34) -> 417 | AC7: =SUM(I9:I13,I34) -> 403 | AD7: =SUM(J9:J13,J34) -> 376 | ... AN7: =SUM(T9:T13,T34) -> 433
B8: 0° | C8: 51 | D8: 63 | E8: 65 | F8: 44 | G8: 50 | H8: 72 | I8: 66 | J8: 65 | K8: 60 | L8: 72 | M8: 83 | N8: 72 | O8: 65 | P8: 75 | Q8: 74 | R8: 80 | S8: 77 | T8: 76 | V8: Secundaria | W8: =SUM(C14:C17) -> 177 | X8: =SUM(D14:D17) -> 197 | Y8: =SUM(E14:E17) -> 221 | Z8: =SUM(F14:F17) -> 228 | AA8: =SUM(G14:G17) -> 242 | AB8: =SUM(H14:H17) -> 259 | AC8: =SUM(I14:I17) -> 266 | AD8: =SUM(J14:J17) -> 295 | ... AN8: =SUM(T14:T17) -> 257
B9: 1º | C9: 77 | D9: 85 | E9: 78 | F9: 89 | G9: 72 | H9: 100 | I9: 89 | J9: 87 | K9: 92 | L9: 86 | M9: 85 | N9: 105 | O9: 89 | P9: 97 | Q9: 97 | R9: 88 | S9: 97 | T9: 99 | V9: Media | W9: =SUM(C18:C19) -> 37 | X9: =SUM(D18:D19) -> 39 | Y9: =SUM(E18:E19) -> 46 | Z9: =SUM(F18:F19) -> 48 | AA9: =SUM(G18:G19) -> 48 | AB9: =SUM(H18:H19) -> 57 | AC9: =SUM(I18:I19) -> 62 | AD9: =SUM(J18:J19) -> 69 | ... AN9: =SUM(T18:T19) -> 85
B10: 2º | C10: 89 | D10: 77 | E10: 85 | F10: 70 | G10: 87 | H10: 67 | I10: 81 | J10: 74 | K10: 75 | L10: 78 | M10: 80 | N10: 80 | O10: 99 | P10: 75 | Q10: 93 | R10: 89 | S10: 77 | T10: 87 | V10: Total (0 a 11) | W10: =SUM(C8:C19,C34) -> 658 | X10: =SUM(D8:D19,D34) -> 679 | Y10: =SUM(E8:E19,E34) -> 717 | Z10: =SUM(F8:F19,F34) -> 709 | AA10: =SUM(G8:G19,G34) -> 737 | AB10: =SUM(H8:H19,H34) -> 805 | AC10: =SUM(I8:I19,I34) -> 797 | AD10: =SUM(J8:J19,J34) -> 805 | ... AN10: =SUM(T8:T19,T34) -> 851
B11: 3º | C11: 62 | D11: 86 | E11: 73 | F11: 84 | G11: 80 | H11: 87 | I11: 58 | J11: 75 | K11: 81 | L11: 75 | M11: 71 | N11: 68 | O11: 80 | P11: 98 | Q11: 67 | R11: 84 | S11: 84 | T11: 85
B12: 4º | C12: 80 | D12: 59 | E12: 85 | F12: 69 | G12: 81 | H12: 87 | I12: 85 | J12: 56 | K12: 80 | L12: 69 | M12: 72 | N12: 68 | O12: 71 | P12: 91 | Q12: 97 | R12: 73 | S12: 88 | T12: 76 | V12: Matrícula por Nivel Educativo del Grado Cero a Once
B13: 5º | C13: 85 | D13: 73 | E13: 64 | F13: 77 | G13: 77 | H13: 76 | I13: 90 | J13: 84 | K13: 66 | L13: 76 | M13: 73 | N13: 70 | O13: 76 | P13: 74 | Q13: 84 | R13: 89 | S13: 71 | T13: 86
B14: 6º | C14: 71 | D14: 75 | E14: 70 | F14: 65 | G14: 77 | H14: 84 | I14: 103 | J14: 112 | K14: 100 | L14: 76 | M14: 71 | N14: 83 | O14: 77 | P14: 77 | Q14: 83 | R14: 89 | S14: 90 | T14: 79
B15: 7º | C15: 41 | D15: 59 | E15: 71 | F15: 69 | G15: 63 | H15: 76 | I15: 69 | J15: 72 | K15: 101 | L15: 90 | M15: 59 | N15: 75 | O15: 76 | P15: 85 | Q15: 75 | R15: 59 | S15: 74 | T15: 66 | W15: 2008 | X15: 2009 | Y15: 2010 | Z15: 2011 | AA15: 2012 | AB15: 2013 | AC15: 2014 | AD15: 2015 | AE15: 2016 | AF15: 2017 | AG15: 2018 | AH15: 2019 | AI15: 2020 | AJ15: 2021 | AK15: 2022 | AL15: 2023 | AM15: 2024 | AN15: 2025
B16: 8º | C16: 41 | D16: 33 | E16: 54 | F16: 49 | G16: 62 | H16: 41 | I16: 56 | J16: 56 | K16: 60 | L16: 61 | M16: 61 | N16: 53 | O16: 63 | P16: 74 | Q16: 66 | R16: 62 | S16: 56 | T16: 66 | V16: Preescolar | X16: =(X6-W6)/W6*100 -> 23.529412 | Y16: =(Y6-X6)/X6*100 -> 3.1746032 | Z16: =(Z6-Y6)/Y6*100 -> -32.307692 | AA16: =(AA6-Z6)/Z6*100 -> 13.636364 | AB16: =(AB6-AA6)/AA6*100 -> 44 | AC16: =(AC6-AB6)/AB6*100 -> -8.3333333 | AD16: =(AD6-AC6)/AC6*100 -> -1.5151515 | AE16: =(AE6-AD6)/AD6*100 -> -7.6923077 | ... AN16: =(AN6-AM6)/AM6*100 -> -1.2987013
B17: 9º | C17: 24 | D17: 30 | E17: 26 | F17: 45 | G17: 40 | H17: 58 | I17: 38 | J17: 55 | K17: 35 | L17: 47 | M17: 66 | N17: 53 | O17: 44 | P17: 54 | Q17: 52 | R17: 59 | S17: 50 | T17: 46 | V17: Primaria | X17: =(X7-W7)/W7*100 -> -3.307888 | Y17: =(Y7-X7)/X7*100 -> 1.3157895 | Z17: =(Z7-Y7)/Y7*100 -> 1.038961 | AA17: =(AA7-Z7)/Z7*100 -> 2.0565553 | AB17: =(AB7-AA7)/AA7*100 -> 5.0377834 | AC17: =(AC7-AB7)/AB7*100 -> -3.3573141 | AD17: =(AD7-AC7)/AC7*100 -> -6.6997519 | AE17: =(AE7-AD7)/AD7*100 -> 4.787234 | ... AN17: =(AN7-AM7)/AM7*100 -> 3.8369305
B18: 10º | C18: 25 | D18: 18 | E18: 29 | F18: 22 | G18: 31 | H18: 30 | I18: 38 | J18: 42 | K18: 47 | L18: 33 | M18: 45 | N18: 70 | O18: 47 | P18: 34 | Q18: 46 | R18: 50 | S18: 42 | T18: 50 | V18: Secundaria | X18: =(X8-W8)/W8*100 -> 11.299435 | Y18: =(Y8-X8)/X8*100 -> 12.182741 | Z18: =(Z8-Y8)/Y8*100 -> 3.1674208 | AA18: =(AA8-Z8)/Z8*100 -> 6.1403509 | AB18: =(AB8-AA8)/AA8*100 -> 7.0247934 | AC18: =(AC8-AB8)/AB8*100 -> 2.7027027 | AD18: =(AD8-AC8)/AC8*100 -> 10.902256 | AE18: =(AE8-AD8)/AD8*100 -> 0.33898305 | ... AN18: =(AN8-AM8)/AM8*100 -> -4.8148148
B19: 11º | C19: 12 | D19: 21 | E19: 17 | F19: 26 | G19: 17 | H19: 27 | I19: 24 | J19: 27 | K19: 29 | L19: 37 | M19: 24 | N19: 39 | O19: 57 | P19: 46 | Q19: 27 | R19: 40 | S19: 42 | T19: 35 | V19: Media | X19: =(X9-W9)/W9*100 -> 5.4054054 | Y19: =(Y9-X9)/X9*100 -> 17.948718 | Z19: =(Z9-Y9)/Y9*100 -> 4.3478261 | AA19: =(AA9-Z9)/Z9*100 -> 0 | AB19: =(AB9-AA9)/AA9*100 -> 18.75 | AC19: =(AC9-AB9)/AB9*100 -> 8.7719298 | AD19: =(AD9-AC9)/AC9*100 -> 11.290323 | AE19: =(AE9-AD9)/AD9*100 -> 10.144928 | ... AN19: =(AN9-AM9)/AM9*100 -> 1.1904762
B20: 12° | V20: Total (0 a 11) | X20: =(X10-W10)/W10*100 -> 3.1914894 | Y20: =(Y10-X10)/X10*100 -> 5.5964654 | Z20: =(Z10-Y10)/Y10*100 -> -1.1157601 | AA20: =(AA10-Z10)/Z10*100 -> 3.9492243 | AB20: =(AB10-AA10)/AA10*100 -> 9.2265943 | AC20: =(AC10-AB10)/AB10*100 -> -0.99378882 | AD20: =(AD10-AC10)/AC10*100 -> 1.0037641 | AE20: =(AE10-AD10)/AD10*100 -> 2.6086957 | ... AN20: =(AN10-AM10)/AM10*100 -> 0.35377358
B21: 13°
B22: C0 | H22: 62 | V22: Tasa de aumento o disminución de la matrícula por nivel y año
B23: C1 | D23: 13 | E23: 16 | F23: 50 | I23: 53 | J23: 64
B24: C2 | C24: 12 | D24: 121 | E24: 123 | F24: 20 | G24: 48 | H24: 105 | I24: 25
B25: C3 | D25: 36 | E25: 49 | F25: 35 | G25: 23 | H25: 21 | I25: 99 | J25: 75 | K25: 27 | L25: 30 | M25: 42 | N25: 48 | O25: 41 | P25: 38 | Q25: 44 | R25: 31 | S25: 28 | T25: 29
B26: C4 | F26: 26 | G26: 23 | H26: 22 | I26: 24 | J26: 35 | K26: 59 | L26: 29 | M26: 37 | N26: 44 | O26: 53 | P26: 45 | Q26: 39 | R26: 32 | S26: 30 | T26: 27
B27: C5 | G27: 20 | H27: 21 | J27: 34 | K27: 34 | L27: 62 | M27: 47 | N27: 47 | O27: 59 | P27: 42 | Q27: 46 | R27: 47 | S27: 34 | T27: 24
B28: C6 | I28: 36
B29: 41°
B30: 42°
B31: 43°
B32: 44°
B33: 45°
B34: Acel
B35: Total | C35: 670 | D35: 849 | E35: 905 | F35: 840 | G35: 851 | H35: 1036 | I35: 1034 | J35: 1013 | K35: 946 | L35: 921 | M35: 916 | N35: 975 | O35: 997 | P35: 1005 | Q35: 990 | R35: 972 | S35: 940 | T35: 944
B37: Promoción por año del grado cero a quinto y de sexto a once, análisis de cohortes (%)
C38: 2008 | D38: 2009 | E38: 2010 | F38: 2011 | G38: 2012 | H38: 2013 | I38: 2014 | J38: 2015 | K38: 2016 | L38: 2017 | M38: 2018 | N38: 2019 | O38: 2020 | P38: 2021 | Q38: 2022 | R38: 2023 | S38: 2024
B39: 0° | N39: 72
B40: 1º | O40: =(O9-N8)/N8*100 -> 23.611111
B41: 2º | P41: =(P10-O9)/O9*100 -> -15.730337
B42: 3º | Q42: =(Q11-P10)/P10*100 -> -10.666667
B43: 4º | R43: =(R12-Q11)/Q11*100 -> 8.9552239 | T43: 5° VS 0°
B44: 5º | S44: =(S13-R12)/R12*100 -> -2.739726 | T44: =(S13-N8)/N8*100 -> -1.3888889
B45: 6º | N45: 83
B46: 7º | O46: =(O15-N14)/N14*100 -> -8.4337349
B47: 8º | P47: =(P16-O15)/O15*100 -> -2.6315789
B48: 9º | Q48: =(Q17-P16)/P16*100 -> -29.72973
B49: 10º | R49: =(R18-Q17)/Q17*100 -> -3.8461538 | T49: 11° VS 6°
B50: 11º | S50: =(S19-R18)/R18*100 -> -16 | T50: =(S19-N14)/N14*100 -> -49.39759

Sheet HUMBERTO M ORDOÑEZ
B1: SECRETARÍA DE EDUCACIÓN MUNICIPAL DE PITALITO
B2: AREA DE COBERTURA - SISTEMA INTEGRADO DE MATRICULAS
B3: MATRICULA OFICIAL I.E MUNICIPAL HUMBERTO MUÑOZ ORDOÑEZ POR GRADO Y NIVELES
C5: 2008 | D5: 2009 | E5: 2010 | F5: 2011 | G5: 2012 | H5: 2013 | I5: 2014 | J5: 2015 | K5: 2016 | L5: 2017 | M5: 2018 | N5: 2019 | O5: 2020 | P5: 2021 | Q5: 2022 | R5: 2023 | S5: 2024 | T5: 2025 | W5: 2008 | X5: 2009 | Y5: 2010 | Z5: 2011 | AA5: 2012 | AB5: 2013 | AC5: 2014 | AD5: 2015 | AE5: 2016 | AF5: 2017 | AG5: 2018 | AH5: 2019 | AI5: 2020 | AJ5: 2021 | AK5: 2022 | AL5: 2023 | AM5: 2024 | AN5: 2025
B6: Prej | V6: Preescolar | W6: =C8 -> 162 | X6: =D8 -> 146 | Y6: =E8 -> 154 | Z6: =F8 -> 217 | AA6: =G8 -> 219 | AB6: =H8 -> 201 | AC6: =I8 -> 201 | AD6: =J8 -> 175 | ... AN6: =T8 -> 151
B7: Jard | T7: 9 | V7: Primaria | W7: =SUM(C9:C13,C34) -> 1130 | X7: =SUM(D9:D13,D34) -> 1127 | Y7: =SUM(E9:E13,E34) -> 1158 | Z7: =SUM(F9:F13,F34) -> 1126 | AA7: =SUM(G9:G13,G34) -> 1137 | AB7: =SUM(H9:H13,H34) -> 1253 | AC7: =SUM(I9:I13,I34) -> 1211 | AD7: =SUM(J9:J13,J34) -> 1242 | ... AN7: =SUM(T9:T13,T34) -> 1139
B8: 0° | C8: 162 | D8: 146 | E8: 154 | F8: 217 | G8: 219 | H8: 201 | I8: 201 | J8: 175 | K8: 157 | L8: 204 | M8: 185 | N8: 185 | O8: 187 | P8: 169 | Q8: 210 | R8: 160 | S8: 164 | T8: 151 | V8: Secundaria | W8: =SUM(C14:C17) -> 1593 | X8: =SUM(D14:D17) -> 1554 | Y8: =SUM(E14:E17) -> 1632 | Z8: =SUM(F14:F17) -> 1620 | AA8: =SUM(G14:G17) -> 1658 | AB8: =SUM(H14:H17) -> 1619 | AC8: =SUM(I14:I17) -> 1538 | AD8: =SUM(J14:J17) -> 1580 | ... AN8: =SUM(T14:T17) -> 932
B9: 1º | C9: 220 | D9: 238 | E9: 209 | F9: 199 | G9: 290 | H9: 318 | I9: 280 | J9: 249 | K9: 230 | L9: 213 | M9: 239 | N9: 264 | O9: 269 | P9: 266 | Q9: 266 | R9: 266 | S9: 221 | T9: 225 | V9: Media | W9: =SUM(C18:C19) -> 716 | X9: =SUM(D18:D19) -> 588 | Y9: =SUM(E18:E19) -> 633 | Z9: =SUM(F18:F19) -> 725 | AA9: =SUM(G18:G19) -> 691 | AB9: =SUM(H18:H19) -> 625 | AC9: =SUM(I18:I19) -> 599 | AD9: =SUM(J18:J19) -> 607 | ... AN9: =SUM(T18:T19) -> 326
B10: 2º | C10: 209 | D10: 204 | E10: 233 | F10: 200 | G10: 178 | H10: 280 | I10: 267 | J10: 265 | K10: 224 | L10: 218 | M10: 185 | N10: 230 | O10: 243 | P10: 245 | Q10: 217 | R10: 236 | S10: 245 | T10: 207 | V10: Total (0 a 11) | W10: =SUM(C8:C19,C34) -> 3601 | X10: =SUM(D8:D19,D34) -> 3415 | Y10: =SUM(E8:E19,E34) -> 3577 | Z10: =SUM(F8:F19,F34) -> 3688 | AA10: =SUM(G8:G19,G34) -> 3705 | AB10: =SUM(H8:H19,H34) -> 3698 | AC10: =SUM(I8:I19,I34) -> 3549 | AD10: =SUM(J8:J19,J34) -> 3604 | ... AN10: =SUM(T8:T19,T34) -> 2548
B11: 3º | C11: 212 | D11: 228 | E11: 213 | F11: 228 | G11: 206 | H11: 183 | I11: 275 | J11: 273 | K11: 255 | L11: 227 | M11: 222 | N11: 205 | O11: 228 | P11: 227 | Q11: 220 | R11: 215 | S11: 229 | T11: 231
B12: 4º | C12: 257 | D12: 210 | E12: 265 | F12: 217 | G12: 241 | H12: 219 | I12: 181 | J12: 262 | K12: 266 | L12: 258 | M12: 212 | N12: 221 | O12: 218 | P12: 220 | Q12: 212 | R12: 227 | S12: 218 | T12: 237 | V12: Matrícula por Nivel Educativo del Grado Cero a Once
B13: 5º | C13: 232 | D13: 247 | E13: 238 | F13: 282 | G13: 222 | H13: 253 | I13: 208 | J13: 193 | K13: 253 | L13: 265 | M13: 256 | N13: 230 | O13: 207 | P13: 215 | Q13: 219 | R13: 214 | S13: 229 | T13: 217
B14: 6º | C14: 451 | D14: 418 | E14: 400 | F14: 401 | G14: 444 | H14: 407 | I14: 434 | J14: 465 | K14: 421 | L14: 367 | M14: 446 | N14: 536 | O14: 464 | P14: 348 | Q14: 372 | R14: 324 | S14: 306 | T14: 278
B15: 7º | C15: 455 | D15: 388 | E15: 417 | F15: 385 | G15: 420 | H15: 432 | I15: 364 | J15: 393 | K15: 407 | L15: 395 | M15: 309 | N15: 289 | O15: 353 | P15: 403 | Q15: 349 | R15: 287 | S15: 252 | T15: 236 | W15: 2008 | X15: 2009 | Y15: 2010 | Z15: 2011 | AA15: 2012 | AB15: 2013 | AC15: 2014 | AD15: 2015 | AE15: 2016 | AF15: 2017 | AG15: 2018 | AH15: 2019 | AI15: 2020 | AJ15: 2021 | AK15: 2022 | AL15: 2023 | AM15: 2024 | AN15: 2025
B16: 8º | C16: 370 | D16: 406 | E16: 404 | F16: 448 | G16: 414 | H16: 407 | I16: 404 | J16: 354 | K16: 315 | L16: 323 | M16: 310 | N16: 306 | O16: 291 | P16: 348 | Q16: 337 | R16: 277 | S16: 225 | T16: 223 | V16: Preescolar | X16: =(X6-W6)/W6*100 -> -9.8765432 | Y16: =(Y6-X6)/X6*100 -> 5.4794521 | Z16: =(Z6-Y6)/Y6*100 -> 40.909091 | AA16: =(AA6-Z6)/Z6*100 -> 0.92165899 | AB16: =(AB6-AA6)/AA6*100 -> -8.2191781 | AC16: =(AC6-AB6)/AB6*100 -> 0 | AD16: =(AD6-AC6)/AC6*100 -> -12.935323 | AE16: =(AE6-AD6)/AD6*100 -> -10.285714 | ... AN16: =(AN6-AM6)/AM6*100 -> -7.9268293
B17: 9º | C17: 317 | D17: 342 | E17: 411 | F17: 386 | G17: 380 | H17: 373 | I17: 336 | J17: 368 | K17: 301 | L17: 333 | M17: 249 | N17: 272 | O17: 237 | P17: 243 | Q17: 258 | R17: 254 | S17: 194 | T17: 195 | V17: Primaria | X17: =(X7-W7)/W7*100 -> -0.26548673 | Y17: =(Y7-X7)/X7*100 -> 2.7506655 | Z17: =(Z7-Y7)/Y7*100 -> -2.7633851 | AA17: =(AA7-Z7)/Z7*100 -> 0.97690941 | AB17: =(AB7-AA7)/AA7*100 -> 10.202287 | AC17: =(AC7-AB7)/AB7*100 -> -3.3519553 | AD17: =(AD7-AC7)/AC7*100 -> 2.5598679 | AE17: =(AE7-AD7)/AD7*100 -> -1.1272142 | ... AN17: =(AN7-AM7)/AM7*100 -> -0.26269702
B18: 10º | C18: 348 | D18: 306 | E18: 366 | F18: 434 | G18: 374 | H18: 326 | I18: 320 | J18: 317 | K18: 353 | L18: 313 | M18: 259 | N18: 234 | O18: 219 | P18: 217 | Q18: 161 | R18: 186 | S18: 179 | T18: 155 | V18: Secundaria | X18: =(X8-W8)/W8*100 -> -2.4482109 | Y18: =(Y8-X8)/X8*100 -> 5.019305 | Z18: =(Z8-Y8)/Y8*100 -> -0.73529412 | AA18: =(AA8-Z8)/Z8*100 -> 2.345679 | AB18: =(AB8-AA8)/AA8*100 -> -2.3522316 | AC18: =(AC8-AB8)/AB8*100 -> -5.0030883 | AD18: =(AD8-AC8)/AC8*100 -> 2.7308192 | AE18: =(AE8-AD8)/AD8*100 -> -8.6075949 | ... AN18: =(AN8-AM8)/AM8*100 -> -4.6059365
B19: 11º | C19: 368 | D19: 282 | E19: 267 | F19: 291 | G19: 317 | H19: 299 | I19: 279 | J19: 290 | K19: 216 | L19: 218 | M19: 212 | N19: 188 | O19: 173 | P19: 193 | Q19: 170 | R19: 163 | S19: 166 | T19: 171 | V19: Media | X19: =(X9-W9)/W9*100 -> -17.877095 | Y19: =(Y9-X9)/X9*100 -> 7.6530612 | Z19: =(Z9-Y9)/Y9*100 -> 14.533965 | AA19: =(AA9-Z9)/Z9*100 -> -4.6896552 | AB19: =(AB9-AA9)/AA9*100 -> -9.5513748 | AC19: =(AC9-AB9)/AB9*100 -> -4.16 | AD19: =(AD9-AC9)/AC9*100 -> 1.3355593 | AE19: =(AE9-AD9)/AD9*100 -> -6.2602965 | ... AN19: =(AN9-AM9)/AM9*100 -> -5.5072464
B20: 12° | V20: Total (0 a 11) | X20: =(X10-W10)/W10*100 -> -5.1652319 | Y20: =(Y10-X10)/X10*100 -> 4.7437775 | Z20: =(Z10-Y10)/Y10*100 -> 3.1031591 | AA20: =(AA10-Z10)/Z10*100 -> 0.46095445 | AB20: =(AB10-AA10)/AA10*100 -> -0.18893387 | AC20: =(AC10-AB10)/AB10*100 -> -4.029205 | AD20: =(AD10-AC10)/AC10*100 -> 1.5497323 | AE20: =(AE10-AD10)/AD10*100 -> -5.7158713 | ... AN20: =(AN10-AM10)/AM10*100 -> -3.04414
B21: 13°
B22: C0 | H22: 272 | V22: Tasa de aumento o disminución de la matrícula por nivel y año
B23: C1 | I23: 81 | J23: 127
B24: C2 | H24: 31 | I24: 26
B25: C3 | I25: 310 | J25: 323 | K25: 214 | L25: 115 | M25: 104 | N25: 133 | O25: 102 | P25: 80 | Q25: 67 | R25: 89 | S25: 69 | T25: 41
B26: C4 | I26: 87 | J26: 120 | K26: 254 | L26: 186 | M26: 109 | N26: 132 | O26: 153 | P26: 95 | Q26: 70 | R26: 87 | S26: 105 | T26: 72
B27: C5 | I27: 51 | J27: 66 | K27: 80 | L27: 139 | M27: 113 | N27: 136 | O27: 167 | P27: 130 | Q27: 101 | R27: 101 | S27: 104 | T27: 80
B28: C6 | I28: 8 | J28: 23 | K28: 64 | L28: 97 | M28: 76 | N28: 18 | O28: 44
B29: 41°
B30: 42°
B31: 43°
B32: 44°
B33: 45°
B34: Acel | T34: 22
B35: Total | C35: 3601 | D35: 3415 | E35: 3577 | F35: 3688 | G35: 3705 | H35: 4001 | I35: 4112 | J35: 4263 | K35: 4010 | L35: 3871 | M35: 3486 | N35: 3579 | O35: 3555 | P35: 3399 | Q35: 3229 | R35: 3086 | S35: 2906 | T35: 2750
B37: Promoción por año del grado cero a quinto y de sexto a once, análisis de cohortes (%)
C38: 2008 | D38: 2009 | E38: 2010 | F38: 2011 | G38: 2012 | H38: 2013 | I38: 2014 | J38: 2015 | K38: 2016 | L38: 2017 | M38: 2018 | N38: 2019 | O38: 2020 | P38: 2021 | Q38: 2022 | R38: 2023 | S38: 2024
B39: 0° | N39: 185
B40: 1º | O40: =(O9-N8)/N8*100 -> 45.405405
B41: 2º | P41: =(P10-O9)/O9*100 -> -8.9219331
B42: 3º | Q42: =(Q11-P10)/P10*100 -> -10.204082
B43: 4º | R43: =(R12-Q11)/Q11*100 -> 3.1818182 | T43: 5° VS 0°
B44: 5º | S44: =(S13-R12)/R12*100 -> 0.88105727 | T44: =(S13-N8)/N8*100 -> 23.783784
B45: 6º | N45: 536
B46: 7º | O46: =(O15-N14)/N14*100 -> -34.141791
B47: 8º | P47: =(P16-O15)/O15*100 -> -1.4164306
B48: 9º | Q48: =(Q17-P16)/P16*100 -> -25.862069
B49: 10º | R49: =(R18-Q17)/Q17*100 -> -27.906977 | T49: 11° VS 6°
B50: 11º | S50: =(S19-R18)/R18*100 -> -10.752688 | T50: =(S19-N14)/N14*100 -> -69.029851

Sheet JORGE V CORDOVEZ
B1: SECRETARÍA DE EDUCACIÓN MUNICIPAL DE PITALITO
B2: AREA DE COBERTURA - SISTEMA INTEGRADO DE MATRICULAS
B3: MATRICULA OFICIAL I.E MUNICIPAL JORGE VILLAMIL CORDOVEZ POR GRADO Y NIVELES
C5: 2008 | D5: 2009 | E5: 2010 | F5: 2011 | G5: 2012 | H5: 2013 | I5: 2014 | J5: 2015 | K5: 2016 | L5: 2017 | M5: 2018 | N5: 2019 | O5: 2020 | P5: 2021 | Q5: 2022 | R5: 2023 | S5: 2024 | T5: 2025 | W5: 2008 | X5: 2009 | Y5: 2010 | Z5: 2011 | AA5: 2012 | AB5: 2013 | AC5: 2014 | AD5: 2015 | AE5: 2016 | AF5: 2017 | AG5: 2018 | AH5: 2019 | AI5: 2020 | AJ5: 2021 | AK5: 2022 | AL5: 2023 | AM5: 2024 | AN5: 2025
B6: Prej | V6: Preescolar | W6: =C8 -> 58 | X6: =D8 -> 59 | Y6: =E8 -> 35 | Z6: =F8 -> 59 | AA6: =G8 -> 61 | AB6: =H8 -> 69 | AC6: =I8 -> 45 | AD6: =J8 -> 59 | ... AN6: =T8 -> 41
B7: Jard | V7: Primaria | W7: =SUM(C9:C13,C34) -> 373 | X7: =SUM(D9:D13,D34) -> 399 | Y7: =SUM(E9:E13,E34) -> 397 | Z7: =SUM(F9:F13,F34) -> 354 | AA7: =SUM(G9:G13,G34) -> 355 | AB7: =SUM(H9:H13,H34) -> 368 | AC7: =SUM(I9:I13,I34) -> 363 | AD7: =SUM(J9:J13,J34) -> 301 | ... AN7: =SUM(T9:T13,T34) -> 270
B8: 0° | C8: 58 | D8: 59 | E8: 35 | F8: 59 | G8: 61 | H8: 69 | I8: 45 | J8: 59 | K8: 46 | L8: 44 | M8: 69 | N8: 61 | O8: 47 | P8: 47 | Q8: 41 | R8: 50 | S8: 50 | T8: 41 | V8: Secundaria | W8: =SUM(C14:C17) -> 70 | X8: =SUM(D14:D17) -> 71 | Y8: =SUM(E14:E17) -> 100 | Z8: =SUM(F14:F17) -> 123 | AA8: =SUM(G14:G17) -> 124 | AB8: =SUM(H14:H17) -> 127 | AC8: =SUM(I14:I17) -> 157 | AD8: =SUM(J14:J17) -> 176 | ... AN8: =SUM(T14:T17) -> 151
B9: 1º | C9: 75 | D9: 93 | E9: 84 | F9: 53 | G9: 70 | H9: 78 | I9: 79 | J9: 47 | K9: 55 | L9: 54 | M9: 69 | N9: 72 | O9: 65 | P9: 48 | Q9: 60 | R9: 56 | S9: 68 | T9: 59 | V9: Media | W9: =SUM(C18:C19) -> 0 | X9: =SUM(D18:D19) -> 0 | Y9: =SUM(E18:E19) -> 0 | Z9: =SUM(F18:F19) -> 21 | AA9: =SUM(G18:G19) -> 25 | AB9: =SUM(H18:H19) -> 24 | AC9: =SUM(I18:I19) -> 23 | AD9: =SUM(J18:J19) -> 43 | ... AN9: =SUM(T18:T19) -> 34
B10: 2º | C10: 80 | D10: 85 | E10: 81 | F10: 79 | G10: 65 | H10: 70 | I10: 65 | J10: 75 | K10: 53 | L10: 54 | M10: 59 | N10: 60 | O10: 62 | P10: 63 | Q10: 61 | R10: 59 | S10: 44 | T10: 53 | V10: Total (0 a 11) | W10: =SUM(C8:C19,C34) -> 501 | X10: =SUM(D8:D19,D34) -> 529 | Y10: =SUM(E8:E19,E34) -> 532 | Z10: =SUM(F8:F19,F34) -> 557 | AA10: =SUM(G8:G19,G34) -> 565 | AB10: =SUM(H8:H19,H34) -> 588 | AC10: =SUM(I8:I19,I34) -> 588 | AD10: =SUM(J8:J19,J34) -> 579 | ... AN10: =SUM(T8:T19,T34) -> 496
B11: 3º | C11: 96 | D11: 69 | E11: 83 | F11: 85 | G11: 81 | H11: 67 | I11: 71 | J11: 56 | K11: 68 | L11: 55 | M11: 45 | N11: 48 | O11: 54 | P11: 66 | Q11: 47 | R11: 62 | S11: 57 | T11: 48
B12: 4º | C12: 66 | D12: 96 | E12: 61 | F12: 80 | G12: 74 | H12: 87 | I12: 68 | J12: 67 | K12: 45 | L12: 74 | M12: 56 | N12: 44 | O12: 44 | P12: 61 | Q12: 70 | R12: 39 | S12: 50 | T12: 62 | V12: Matrícula por Nivel Educativo del Grado Cero a Once
B13: 5º | C13: 56 | D13: 56 | E13: 88 | F13: 57 | G13: 65 | H13: 66 | I13: 80 | J13: 56 | K13: 65 | L13: 43 | M13: 76 | N13: 52 | O13: 40 | P13: 53 | Q13: 59 | R13: 67 | S13: 38 | T13: 48
B14: 6º | C14: 38 | D14: 20 | E14: 30 | F14: 50 | G14: 43 | H14: 44 | I14: 51 | J14: 63 | K14: 55 | L14: 65 | M14: 61 | N14: 54 | O14: 59 | P14: 43 | Q14: 43 | R14: 51 | S14: 48 | T14: 38
B15: 7º | C15: 32 | D15: 31 | E15: 18 | F15: 31 | G15: 41 | H15: 28 | I15: 47 | J15: 44 | K15: 46 | L15: 49 | M15: 53 | N15: 56 | O15: 48 | P15: 46 | Q15: 36 | R15: 36 | S15: 42 | T15: 50 | W15: 2008 | X15: 2009 | Y15: 2010 | Z15: 2011 | AA15: 2012 | AB15: 2013 | AC15: 2014 | AD15: 2015 | AE15: 2016 | AF15: 2017 | AG15: 2018 | AH15: 2019 | AI15: 2020 | AJ15: 2021 | AK15: 2022 | AL15: 2023 | AM15: 2024 | AN15: 2025
B16: 8º | D16: 20 | E16: 32 | F16: 20 | G16: 22 | H16: 41 | I16: 26 | J16: 41 | K16: 44 | L16: 45 | M16: 36 | N16: 45 | O16: 49 | P16: 42 | Q16: 36 | R16: 31 | S16: 39 | T16: 34 | V16: Preescolar | X16: =(X6-W6)/W6*100 -> 1.7241379 | Y16: =(Y6-X6)/X6*100 -> -40.677966 | Z16: =(Z6-Y6)/Y6*100 -> 68.571429 | AA16: =(AA6-Z6)/Z6*100 -> 3.3898305 | AB16: =(AB6-AA6)/AA6*100 -> 13.114754 | AC16: =(AC6-AB6)/AB6*100 -> -34.782609 | AD16: =(AD6-AC6)/AC6*100 -> 31.111111 | AE16: =(AE6-AD6)/AD6*100 -> -22.033898 | ... AN16: =(AN6-AM6)/AM6*100 -> -18
B17: 9º | E17: 20 | F17: 22 | G17: 18 | H17: 14 | I17: 33 | J17: 28 | K17: 34 | L17: 28 | M17: 31 | N17: 16 | O17: 29 | P17: 42 | Q17: 37 | R17: 31 | S17: 25 | T17: 29 | V17: Primaria | X17: =(X7-W7)/W7*100 -> 6.9705094 | Y17: =(Y7-X7)/X7*100 -> -0.50125313 | Z17: =(Z7-Y7)/Y7*100 -> -10.831234 | AA17: =(AA7-Z7)/Z7*100 -> 0.28248588 | AB17: =(AB7-AA7)/AA7*100 -> 3.6619718 | AC17: =(AC7-AB7)/AB7*100 -> -1.3586957 | AD17: =(AD7-AC7)/AC7*100 -> -17.07989 | AE17: =(AE7-AD7)/AD7*100 -> -4.9833887 | ... AN17: =(AN7-AM7)/AM7*100 -> 5.0583658
B18: 10º | F18: 21 | G18: 13 | H18: 14 | I18: 12 | J18: 30 | K18: 27 | L18: 22 | M18: 26 | N18: 18 | O18: 14 | P18: 27 | Q18: 25 | R18: 16 | S18: 22 | T18: 16 | V18: Secundaria | X18: =(X8-W8)/W8*100 -> 1.4285714 | Y18: =(Y8-X8)/X8*100 -> 40.84507 | Z18: =(Z8-Y8)/Y8*100 -> 23 | AA18: =(AA8-Z8)/Z8*100 -> 0.81300813 | AB18: =(AB8-AA8)/AA8*100 -> 2.4193548 | AC18: =(AC8-AB8)/AB8*100 -> 23.622047 | AD18: =(AD8-AC8)/AC8*100 -> 12.101911 | AE18: =(AE8-AD8)/AD8*100 -> 1.7045455 | ... AN18: =(AN8-AM8)/AM8*100 -> -1.9480519
B19: 11º | G19: 12 | H19: 10 | I19: 11 | J19: 13 | K19: 20 | L19: 23 | M19: 17 | N19: 17 | O19: 11 | P19: 12 | Q19: 19 | R19: 23 | S19: 15 | T19: 18 | V19: Media | AA19: =(AA9-Z9)/Z9*100 -> 19.047619 | AB19: =(AB9-AA9)/AA9*100 -> -4 | AC19: =(AC9-AB9)/AB9*100 -> -4.1666667 | AD19: =(AD9-AC9)/AC9*100 -> 86.956522 | AE19: =(AE9-AD9)/AD9*100 -> 9.3023256 | AF19: =(AF9-AE9)/AE9*100 -> -4.2553191 | AG19: =(AG9-AF9)/AF9*100 -> -4.4444444 | AH19: =(AH9-AG9)/AG9*100 -> -18.604651 | ... AN19: =(AN9-AM9)/AM9*100 -> -8.1081081
B20: 12° | V20: Total (0 a 11) | X20: =(X10-W10)/W10*100 -> 5.5888224 | Y20: =(Y10-X10)/X10*100 -> 0.56710775 | Z20: =(Z10-Y10)/Y10*100 -> 4.6992481 | AA20: =(AA10-Z10)/Z10*100 -> 1.4362657 | AB20: =(AB10-AA10)/AA10*100 -> 4.0707965 | AC20: =(AC10-AB10)/AB10*100 -> 0 | AD20: =(AD10-AC10)/AC10*100 -> -1.5306122 | AE20: =(AE10-AD10)/AD10*100 -> -3.626943 | ... AN20: =(AN10-AM10)/AM10*100 -> -0.40160643
B21: 13°
B22: C0 | H22: 107 | V22: Tasa de aumento o disminución de la matrícula por nivel y año
B23: C1
B24: C2 | C24: 25
B25: C3 | K25: 33 | L25: 15 | M25: 8 | N25: 10 | O25: 39 | P25: 29 | Q25: 15 | R25: 13
B26: C4 | K26: 10 | L26: 32 | M26: 19 | N26: 11 | O26: 29 | P26: 28 | Q26: 21 | R26: 22
B27: C5 | K27: 15 | L27: 11 | M27: 21 | N27: 12 | O27: 17 | P27: 27 | Q27: 20 | R27: 22
B28: C6 | M28: 15
B29: 41°
B30: 42°
B31: 43°
B32: 44°
B33: 45°
B34: Acel
B35: Total | C35: 526 | D35: 529 | E35: 532 | F35: 557 | G35: 565 | H35: 695 | I35: 588 | J35: 579 | K35: 616 | L35: 614 | M35: 661 | N35: 576 | O35: 607 | P35: 634 | Q35: 590 | R35: 578 | S35: 498 | T35: 496
B37: Promoción por año del grado cero a quinto y de sexto a once, análisis de cohortes (%)
C38: 2008 | D38: 2009 | E38: 2010 | F38: 2011 | G38: 2012 | H38: 2013 | I38: 2014 | J38: 2015 | K38: 2016 | L38: 2017 | M38: 2018 | N38: 2019 | O38: 2020 | P38: 2021 | Q38: 2022 | R38: 2023 | S38: 2024
B39: 0° | N39: 61
B40: 1º | O40: =(O9-N8)/N8*100 -> 6.557377
B41: 2º | P41: =(P10-O9)/O9*100 -> -3.0769231
B42: 3º | Q42: =(Q11-P10)/P10*100 -> -25.396825
B43: 4º | R43: =(R12-Q11)/Q11*100 -> -17.021277 | T43: 5° VS 0°
B44: 5º | S44: =(S13-R12)/R12*100 -> -2.5641026 | T44: =(S13-N8)/N8*100 -> -37.704918
B45: 6º | N45: 54
B46: 7º | O46: =(O15-N14)/N14*100 -> -11.111111
B47: 8º | P47: =(P16-O15)/O15*100 -> -12.5
B48: 9º | Q48: =(Q17-P16)/P16*100 -> -11.904762
B49: 10º | R49: =(R18-Q17)/Q17*100 -> -56.756757 | T49: 11° VS 6°
B50: 11º | S50: =(S19-R18)/R18*100 -> -6.25 | T50: =(S19-N14)/N14*100 -> -72.222222

Sheet JOSE E RIVERA
B1: SECRETARÍA DE EDUCACIÓN MUNICIPAL DE PITALITO
B2: AREA DE COBERTURA - SISTEMA INTEGRADO DE MATRICULAS
B3: MATRICULA OFICIAL I.E MUNICIPAL JOSE EUSTASIO RIVERA POR GRADO Y NIVELES
C5: 2008 | D5: 2009 | E5: 2010 | F5: 2011 | G5: 2012 | H5: 2013 | I5: 2014 | J5: 2015 | K5: 2016 | L5: 2017 | M5: 2018 | N5: 2019 | O5: 2020 | P5: 2021 | Q5: 2022 | R5: 2023 | S5: 2024 | T5: 2025 | W5: 2008 | X5: 2009 | Y5: 2010 | Z5: 2011 | AA5: 2012 | AB5: 2013 | AC5: 2014 | AD5: 2015 | AE5: 2016 | AF5: 2017 | AG5: 2018 | AH5: 2019 | AI5: 2020 | AJ5: 2021 | AK5: 2022 | AL5: 2023 | AM5: 2024 | AN5: 2025
B6: Prej | V6: Preescolar | W6: =C8 -> 110 | X6: =D8 -> 132 | Y6: =E8 -> 131 | Z6: =F8 -> 162 | AA6: =G8 -> 175 | AB6: =H8 -> 238 | AC6: =I8 -> 207 | AD6: =J8 -> 256 | ... AN6: =T8 -> 276
B7: Jard | T7: 17 | V7: Primaria | W7: =SUM(C9:C13,C34) -> 1738 | X7: =SUM(D9:D13,D34) -> 1797 | Y7: =SUM(E9:E13,E34) -> 1752 | Z7: =SUM(F9:F13,F34) -> 1730 | AA7: =SUM(G9:G13,G34) -> 1737 | AB7: =SUM(H9:H13,H34) -> 1779 | AC7: =SUM(I9:I13,I34) -> 1722 | AD7: =SUM(J9:J13,J34) -> 1694 | ... AN7: =SUM(T9:T13,T34) -> 1725
B8: 0° | C8: 110 | D8: 132 | E8: 131 | F8: 162 | G8: 175 | H8: 238 | I8: 207 | J8: 256 | K8: 232 | L8: 240 | M8: 275 | N8: 284 | O8: 272 | P8: 226 | Q8: 307 | R8: 327 | S8: 303 | T8: 276 | V8: Secundaria | W8: =SUM(C14:C17) -> 612 | X8: =SUM(D14:D17) -> 654 | Y8: =SUM(E14:E17) -> 771 | Z8: =SUM(F14:F17) -> 785 | AA8: =SUM(G14:G17) -> 814 | AB8: =SUM(H14:H17) -> 888 | AC8: =SUM(I14:I17) -> 932 | AD8: =SUM(J14:J17) -> 864 | ... AN8: =SUM(T14:T17) -> 921
B9: 1º | C9: 329 | D9: 391 | E9: 331 | F9: 375 | G9: 382 | H9: 442 | I9: 458 | J9: 333 | K9: 386 | L9: 334 | M9: 374 | N9: 416 | O9: 388 | P9: 359 | Q9: 346 | R9: 414 | S9: 392 | T9: 366 | V9: Media | W9: =SUM(C18:C19) -> 117 | X9: =SUM(D18:D19) -> 119 | Y9: =SUM(E18:E19) -> 172 | Z9: =SUM(F18:F19) -> 176 | AA9: =SUM(G18:G19) -> 219 | AB9: =SUM(H18:H19) -> 216 | AC9: =SUM(I18:I19) -> 242 | AD9: =SUM(J18:J19) -> 235 | ... AN9: =SUM(T18:T19) -> 230
B10: 2º | C10: 362 | D10: 336 | E10: 386 | F10: 327 | G10: 350 | H10: 322 | I10: 357 | J10: 407 | K10: 330 | L10: 365 | M10: 285 | N10: 292 | O10: 327 | P10: 360 | Q10: 324 | R10: 320 | S10: 354 | T10: 372 | V10: Total (0 a 11) | W10: =SUM(C8:C19,C34) -> 2577 | X10: =SUM(D8:D19,D34) -> 2702 | Y10: =SUM(E8:E19,E34) -> 2826 | Z10: =SUM(F8:F19,F34) -> 2853 | AA10: =SUM(G8:G19,G34) -> 2945 | AB10: =SUM(H8:H19,H34) -> 3121 | AC10: =SUM(I8:I19,I34) -> 3103 | AD10: =SUM(J8:J19,J34) -> 3049 | ... AN10: =SUM(T8:T19,T34) -> 3152
B11: 3º | C11: 401 | D11: 358 | E11: 303 | F11: 368 | G11: 336 | H11: 346 | I11: 299 | J11: 347 | K11: 333 | L11: 335 | M11: 356 | N11: 299 | O11: 290 | P11: 346 | Q11: 314 | R11: 316 | S11: 295 | T11: 363
B12: 4º | C12: 336 | D12: 381 | E12: 358 | F12: 324 | G12: 348 | H12: 319 | I12: 307 | J12: 305 | K12: 315 | L12: 332 | M12: 302 | N12: 330 | O12: 297 | P12: 288 | Q12: 318 | R12: 285 | S12: 317 | T12: 302 | V12: Matrícula por Nivel Educativo del Grado Cero a Once
B13: 5º | C13: 310 | D13: 331 | E13: 374 | F13: 336 | G13: 321 | H13: 350 | I13: 301 | J13: 302 | K13: 274 | L13: 323 | M13: 317 | N13: 305 | O13: 307 | P13: 313 | Q13: 279 | R13: 311 | S13: 279 | T13: 322
B14: 6º | C14: 237 | D14: 232 | E14: 280 | F14: 273 | G14: 257 | H14: 307 | I14: 335 | J14: 304 | K14: 306 | L14: 273 | M14: 309 | N14: 316 | O14: 330 | P14: 310 | Q14: 324 | R14: 296 | S14: 291 | T14: 270
B15: 7º | C15: 162 | D15: 170 | E15: 191 | F15: 195 | G15: 257 | H15: 232 | I15: 232 | J15: 209 | K15: 198 | L15: 237 | M15: 229 | N15: 271 | O15: 239 | P15: 250 | Q15: 237 | R15: 259 | S15: 243 | T15: 289 | W15: 2008 | X15: 2009 | Y15: 2010 | Z15: 2011 | AA15: 2012 | AB15: 2013 | AC15: 2014 | AD15: 2015 | AE15: 2016 | AF15: 2017 | AG15: 2018 | AH15: 2019 | AI15: 2020 | AJ15: 2021 | AK15: 2022 | AL15: 2023 | AM15: 2024 | AN15: 2025
B16: 8º | C16: 135 | D16: 143 | E16: 165 | F16: 168 | G16: 171 | H16: 209 | I16: 193 | J16: 209 | K16: 209 | L16: 190 | M16: 169 | N16: 184 | O16: 207 | P16: 222 | Q16: 200 | R16: 172 | S16: 194 | T16: 179 | V16: Preescolar | X16: =(X6-W6)/W6*100 -> 20 | Y16: =(Y6-X6)/X6*100 -> -0.75757576 | Z16: =(Z6-Y6)/Y6*100 -> 23.664122 | AA16: =(AA6-Z6)/Z6*100 -> 8.0246914 | AB16: =(AB6-AA6)/AA6*100 -> 36 | AC16: =(AC6-AB6)/AB6*100 -> -13.02521 | AD16: =(AD6-AC6)/AC6*100 -> 23.671498 | AE16: =(AE6-AD6)/AD6*100 -> -9.375 | ... AN16: =(AN6-AM6)/AM6*100 -> -8.9108911
B17: 9º | C17: 78 | D17: 109 | E17: 135 | F17: 149 | G17: 129 | H17: 140 | I17: 172 | J17: 142 | K17: 143 | L17: 144 | M17: 145 | N17: 153 | O17: 139 | P17: 176 | Q17: 169 | R17: 158 | S17: 142 | T17: 183 | V17: Primaria | X17: =(X7-W7)/W7*100 -> 3.3947066 | Y17: =(Y7-X7)/X7*100 -> -2.5041736 | Z17: =(Z7-Y7)/Y7*100 -> -1.2557078 | AA17: =(AA7-Z7)/Z7*100 -> 0.40462428 | AB17: =(AB7-AA7)/AA7*100 -> 2.417962 | AC17: =(AC7-AB7)/AB7*100 -> -3.2040472 | AD17: =(AD7-AC7)/AC7*100 -> -1.6260163 | AE17: =(AE7-AD7)/AD7*100 -> -3.3057851 | ... AN17: =(AN7-AM7)/AM7*100 -> 5.3756872
B18: 10º | C18: 58 | D18: 71 | E18: 105 | F18: 110 | G18: 123 | H18: 136 | I18: 114 | J18: 128 | K18: 127 | L18: 116 | M18: 119 | N18: 115 | O18: 133 | P18: 113 | Q18: 161 | R18: 157 | S18: 130 | T18: 126 | V18: Secundaria | X18: =(X8-W8)/W8*100 -> 6.8627451 | Y18: =(Y8-X8)/X8*100 -> 17.889908 | Z18: =(Z8-Y8)/Y8*100 -> 1.8158236 | AA18: =(AA8-Z8)/Z8*100 -> 3.6942675 | AB18: =(AB8-AA8)/AA8*100 -> 9.0909091 | AC18: =(AC8-AB8)/AB8*100 -> 4.954955 | AD18: =(AD8-AC8)/AC8*100 -> -7.2961373 | AE18: =(AE8-AD8)/AD8*100 -> -0.92592593 | ... AN18: =(AN8-AM8)/AM8*100 -> 5.862069
B19: 11º | C19: 59 | D19: 48 | E19: 67 | F19: 66 | G19: 96 | H19: 80 | I19: 128 | J19: 107 | K19: 111 | L19: 106 | M19: 73 | N19: 100 | O19: 103 | P19: 101 | Q19: 69 | R19: 95 | S19: 76 | T19: 104 | V19: Media | X19: =(X9-W9)/W9*100 -> 1.7094017 | Y19: =(Y9-X9)/X9*100 -> 44.537815 | Z19: =(Z9-Y9)/Y9*100 -> 2.3255814 | AA19: =(AA9-Z9)/Z9*100 -> 24.431818 | AB19: =(AB9-AA9)/AA9*100 -> -1.369863 | AC19: =(AC9-AB9)/AB9*100 -> 12.037037 | AD19: =(AD9-AC9)/AC9*100 -> -2.892562 | AE19: =(AE9-AD9)/AD9*100 -> 1.2765957 | ... AN19: =(AN9-AM9)/AM9*100 -> 11.650485
B20: 12° | V20: Total (0 a 11) | X20: =(X10-W10)/W10*100 -> 4.8506015 | Y20: =(Y10-X10)/X10*100 -> 4.5891932 | Z20: =(Z10-Y10)/Y10*100 -> 0.95541401 | AA20: =(AA10-Z10)/Z10*100 -> 3.2246758 | AB20: =(AB10-AA10)/AA10*100 -> 5.9762309 | AC20: =(AC10-AB10)/AB10*100 -> -0.57673822 | AD20: =(AD10-AC10)/AC10*100 -> -1.7402514 | AE20: =(AE10-AD10)/AD10*100 -> -2.7877993 | ... AN20: =(AN10-AM10)/AM10*100 -> 4.5092838
B21: 13°
B22: C0 | H22: 626 | V22: Tasa de aumento o disminución de la matrícula por nivel y año
B23: C1 | C23: 1 | I23: 596 | J23: 680 | Q23: 27
B24: C2 | C24: 28 | D24: 24 | E24: 35 | F24: 32 | G24: 24 | H24: 218 | I24: 145
B25: C3 | C25: 49 | D25: 77 | E25: 97 | F25: 133 | G25: 166 | H25: 106 | I25: 333 | J25: 309 | K25: 147 | L25: 108 | M25: 138 | N25: 130 | O25: 141 | P25: 90 | Q25: 153 | R25: 117 | S25: 111 | T25: 78
B26: C4 | C26: 28 | D26: 83 | E26: 95 | F26: 87 | G26: 127 | H26: 117 | I26: 88 | J26: 136 | K26: 192 | L26: 149 | M26: 169 | N26: 142 | O26: 118 | P26: 92 | Q26: 115 | R26: 131 | S26: 117 | T26: 77
B27: C5 | C27: 27 | D27: 21 | E27: 87 | F27: 88 | G27: 101 | H27: 113 | I27: 30 | J27: 102 | K27: 104 | L27: 112 | M27: 109 | N27: 99 | O27: 110 | P27: 81 | Q27: 92 | R27: 101 | S27: 109 | T27: 97
B28: C6 | D28: 30 | I28: 114 | J28: 23 | L28: 61 | M28: 29
B29: 41°
B30: 42°
B31: 43°
B32: 44°
B33: 45°
B34: Acel
B35: Total | C35: 2710 | D35: 2937 | E35: 3140 | F35: 3193 | G35: 3363 | H35: 4301 | I35: 4409 | J35: 4299 | K35: 3407 | L35: 3425 | M35: 3398 | N35: 3436 | O35: 3401 | P35: 3327 | Q35: 3435 | R35: 3459 | S35: 3353 | T35: 3421
B37: Promoción por año del grado cero a quinto y de sexto a once, análisis de cohortes (%)
C38: 2008 | D38: 2009 | E38: 2010 | F38: 2011 | G38: 2012 | H38: 2013 | I38: 2014 | J38: 2015 | K38: 2016 | L38: 2017 | M38: 2018 | N38: 2019 | O38: 2020 | P38: 2021 | Q38: 2022 | R38: 2023 | S38: 2024
B39: 0° | N39: 284
B40: 1º | O40: =(O9-N8)/N8*100 -> 36.619718
B41: 2º | P41: =(P10-O9)/O9*100 -> -7.2164948
B42: 3º | Q42: =(Q11-P10)/P10*100 -> -12.777778
B43: 4º | R43: =(R12-Q11)/Q11*100 -> -9.2356688 | T43: 5° VS 0°
B44: 5º | S44: =(S13-R12)/R12*100 -> -2.1052632 | T44: =(S13-N8)/N8*100 -> -1.7605634
B45: 6º | N45: 316
B46: 7º | O46: =(O15-N14)/N14*100 -> -24.367089
B47: 8º | P47: =(P16-O15)/O15*100 -> -7.1129707
B48: 9º | Q48: =(Q17-P16)/P16*100 -> -23.873874
B49: 10º | R49: =(R18-Q17)/Q17*100 -> -7.1005917 | T49: 11° VS 6°
B50: 11º | S50: =(S19-R18)/R18*100 -> -51.592357 | T50: =(S19-N14)/N14*100 -> -75.949367

Sheet LA LAGUNA
B1: SECRETARÍA DE EDUCACIÓN MUNICIPAL DE PITALITO
B2: AREA DE COBERTURA - SISTEMA INTEGRADO DE MATRICULAS
B3: MATRICULA OFICIAL I.E MUNICIPAL LA LAGUNA POR GRADO Y NIVELES
C5: 2008 | D5: 2009 | E5: 2010 | F5: 2011 | G5: 2012 | H5: 2013 | I5: 2014 | J5: 2015 | K5: 2016 | L5: 2017 | M5: 2018 | N5: 2019 | O5: 2020 | P5: 2021 | Q5: 2022 | R5: 2023 | S5: 2024 | T5: 2025 | W5: 2008 | X5: 2009 | Y5: 2010 | Z5: 2011 | AA5: 2012 | AB5: 2013 | AC5: 2014 | AD5: 2015 | AE5: 2016 | AF5: 2017 | AG5: 2018 | AH5: 2019 | AI5: 2020 | AJ5: 2021 | AK5: 2022 | AL5: 2023 | AM5: 2024 | AN5: 2025
B6: Prej | T6: 7 | V6: Preescolar | W6: =C8 -> 43 | X6: =D8 -> 58 | Y6: =E8 -> 52 | Z6: =F8 -> 55 | AA6: =G8 -> 59 | AB6: =H8 -> 53 | AC6: =I8 -> 55 | AD6: =J8 -> 50 | ... AN6: =T8 -> 56
B7: Jard | T7: 18 | V7: Primaria | W7: =SUM(C9:C13,C34) -> 399 | X7: =SUM(D9:D13,D34) -> 393 | Y7: =SUM(E9:E13,E34) -> 364 | Z7: =SUM(F9:F13,F34) -> 358 | AA7: =SUM(G9:G13,G34) -> 380 | AB7: =SUM(H9:H13,H34) -> 366 | AC7: =SUM(I9:I13,I34) -> 351 | AD7: =SUM(J9:J13,J34) -> 356 | ... AN7: =SUM(T9:T13,T34) -> 331
B8: 0° | C8: 43 | D8: 58 | E8: 52 | F8: 55 | G8: 59 | H8: 53 | I8: 55 | J8: 50 | K8: 63 | L8: 62 | M8: 75 | N8: 54 | O8: 49 | P8: 61 | Q8: 60 | R8: 73 | S8: 54 | T8: 56 | V8: Secundaria | W8: =SUM(C14:C17) -> 117 | X8: =SUM(D14:D17) -> 126 | Y8: =SUM(E14:E17) -> 166 | Z8: =SUM(F14:F17) -> 157 | AA8: =SUM(G14:G17) -> 168 | AB8: =SUM(H14:H17) -> 212 | AC8: =SUM(I14:I17) -> 245 | AD8: =SUM(J14:J17) -> 246 | ... AN8: =SUM(T14:T17) -> 236
B9: 1º | C9: 66 | D9: 57 | E9: 54 | F9: 66 | G9: 82 | H9: 87 | I9: 77 | J9: 75 | K9: 63 | L9: 65 | M9: 71 | N9: 78 | O9: 67 | P9: 61 | Q9: 66 | R9: 74 | S9: 77 | T9: 48 | V9: Media | W9: =SUM(C18:C19) -> 14 | X9: =SUM(D18:D19) -> 28 | Y9: =SUM(E18:E19) -> 40 | Z9: =SUM(F18:F19) -> 32 | AA9: =SUM(G18:G19) -> 32 | AB9: =SUM(H18:H19) -> 27 | AC9: =SUM(I18:I19) -> 31 | AD9: =SUM(J18:J19) -> 48 | ... AN9: =SUM(T18:T19) -> 85
B10: 2º | C10: 73 | D10: 82 | E10: 58 | F10: 68 | G10: 73 | H10: 72 | I10: 77 | J10: 77 | K10: 65 | L10: 61 | M10: 67 | N10: 73 | O10: 76 | P10: 72 | Q10: 63 | R10: 71 | S10: 76 | T10: 80 | V10: Total (0 a 11) | W10: =SUM(C8:C19,C34) -> 573 | X10: =SUM(D8:D19,D34) -> 605 | Y10: =SUM(E8:E19,E34) -> 622 | Z10: =SUM(F8:F19,F34) -> 602 | AA10: =SUM(G8:G19,G34) -> 639 | AB10: =SUM(H8:H19,H34) -> 658 | AC10: =SUM(I8:I19,I34) -> 682 | AD10: =SUM(J8:J19,J34) -> 700 | ... AN10: =SUM(T8:T19,T34) -> 708
B11: 3º | C11: 113 | D11: 83 | E11: 82 | F11: 65 | G11: 74 | H11: 73 | I11: 77 | J11: 77 | K11: 69 | L11: 72 | M11: 65 | N11: 70 | O11: 66 | P11: 82 | Q11: 65 | R11: 54 | S11: 72 | T11: 72
B12: 4º | C12: 84 | D12: 97 | E12: 79 | F12: 85 | G12: 66 | H12: 71 | I12: 62 | J12: 72 | K12: 73 | L12: 65 | M12: 67 | N12: 66 | O12: 71 | P12: 66 | Q12: 82 | R12: 69 | S12: 58 | T12: 71 | V12: Matrícula por Nivel Educativo del Grado Cero a Once
B13: 5º | C13: 63 | D13: 74 | E13: 91 | F13: 74 | G13: 85 | H13: 63 | I13: 58 | J13: 55 | K13: 70 | L13: 70 | M13: 64 | N13: 64 | O13: 63 | P13: 75 | Q13: 66 | R13: 83 | S13: 73 | T13: 60
B14: 6º | C14: 31 | D14: 45 | E14: 63 | F14: 70 | G14: 66 | H14: 92 | I14: 72 | J14: 66 | K14: 65 | L14: 68 | M14: 76 | N14: 68 | O14: 70 | P14: 80 | Q14: 71 | R14: 68 | S14: 80 | T14: 73
B15: 7º | C15: 36 | D15: 33 | E15: 41 | F15: 34 | G15: 52 | H15: 60 | I15: 89 | J15: 73 | K15: 64 | L15: 57 | M15: 56 | N15: 69 | O15: 63 | P15: 64 | Q15: 63 | R15: 63 | S15: 60 | T15: 66 | W15: 2008 | X15: 2009 | Y15: 2010 | Z15: 2011 | AA15: 2012 | AB15: 2013 | AC15: 2014 | AD15: 2015 | AE15: 2016 | AF15: 2017 | AG15: 2018 | AH15: 2019 | AI15: 2020 | AJ15: 2021 | AK15: 2022 | AL15: 2023 | AM15: 2024 | AN15: 2025
B16: 8º | C16: 16 | D16: 30 | E16: 34 | F16: 30 | G16: 31 | H16: 43 | I16: 44 | J16: 66 | K16: 58 | L16: 57 | M16: 43 | N16: 55 | O16: 56 | P16: 57 | Q16: 48 | R16: 62 | S16: 60 | T16: 44 | V16: Preescolar | X16: =(X6-W6)/W6*100 -> 34.883721 | Y16: =(Y6-X6)/X6*100 -> -10.344828 | Z16: =(Z6-Y6)/Y6*100 -> 5.7692308 | AA16: =(AA6-Z6)/Z6*100 -> 7.2727273 | AB16: =(AB6-AA6)/AA6*100 -> -10.169492 | AC16: =(AC6-AB6)/AB6*100 -> 3.7735849 | AD16: =(AD6-AC6)/AC6*100 -> -9.0909091 | AE16: =(AE6-AD6)/AD6*100 -> 26 | ... AN16: =(AN6-AM6)/AM6*100 -> 3.7037037
B17: 9º | C17: 34 | D17: 18 | E17: 28 | F17: 23 | G17: 19 | H17: 17 | I17: 40 | J17: 41 | K17: 41 | L17: 35 | M17: 36 | N17: 36 | O17: 33 | P17: 33 | Q17: 42 | R17: 48 | S17: 53 | T17: 53 | V17: Primaria | X17: =(X7-W7)/W7*100 -> -1.5037594 | Y17: =(Y7-X7)/X7*100 -> -7.3791349 | Z17: =(Z7-Y7)/Y7*100 -> -1.6483516 | AA17: =(AA7-Z7)/Z7*100 -> 6.1452514 | AB17: =(AB7-AA7)/AA7*100 -> -3.6842105 | AC17: =(AC7-AB7)/AB7*100 -> -4.0983607 | AD17: =(AD7-AC7)/AC7*100 -> 1.4245014 | AE17: =(AE7-AD7)/AD7*100 -> -4.494382 | ... AN17: =(AN7-AM7)/AM7*100 -> -7.0224719
B18: 10º | C18: 6 | D18: 25 | E18: 17 | F18: 24 | G18: 12 | H18: 17 | I18: 17 | J18: 40 | K18: 24 | L18: 44 | M18: 36 | N18: 27 | O18: 28 | P18: 28 | Q18: 26 | R18: 29 | S18: 39 | T18: 47 | V18: Secundaria | X18: =(X8-W8)/W8*100 -> 7.6923077 | Y18: =(Y8-X8)/X8*100 -> 31.746032 | Z18: =(Z8-Y8)/Y8*100 -> -5.4216867 | AA18: =(AA8-Z8)/Z8*100 -> 7.0063694 | AB18: =(AB8-AA8)/AA8*100 -> 26.190476 | AC18: =(AC8-AB8)/AB8*100 -> 15.566038 | AD18: =(AD8-AC8)/AC8*100 -> 0.40816327 | AE18: =(AE8-AD8)/AD8*100 -> -7.3170732 | ... AN18: =(AN8-AM8)/AM8*100 -> -6.7193676
B19: 11º | C19: 8 | D19: 3 | E19: 23 | F19: 8 | G19: 20 | H19: 10 | I19: 14 | J19: 8 | K19: 22 | L19: 25 | M19: 34 | N19: 34 | O19: 25 | P19: 18 | Q19: 24 | R19: 26 | S19: 27 | T19: 38 | V19: Media | X19: =(X9-W9)/W9*100 -> 100 | Y19: =(Y9-X9)/X9*100 -> 42.857143 | Z19: =(Z9-Y9)/Y9*100 -> -20 | AA19: =(AA9-Z9)/Z9*100 -> 0 | AB19: =(AB9-AA9)/AA9*100 -> -15.625 | AC19: =(AC9-AB9)/AB9*100 -> 14.814815 | AD19: =(AD9-AC9)/AC9*100 -> 54.83871 | AE19: =(AE9-AD9)/AD9*100 -> -4.1666667 | ... AN19: =(AN9-AM9)/AM9*100 -> 28.787879
B20: 12° | V20: Total (0 a 11) | X20: =(X10-W10)/W10*100 -> 5.5846422 | Y20: =(Y10-X10)/X10*100 -> 2.8099174 | Z20: =(Z10-Y10)/Y10*100 -> -3.2154341 | AA20: =(AA10-Z10)/Z10*100 -> 6.1461794 | AB20: =(AB10-AA10)/AA10*100 -> 2.9733959 | AC20: =(AC10-AB10)/AB10*100 -> 3.6474164 | AD20: =(AD10-AC10)/AC10*100 -> 2.6392962 | AE20: =(AE10-AD10)/AD10*100 -> -3.2857143 | ... AN20: =(AN10-AM10)/AM10*100 -> -2.8806584
B21: 13°
B22: C0 | H22: 200 | V22: Tasa de aumento o disminución de la matrícula por nivel y año
B23: C1 | D23: 121 | E23: 134 | F23: 14 | I23: 20 | J23: 42 | Q23: 26
B24: C2 | C24: 21 | I24: 46
B25: C3 | D25: 22 | E25: 25 | I25: 51 | J25: 37 | L25: 18 | M25: 24 | N25: 18 | O25: 29 | P25: 36 | Q25: 28 | R25: 14 | S25: 24 | T25: 40
B26: C4 | K26: 25 | L26: 26 | M26: 13 | N26: 21 | O26: 27 | P26: 23 | Q26: 28 | R26: 35 | S26: 25 | T26: 26
B27: C5 | M27: 16 | N27: 13 | O27: 24 | P27: 26 | Q27: 24 | R27: 19 | S27: 25 | T27: 18
B28: C6 | L28: 13
B29: 41°
B30: 42°
B31: 43°
B32: 44°
B33: 45°
B34: Acel
B35: Total | C35: 594 | D35: 748 | E35: 781 | F35: 616 | G35: 639 | H35: 858 | I35: 799 | J35: 779 | K35: 702 | L35: 738 | M35: 743 | N35: 746 | O35: 747 | P35: 782 | Q35: 782 | R35: 788 | S35: 803 | T35: 817
B37: Promoción por año del grado cero a quinto y de sexto a once, análisis de cohortes (%)
C38: 2008 | D38: 2009 | E38: 2010 | F38: 2011 | G38: 2012 | H38: 2013 | I38: 2014 | J38: 2015 | K38: 2016 | L38: 2017 | M38: 2018 | N38: 2019 | O38: 2020 | P38: 2021 | Q38: 2022 | R38: 2023 | S38: 2024
B39: 0° | N39: 54
B40: 1º | O40: =(O9-N8)/N8*100 -> 24.074074
B41: 2º | P41: =(P10-O9)/O9*100 -> 7.4626866
B42: 3º | Q42: =(Q11-P10)/P10*100 -> -9.7222222
B43: 4º | R43: =(R12-Q11)/Q11*100 -> 6.1538462 | T43: 5° VS 0°
B44: 5º | S44: =(S13-R12)/R12*100 -> 5.7971014 | T44: =(S13-N8)/N8*100 -> 35.185185
B45: 6º | N45: 68
B46: 7º | O46: =(O15-N14)/N14*100 -> -7.3529412
B47: 8º | P47: =(P16-O15)/O15*100 -> -9.5238095
B48: 9º | Q48: =(Q17-P16)/P16*100 -> -26.315789
B49: 10º | R49: =(R18-Q17)/Q17*100 -> -30.952381 | T49: 11° VS 6°
B50: 11º | S50: =(S19-R18)/R18*100 -> -6.8965517 | T50: =(S19-N14)/N14*100 -> -60.294118

Sheet LICEO S ANDINO
B1: SECRETARÍA DE EDUCACIÓN MUNICIPAL DE PITALITO
B2: AREA DE COBERTURA - SISTEMA INTEGRADO DE MATRICULAS
B3: MATRICULA OFICIAL I.E MUNICIPAL LICEO SUR ANDINO POR GRADO Y NIVELES
C5: 2008 | D5: 2009 | E5: 2010 | F5: 2011 | G5: 2012 | H5: 2013 | I5: 2014 | J5: 2015 | K5: 2016 | L5: 2017 | M5: 2018 | N5: 2019 | O5: 2020 | P5: 2021 | Q5: 2022 | R5: 2023 | S5: 2024 | T5: 2025 | W5: 2008 | X5: 2009 | Y5: 2010 | Z5: 2011 | AA5: 2012 | AB5: 2013 | AC5: 2014 | AD5: 2015 | AE5: 2016 | AF5: 2017 | AG5: 2018 | AH5: 2019 | AI5: 2020 | AJ5: 2021 | AK5: 2022 | AL5: 2023 | AM5: 2024 | AN5: 2025
B6: Prej | V6: Preescolar | W6: =C8 -> 122 | X6: =D8 -> 156 | Y6: =E8 -> 178 | Z6: =F8 -> 171 | AA6: =G8 -> 176 | AB6: =H8 -> 170 | AC6: =I8 -> 143 | AD6: =J8 -> 141 | ... AN6: =T8 -> 146
B7: Jard | V7: Primaria | W7: =SUM(C9:C13,C34) -> 1114 | X7: =SUM(D9:D13,D34) -> 1135 | Y7: =SUM(E9:E13,E34) -> 1141 | Z7: =SUM(F9:F13,F34) -> 1085 | AA7: =SUM(G9:G13,G34) -> 1148 | AB7: =SUM(H9:H13,H34) -> 1062 | AC7: =SUM(I9:I13,I34) -> 1022 | AD7: =SUM(J9:J13,J34) -> 970 | ... AN7: =SUM(T9:T13,T34) -> 944
B8: 0° | C8: 122 | D8: 156 | E8: 178 | F8: 171 | G8: 176 | H8: 170 | I8: 143 | J8: 141 | K8: 125 | L8: 122 | M8: 101 | N8: 124 | O8: 136 | P8: 130 | Q8: 146 | R8: 166 | S8: 151 | T8: 146 | V8: Secundaria | W8: =SUM(C14:C17) -> 347 | X8: =SUM(D14:D17) -> 559 | Y8: =SUM(E14:E17) -> 687 | Z8: =SUM(F14:F17) -> 734 | AA8: =SUM(G14:G17) -> 743 | AB8: =SUM(H14:H17) -> 710 | AC8: =SUM(I14:I17) -> 695 | AD8: =SUM(J14:J17) -> 763 | ... AN8: =SUM(T14:T17) -> 759
B9: 1º | C9: 184 | D9: 243 | E9: 237 | F9: 197 | G9: 244 | H9: 224 | I9: 201 | J9: 192 | K9: 212 | L9: 186 | M9: 160 | N9: 180 | O9: 215 | P9: 169 | Q9: 207 | R9: 209 | S9: 208 | T9: 177 | V9: Media | W9: =SUM(C18:C19) -> 92 | X9: =SUM(D18:D19) -> 144 | Y9: =SUM(E18:E19) -> 152 | Z9: =SUM(F18:F19) -> 168 | AA9: =SUM(G18:G19) -> 145 | AB9: =SUM(H18:H19) -> 156 | AC9: =SUM(I18:I19) -> 184 | AD9: =SUM(J18:J19) -> 139 | ... AN9: =SUM(T18:T19) -> 218
B10: 2º | C10: 250 | D10: 221 | E10: 231 | F10: 234 | G10: 216 | H10: 191 | I10: 194 | J10: 178 | K10: 164 | L10: 180 | M10: 157 | N10: 159 | O10: 146 | P10: 188 | Q10: 173 | R10: 165 | S10: 188 | T10: 194 | V10: Total (0 a 11) | W10: =SUM(C8:C19,C34) -> 1675 | X10: =SUM(D8:D19,D34) -> 1994 | Y10: =SUM(E8:E19,E34) -> 2158 | Z10: =SUM(F8:F19,F34) -> 2158 | AA10: =SUM(G8:G19,G34) -> 2212 | AB10: =SUM(H8:H19,H34) -> 2098 | AC10: =SUM(I8:I19,I34) -> 2044 | AD10: =SUM(J8:J19,J34) -> 2013 | ... AN10: =SUM(T8:T19,T34) -> 2067
B11: 3º | C11: 241 | D11: 213 | E11: 224 | F11: 230 | G11: 240 | H11: 209 | I11: 187 | J11: 192 | K11: 186 | L11: 175 | M11: 183 | N11: 156 | O11: 203 | P11: 149 | Q11: 159 | R11: 174 | S11: 190 | T11: 185
B12: 4º | C12: 226 | D12: 229 | E12: 207 | F12: 220 | G12: 211 | H12: 231 | I12: 210 | J12: 192 | K12: 216 | L12: 189 | M12: 160 | N12: 193 | O12: 185 | P12: 204 | Q12: 182 | R12: 170 | S12: 207 | T12: 193 | V12: Matrícula por Nivel Educativo del Grado Cero a Once
B13: 5º | C13: 213 | D13: 229 | E13: 242 | F13: 204 | G13: 237 | H13: 207 | I13: 230 | J13: 216 | K13: 209 | L13: 194 | M13: 187 | N13: 189 | O13: 205 | P13: 196 | Q13: 199 | R13: 187 | S13: 191 | T13: 195
B14: 6º | C14: 135 | D14: 230 | E14: 252 | F14: 261 | G14: 255 | H14: 247 | I14: 258 | J14: 273 | K14: 282 | L14: 272 | M14: 221 | N14: 240 | O14: 259 | P14: 240 | Q14: 281 | R14: 221 | S14: 249 | T14: 232
B15: 7º | C15: 89 | D15: 162 | E15: 197 | F15: 183 | G15: 186 | H15: 195 | I15: 179 | J15: 209 | K15: 191 | L15: 204 | M15: 180 | N15: 210 | O15: 194 | P15: 199 | Q15: 175 | R15: 202 | S15: 207 | T15: 178 | W15: 2008 | X15: 2009 | Y15: 2010 | Z15: 2011 | AA15: 2012 | AB15: 2013 | AC15: 2014 | AD15: 2015 | AE15: 2016 | AF15: 2017 | AG15: 2018 | AH15: 2019 | AI15: 2020 | AJ15: 2021 | AK15: 2022 | AL15: 2023 | AM15: 2024 | AN15: 2025
B16: 8º | C16: 71 | D16: 89 | E16: 143 | F16: 180 | G16: 167 | H16: 147 | I16: 169 | J16: 161 | K16: 141 | L16: 163 | M16: 161 | N16: 163 | O16: 173 | P16: 158 | Q16: 173 | R16: 176 | S16: 191 | T16: 204 | V16: Preescolar | X16: =(X6-W6)/W6*100 -> 27.868852 | Y16: =(Y6-X6)/X6*100 -> 14.102564 | Z16: =(Z6-Y6)/Y6*100 -> -3.9325843 | AA16: =(AA6-Z6)/Z6*100 -> 2.9239766 | AB16: =(AB6-AA6)/AA6*100 -> -3.4090909 | AC16: =(AC6-AB6)/AB6*100 -> -15.882353 | AD16: =(AD6-AC6)/AC6*100 -> -1.3986014 | AE16: =(AE6-AD6)/AD6*100 -> -11.347518 | ... AN16: =(AN6-AM6)/AM6*100 -> -3.3112583
B17: 9º | C17: 52 | D17: 78 | E17: 95 | F17: 110 | G17: 135 | H17: 121 | I17: 89 | J17: 120 | K17: 126 | L17: 119 | M17: 118 | N17: 136 | O17: 132 | P17: 126 | Q17: 123 | R17: 144 | S17: 154 | T17: 145 | V17: Primaria | X17: =(X7-W7)/W7*100 -> 1.8850987 | Y17: =(Y7-X7)/X7*100 -> 0.52863436 | Z17: =(Z7-Y7)/Y7*100 -> -4.9079755 | AA17: =(AA7-Z7)/Z7*100 -> 5.8064516 | AB17: =(AB7-AA7)/AA7*100 -> -7.4912892 | AC17: =(AC7-AB7)/AB7*100 -> -3.7664783 | AD17: =(AD7-AC7)/AC7*100 -> -5.0880626 | AE17: =(AE7-AD7)/AD7*100 -> 1.7525773 | ... AN17: =(AN7-AM7)/AM7*100 -> -4.0650407
B18: 10º | C18: 92 | D18: 64 | E18: 88 | F18: 88 | G18: 85 | H18: 93 | I18: 122 | J18: 75 | K18: 93 | L18: 103 | M18: 99 | N18: 97 | O18: 109 | P18: 122 | Q18: 101 | R18: 88 | S18: 115 | T18: 124 | V18: Secundaria | X18: =(X8-W8)/W8*100 -> 61.095101 | Y18: =(Y8-X8)/X8*100 -> 22.898032 | Z18: =(Z8-Y8)/Y8*100 -> 6.8413392 | AA18: =(AA8-Z8)/Z8*100 -> 1.226158 | AB18: =(AB8-AA8)/AA8*100 -> -4.4414536 | AC18: =(AC8-AB8)/AB8*100 -> -2.1126761 | AD18: =(AD8-AC8)/AC8*100 -> 9.7841727 | AE18: =(AE8-AD8)/AD8*100 -> -3.0144168 | ... AN18: =(AN8-AM8)/AM8*100 -> -5.2434457
B19: 11º | D19: 80 | E19: 64 | F19: 80 | G19: 60 | H19: 63 | I19: 62 | J19: 64 | K19: 51 | L19: 53 | M19: 78 | N19: 53 | O19: 72 | P19: 78 | Q19: 73 | R19: 65 | S19: 61 | T19: 94 | V19: Media | X19: =(X9-W9)/W9*100 -> 56.521739 | Y19: =(Y9-X9)/X9*100 -> 5.5555556 | Z19: =(Z9-Y9)/Y9*100 -> 10.526316 | AA19: =(AA9-Z9)/Z9*100 -> -13.690476 | AB19: =(AB9-AA9)/AA9*100 -> 7.5862069 | AC19: =(AC9-AB9)/AB9*100 -> 17.948718 | AD19: =(AD9-AC9)/AC9*100 -> -24.456522 | AE19: =(AE9-AD9)/AD9*100 -> 3.5971223 | ... AN19: =(AN9-AM9)/AM9*100 -> 23.863636
B20: 12° | V20: Total (0 a 11) | X20: =(X10-W10)/W10*100 -> 19.044776 | Y20: =(Y10-X10)/X10*100 -> 8.224674 | Z20: =(Z10-Y10)/Y10*100 -> 0 | AA20: =(AA10-Z10)/Z10*100 -> 2.502317 | AB20: =(AB10-AA10)/AA10*100 -> -5.1537071 | AC20: =(AC10-AB10)/AB10*100 -> -2.5738799 | AD20: =(AD10-AC10)/AC10*100 -> -1.5166341 | AE20: =(AE10-AD10)/AD10*100 -> -0.84451068 | ... AN20: =(AN10-AM10)/AM10*100 -> -2.1306818
B21: 13°
B22: C0 | H22: 107 | V22: Tasa de aumento o disminución de la matrícula por nivel y año
B23: C1 | C23: 24 | F23: 11 | G23: 3 | I23: 541 | J23: 558 | Q23: 22
B24: C2 | C24: 55 | D24: 39 | E24: 29 | F24: 21 | G24: 21 | H24: 18 | I24: 68 | J24: 17 | K24: 17 | L24: 4 | M24: 15
B25: C3 | F25: 40 | G25: 87 | H25: 85 | I25: 327 | J25: 174 | K25: 78 | L25: 57 | M25: 87 | N25: 73 | O25: 85 | P25: 40 | Q25: 38 | R25: 29 | S25: 21 | T25: 21
B26: C4 | F26: 32 | G26: 46 | H26: 75 | I26: 83 | J26: 59 | K26: 96 | L26: 59 | M26: 72 | N26: 84 | O26: 83 | P26: 42 | Q26: 42 | R26: 39 | S26: 41 | T26: 32
B27: C5 | F27: 20 | G27: 35 | H27: 49 | I27: 30 | J27: 52 | K27: 43 | L27: 43 | M27: 44 | N27: 48 | O27: 43 | P27: 43 | Q27: 35 | R27: 36 | S27: 36 | T27: 28
B28: C6 | I28: 62 | J28: 18 | K28: 28 | L28: 44 | M28: 22 | N28: 27 | O28: 28
B29: 41°
B30: 42°
B31: 43°
B32: 44°
B33: 45°
B34: Acel
B35: Total | C35: 1754 | D35: 2033 | E35: 2187 | F35: 2282 | G35: 2404 | H35: 2432 | I35: 3155 | J35: 2891 | K35: 2258 | L35: 2167 | M35: 2045 | N35: 2132 | O35: 2268 | P35: 2084 | Q35: 2129 | R35: 2071 | S35: 2210 | T35: 2148
B37: Promoción por año del grado cero a quinto y de sexto a once, análisis de cohortes (%)
C38: 2008 | D38: 2009 | E38: 2010 | F38: 2011 | G38: 2012 | H38: 2013 | I38: 2014 | J38: 2015 | K38: 2016 | L38: 2017 | M38: 2018 | N38: 2019 | O38: 2020 | P38: 2021 | Q38: 2022 | R38: 2023 | S38: 2024
B39: 0° | N39: 124
B40: 1º | O40: =(O9-N8)/N8*100 -> 73.387097
B41: 2º | P41: =(P10-O9)/O9*100 -> -12.55814
B42: 3º | Q42: =(Q11-P10)/P10*100 -> -15.425532
B43: 4º | R43: =(R12-Q11)/Q11*100 -> 6.918239 | T43: 5° VS 0°
B44: 5º | S44: =(S13-R12)/R12*100 -> 12.352941 | T44: =(S13-N8)/N8*100 -> 54.032258
B45: 6º | N45: 240
B46: 7º | O46: =(O15-N14)/N14*100 -> -19.166667
B47: 8º | P47: =(P16-O15)/O15*100 -> -18.556701
B48: 9º | Q48: =(Q17-P16)/P16*100 -> -22.151899
B49: 10º | R49: =(R18-Q17)/Q17*100 -> -28.455285 | T49: 11° VS 6°
B50: 11º | S50: =(S19-R18)/R18*100 -> -30.681818 | T50: =(S19-N14)/N14*100 -> -74.583333

Sheet MONTESSORI
B1: SECRETARÍA DE EDUCACIÓN MUNICIPAL DE PITALITO
B2: AREA DE COBERTURA - SISTEMA INTEGRADO DE MATRICULAS
B3: MATRICULA OFICIAL I.E MUNICIPAL MONTESSORI POR GRADO Y NIVELES
C5: 2008 | D5: 2009 | E5: 2010 | F5: 2011 | G5: 2012 | H5: 2013 | I5: 2014 | J5: 2015 | K5: 2016 | L5: 2017 | M5: 2018 | N5: 2019 | O5: 2020 | P5: 2021 | Q5: 2022 | R5: 2023 | S5: 2024 | T5: 2025 | W5: 2008 | X5: 2009 | Y5: 2010 | Z5: 2011 | AA5: 2012 | AB5: 2013 | AC5: 2014 | AD5: 2015 | AE5: 2016 | AF5: 2017 | AG5: 2018 | AH5: 2019 | AI5: 2020 | AJ5: 2021 | AK5: 2022 | AL5: 2023 | AM5: 2024 | AN5: 2025
B6: Prej | V6: Preescolar | W6: =C8 -> 245 | X6: =D8 -> 221 | Y6: =E8 -> 225 | Z6: =F8 -> 271 | AA6: =G8 -> 262 | AB6: =H8 -> 243 | AC6: =I8 -> 241 | AD6: =J8 -> 226 | ... AN6: =T8 -> 221
B7: Jard | T7: 16 | V7: Primaria | W7: =SUM(C9:C13,C34) -> 1709 | X7: =SUM(D9:D13,D34) -> 1690 | Y7: =SUM(E9:E13,E34) -> 1663 | Z7: =SUM(F9:F13,F34) -> 1618 | AA7: =SUM(G9:G13,G34) -> 1668 | AB7: =SUM(H9:H13,H34) -> 1768 | AC7: =SUM(I9:I13,I34) -> 1735 | AD7: =SUM(J9:J13,J34) -> 1730 | ... AN7: =SUM(T9:T13,T34) -> 1643
B8: 0° | C8: 245 | D8: 221 | E8: 225 | F8: 271 | G8: 262 | H8: 243 | I8: 241 | J8: 226 | K8: 242 | L8: 240 | M8: 251 | N8: 292 | O8: 240 | P8: 213 | Q8: 258 | R8: 305 | S8: 262 | T8: 221 | V8: Secundaria | W8: =SUM(C14:C17) -> 878 | X8: =SUM(D14:D17) -> 803 | Y8: =SUM(E14:E17) -> 1000 | Z8: =SUM(F14:F17) -> 1008 | AA8: =SUM(G14:G17) -> 1070 | AB8: =SUM(H14:H17) -> 1086 | AC8: =SUM(I14:I17) -> 1052 | AD8: =SUM(J14:J17) -> 1050 | ... AN8: =SUM(T14:T17) -> 1054
B9: 1º | C9: 350 | D9: 387 | E9: 393 | F9: 356 | G9: 372 | H9: 396 | I9: 370 | J9: 387 | K9: 315 | L9: 336 | M9: 331 | N9: 365 | O9: 388 | P9: 335 | Q9: 299 | R9: 320 | S9: 403 | T9: 369 | V9: Media | W9: =SUM(C18:C19) -> 234 | X9: =SUM(D18:D19) -> 219 | Y9: =SUM(E18:E19) -> 236 | Z9: =SUM(F18:F19) -> 184 | AA9: =SUM(G18:G19) -> 212 | AB9: =SUM(H18:H19) -> 235 | AC9: =SUM(I18:I19) -> 221 | AD9: =SUM(J18:J19) -> 249 | ... AN9: =SUM(T18:T19) -> 336
B10: 2º | C10: 315 | D10: 306 | E10: 323 | F10: 331 | G10: 323 | H10: 346 | I10: 321 | J10: 330 | K10: 349 | L10: 277 | M10: 290 | N10: 305 | O10: 330 | P10: 350 | Q10: 296 | R10: 282 | S10: 315 | T10: 344 | V10: Total (0 a 11) | W10: =SUM(C8:C19,C34) -> 3066 | X10: =SUM(D8:D19,D34) -> 2933 | Y10: =SUM(E8:E19,E34) -> 3124 | Z10: =SUM(F8:F19,F34) -> 3081 | AA10: =SUM(G8:G19,G34) -> 3212 | AB10: =SUM(H8:H19,H34) -> 3332 | AC10: =SUM(I8:I19,I34) -> 3249 | AD10: =SUM(J8:J19,J34) -> 3255 | ... AN10: =SUM(T8:T19,T34) -> 3254
B11: 3º | C11: 327 | D11: 337 | E11: 312 | F11: 351 | G11: 331 | H11: 350 | I11: 362 | J11: 334 | K11: 344 | L11: 345 | M11: 265 | N11: 300 | O11: 283 | P11: 353 | Q11: 344 | R11: 286 | S11: 279 | T11: 321
B12: 4º | C12: 322 | D12: 332 | E12: 335 | F12: 296 | G12: 353 | H12: 341 | I12: 335 | J12: 352 | K12: 322 | L12: 347 | M12: 363 | N12: 280 | O12: 298 | P12: 305 | Q12: 325 | R12: 318 | S12: 299 | T12: 299 | V12: Matrícula por Nivel Educativo del Grado Cero a Once
B13: 5º | C13: 343 | D13: 328 | E13: 300 | F13: 284 | G13: 289 | H13: 335 | I13: 347 | J13: 327 | K13: 355 | L13: 304 | M13: 319 | N13: 313 | O13: 256 | P13: 302 | Q13: 311 | R13: 303 | S13: 298 | T13: 310
B14: 6º | C14: 269 | D14: 278 | E14: 362 | F14: 311 | G14: 368 | H14: 375 | I14: 407 | J14: 373 | K14: 315 | L14: 332 | M14: 354 | N14: 340 | O14: 288 | P14: 244 | Q14: 250 | R14: 261 | S14: 303 | T14: 322
B15: 7º | C15: 264 | D15: 198 | E15: 276 | F15: 306 | G15: 277 | H15: 301 | I15: 277 | J15: 283 | K15: 289 | L15: 227 | M15: 202 | N15: 231 | O15: 263 | P15: 263 | Q15: 215 | R15: 226 | S15: 271 | T15: 285 | W15: 2008 | X15: 2009 | Y15: 2010 | Z15: 2011 | AA15: 2012 | AB15: 2013 | AC15: 2014 | AD15: 2015 | AE15: 2016 | AF15: 2017 | AG15: 2018 | AH15: 2019 | AI15: 2020 | AJ15: 2021 | AK15: 2022 | AL15: 2023 | AM15: 2024 | AN15: 2025
B16: 8º | C16: 189 | D16: 196 | E16: 202 | F16: 260 | G16: 249 | H16: 219 | I16: 200 | J16: 241 | K16: 254 | L16: 243 | M16: 224 | N16: 224 | O16: 202 | P16: 247 | Q16: 229 | R16: 208 | S16: 225 | T16: 237 | V16: Preescolar | X16: =(X6-W6)/W6*100 -> -9.7959184 | Y16: =(Y6-X6)/X6*100 -> 1.8099548 | Z16: =(Z6-Y6)/Y6*100 -> 20.444444 | AA16: =(AA6-Z6)/Z6*100 -> -3.3210332 | AB16: =(AB6-AA6)/AA6*100 -> -7.2519084 | AC16: =(AC6-AB6)/AB6*100 -> -0.82304527 | AD16: =(AD6-AC6)/AC6*100 -> -6.2240664 | AE16: =(AE6-AD6)/AD6*100 -> 7.079646 | ... AN16: =(AN6-AM6)/AM6*100 -> -15.648855
B17: 9º | C17: 156 | D17: 131 | E17: 160 | F17: 131 | G17: 176 | H17: 191 | I17: 168 | J17: 153 | K17: 171 | L17: 186 | M17: 161 | N17: 168 | O17: 187 | P17: 189 | Q17: 198 | R17: 205 | S17: 183 | T17: 210 | V17: Primaria | X17: =(X7-W7)/W7*100 -> -1.1117613 | Y17: =(Y7-X7)/X7*100 -> -1.5976331 | Z17: =(Z7-Y7)/Y7*100 -> -2.7059531 | AA17: =(AA7-Z7)/Z7*100 -> 3.0902349 | AB17: =(AB7-AA7)/AA7*100 -> 5.9952038 | AC17: =(AC7-AB7)/AB7*100 -> -1.8665158 | AD17: =(AD7-AC7)/AC7*100 -> -0.28818444 | AE17: =(AE7-AD7)/AD7*100 -> -2.6011561 | ... AN17: =(AN7-AM7)/AM7*100 -> 3.0740276
B18: 10º | C18: 132 | D18: 116 | E18: 134 | F18: 119 | G18: 144 | H18: 156 | I18: 135 | J18: 132 | K18: 102 | L18: 115 | M18: 151 | N18: 170 | O18: 160 | P18: 170 | Q18: 161 | R18: 175 | S18: 181 | T18: 164 | V18: Secundaria | X18: =(X8-W8)/W8*100 -> -8.5421412 | Y18: =(Y8-X8)/X8*100 -> 24.533001 | Z18: =(Z8-Y8)/Y8*100 -> 0.8 | AA18: =(AA8-Z8)/Z8*100 -> 6.1507937 | AB18: =(AB8-AA8)/AA8*100 -> 1.4953271 | AC18: =(AC8-AB8)/AB8*100 -> -3.1307551 | AD18: =(AD8-AC8)/AC8*100 -> -0.19011407 | AE18: =(AE8-AD8)/AD8*100 -> -2 | ... AN18: =(AN8-AM8)/AM8*100 -> 7.3319756
B19: 11º | C19: 102 | D19: 103 | E19: 102 | F19: 65 | G19: 68 | H19: 79 | I19: 86 | J19: 117 | K19: 94 | L19: 91 | M19: 100 | N19: 109 | O19: 138 | P19: 130 | Q19: 145 | R19: 136 | S19: 151 | T19: 172 | V19: Media | X19: =(X9-W9)/W9*100 -> -6.4102564 | Y19: =(Y9-X9)/X9*100 -> 7.7625571 | Z19: =(Z9-Y9)/Y9*100 -> -22.033898 | AA19: =(AA9-Z9)/Z9*100 -> 15.217391 | AB19: =(AB9-AA9)/AA9*100 -> 10.849057 | AC19: =(AC9-AB9)/AB9*100 -> -5.9574468 | AD19: =(AD9-AC9)/AC9*100 -> 12.669683 | AE19: =(AE9-AD9)/AD9*100 -> -21.285141 | ... AN19: =(AN9-AM9)/AM9*100 -> 1.2048193
B20: 12° | V20: Total (0 a 11) | X20: =(X10-W10)/W10*100 -> -4.3378995 | Y20: =(Y10-X10)/X10*100 -> 6.5121036 | Z20: =(Z10-Y10)/Y10*100 -> -1.3764405 | AA20: =(AA10-Z10)/Z10*100 -> 4.2518663 | AB20: =(AB10-AA10)/AA10*100 -> 3.73599 | AC20: =(AC10-AB10)/AB10*100 -> -2.4909964 | AD20: =(AD10-AC10)/AC10*100 -> 0.18467221 | AE20: =(AE10-AD10)/AD10*100 -> -3.1643625 | ... AN20: =(AN10-AM10)/AM10*100 -> 2.6498423
B21: 13°
B22: C0 | H22: 693 | V22: Tasa de aumento o disminución de la matrícula por nivel y año
B23: C1 | C23: 66 | D23: 45 | E23: 40 | F23: 56 | G23: 43 | H23: 22 | I23: 61 | J23: 60 | K23: 21 | L23: 21 | M23: 35 | P23: 60 | Q23: 24 | R23: 14 | S23: 26 | T23: 17
B24: C2 | C24: 83 | D24: 47 | E24: 52 | F24: 29 | G24: 47 | H24: 261 | I24: 188 | J24: 33 | K24: 34 | L24: 34 | M24: 40 | P24: 30 | Q24: 51 | R24: 25 | S24: 33 | T24: 26
B25: C3 | C25: 54 | D25: 23 | E25: 36 | F25: 44 | G25: 26 | H25: 43 | I25: 160 | J25: 105 | K25: 76 | L25: 107 | M25: 82 | P25: 45 | Q25: 25 | R25: 54 | S25: 52 | T25: 27
B26: C4 | D26: 25 | E26: 17 | F26: 23 | G26: 30 | H26: 24 | I26: 27 | J26: 20 | K26: 85 | L26: 71 | M26: 66 | N26: 77 | P26: 33 | Q26: 20 | R26: 29 | S26: 47 | T26: 30
B27: C5 | F27: 34 | G27: 17 | H27: 17 | I27: 20 | J27: 15 | K27: 20 | L27: 42 | M27: 33 | N27: 50 | P27: 18 | Q27: 17 | R27: 19 | S27: 33 | T27: 26
B28: C6 | L28: 32 | M28: 20 | N28: 25
B29: 41°
B30: 42°
B31: 43°
B32: 44°
B33: 45°
B34: Acel | C34: 52
B35: Total | C35: 3269 | D35: 3073 | E35: 3269 | F35: 3267 | G35: 3375 | H35: 4392 | I35: 3705 | J35: 3488 | K35: 3388 | L35: 3350 | M35: 3287 | N35: 3249 | O35: 3033 | P35: 3287 | Q35: 3168 | R35: 3166 | S35: 3361 | T35: 3396
B37: Promoción por año del grado cero a quinto y de sexto a once, análisis de cohortes (%)
C38: 2008 | D38: 2009 | E38: 2010 | F38: 2011 | G38: 2012 | H38: 2013 | I38: 2014 | J38: 2015 | K38: 2016 | L38: 2017 | M38: 2018 | N38: 2019 | O38: 2020 | P38: 2021 | Q38: 2022 | R38: 2023 | S38: 2024
B39: 0° | N39: 292
B40: 1º | O40: =(O9-N8)/N8*100 -> 32.876712
B41: 2º | P41: =(P10-O9)/O9*100 -> -9.7938144
B42: 3º | Q42: =(Q11-P10)/P10*100 -> -1.7142857
B43: 4º | R43: =(R12-Q11)/Q11*100 -> -7.5581395 | T43: 5° VS 0°
B44: 5º | S44: =(S13-R12)/R12*100 -> -6.2893082 | T44: =(S13-N8)/N8*100 -> 2.0547945
B45: 6º | N45: 340
B46: 7º | O46: =(O15-N14)/N14*100 -> -22.647059
B47: 8º | P47: =(P16-O15)/O15*100 -> -6.0836502
B48: 9º | Q48: =(Q17-P16)/P16*100 -> -19.838057
B49: 10º | R49: =(R18-Q17)/Q17*100 -> -11.616162 | T49: 11° VS 6°
B50: 11º | S50: =(S19-R18)/R18*100 -> -13.714286 | T50: =(S19-N14)/N14*100 -> -55.588235

Sheet NACIONAL
B1: SECRETARÍA DE EDUCACIÓN MUNICIPAL DE PITALITO
B2: AREA DE COBERTURA - SISTEMA INTEGRADO DE MATRICULAS
B3: MATRICULA OFICIAL I.E MUNICIPAL NACIONAL POR GRADO Y NIVELES
C5: 2008 | D5: 2009 | E5: 2010 | F5: 2011 | G5: 2012 | H5: 2013 | I5: 2014 | J5: 2015 | K5: 2016 | L5: 2017 | M5: 2018 | N5: 2019 | O5: 2020 | P5: 2021 | Q5: 2022 | R5: 2023 | S5: 2024 | T5: 2025 | W5: 2008 | X5: 2009 | Y5: 2010 | Z5: 2011 | AA5: 2012 | AB5: 2013 | AC5: 2014 | AD5: 2015 | AE5: 2016 | AF5: 2017 | AG5: 2018 | AH5: 2019 | AI5: 2020 | AJ5: 2021 | AK5: 2022 | AL5: 2023 | AM5: 2024 | AN5: 2025
B6: Prej | V6: Preescolar | W6: =C8 -> 275 | X6: =D8 -> 228 | Y6: =E8 -> 226 | Z6: =F8 -> 238 | AA6: =G8 -> 256 | AB6: =H8 -> 235 | AC6: =I8 -> 243 | AD6: =J8 -> 238 | ... AN6: =T8 -> 318
B7: Jard | V7: Primaria | W7: =SUM(C9:C13,C34) -> 1755 | X7: =SUM(D9:D13,D34) -> 1739 | Y7: =SUM(E9:E13,E34) -> 1780 | Z7: =SUM(F9:F13,F34) -> 1795 | AA7: =SUM(G9:G13,G34) -> 1747 | AB7: =SUM(H9:H13,H34) -> 1762 | AC7: =SUM(I9:I13,I34) -> 1752 | AD7: =SUM(J9:J13,J34) -> 1768 | ... AN7: =SUM(T9:T13,T34) -> 1849
B8: 0° | C8: 275 | D8: 228 | E8: 226 | F8: 238 | G8: 256 | H8: 235 | I8: 243 | J8: 238 | K8: 229 | L8: 245 | M8: 236 | N8: 270 | O8: 316 | P8: 313 | Q8: 304 | R8: 319 | S8: 330 | T8: 318 | V8: Secundaria | W8: =SUM(C14:C17) -> 1344 | X8: =SUM(D14:D17) -> 1423 | Y8: =SUM(E14:E17) -> 1528 | Z8: =SUM(F14:F17) -> 1586 | AA8: =SUM(G14:G17) -> 1505 | AB8: =SUM(H14:H17) -> 1471 | AC8: =SUM(I14:I17) -> 1570 | AD8: =SUM(J14:J17) -> 1438 | ... AN8: =SUM(T14:T17) -> 1314
B9: 1º | C9: 368 | D9: 370 | E9: 341 | F9: 338 | G9: 328 | H9: 371 | I9: 373 | J9: 374 | K9: 337 | L9: 316 | M9: 330 | N9: 309 | O9: 344 | P9: 432 | Q9: 406 | R9: 386 | S9: 358 | T9: 373 | V9: Media | W9: =SUM(C18:C19) -> 408 | X9: =SUM(D18:D19) -> 459 | Y9: =SUM(E18:E19) -> 514 | Z9: =SUM(F18:F19) -> 523 | AA9: =SUM(G18:G19) -> 492 | AB9: =SUM(H18:H19) -> 488 | AC9: =SUM(I18:I19) -> 450 | AD9: =SUM(J18:J19) -> 440 | ... AN9: =SUM(T18:T19) -> 366
B10: 2º | C10: 357 | D10: 326 | E10: 376 | F10: 354 | G10: 347 | H10: 319 | I10: 368 | J10: 348 | K10: 331 | L10: 293 | M10: 309 | N10: 328 | O10: 318 | P10: 289 | Q10: 356 | R10: 371 | S10: 352 | T10: 332 | V10: Total (0 a 11) | W10: =SUM(C8:C19,C34) -> 3782 | X10: =SUM(D8:D19,D34) -> 3849 | Y10: =SUM(E8:E19,E34) -> 4048 | Z10: =SUM(F8:F19,F34) -> 4142 | AA10: =SUM(G8:G19,G34) -> 4000 | AB10: =SUM(H8:H19,H34) -> 3956 | AC10: =SUM(I8:I19,I34) -> 4015 | AD10: =SUM(J8:J19,J34) -> 3884 | ... AN10: =SUM(T8:T19,T34) -> 3847
B11: 3º | C11: 341 | D11: 355 | E11: 336 | F11: 384 | G11: 345 | H11: 325 | I11: 329 | J11: 378 | K11: 363 | L11: 369 | M11: 304 | N11: 326 | O11: 331 | P11: 334 | Q11: 280 | R11: 386 | S11: 352 | T11: 388
B12: 4º | C12: 328 | D12: 343 | E12: 375 | F12: 345 | G12: 379 | H12: 330 | I12: 345 | J12: 326 | K12: 363 | L12: 349 | M12: 369 | N12: 316 | O12: 359 | P12: 337 | Q12: 311 | R12: 294 | S12: 383 | T12: 369 | V12: Matrícula por Nivel Educativo del Grado Cero a Once
B13: 5º | C13: 361 | D13: 345 | E13: 352 | F13: 374 | G13: 348 | H13: 417 | I13: 337 | J13: 342 | K13: 329 | L13: 363 | M13: 360 | N13: 366 | O13: 357 | P13: 356 | Q13: 325 | R13: 331 | S13: 302 | T13: 387
B14: 6º | C14: 440 | D14: 411 | E14: 438 | F14: 530 | G14: 502 | H14: 479 | I14: 545 | J14: 461 | K14: 517 | L14: 536 | M14: 519 | N14: 506 | O14: 513 | P14: 427 | Q14: 403 | R14: 438 | S14: 457 | T14: 418
B15: 7º | C15: 330 | D15: 400 | E15: 429 | F15: 386 | G15: 420 | H15: 373 | I15: 393 | J15: 404 | K15: 362 | L15: 406 | M15: 404 | N15: 366 | O15: 351 | P15: 396 | Q15: 343 | R15: 375 | S15: 299 | T15: 398 | W15: 2008 | X15: 2009 | Y15: 2010 | Z15: 2011 | AA15: 2012 | AB15: 2013 | AC15: 2014 | AD15: 2015 | AE15: 2016 | AF15: 2017 | AG15: 2018 | AH15: 2019 | AI15: 2020 | AJ15: 2021 | AK15: 2022 | AL15: 2023 | AM15: 2024 | AN15: 2025
B16: 8º | C16: 325 | D16: 311 | E16: 365 | F16: 361 | G16: 295 | H16: 325 | I16: 329 | J16: 296 | K16: 349 | L16: 335 | M16: 328 | N16: 354 | O16: 306 | P16: 327 | Q16: 353 | R16: 269 | S16: 251 | T16: 278 | V16: Preescolar | X16: =(X6-W6)/W6*100 -> -17.090909 | Y16: =(Y6-X6)/X6*100 -> -0.87719298 | Z16: =(Z6-Y6)/Y6*100 -> 5.3097345 | AA16: =(AA6-Z6)/Z6*100 -> 7.5630252 | AB16: =(AB6-AA6)/AA6*100 -> -8.203125 | AC16: =(AC6-AB6)/AB6*100 -> 3.4042553 | AD16: =(AD6-AC6)/AC6*100 -> -2.0576132 | AE16: =(AE6-AD6)/AD6*100 -> -3.7815126 | ... AN16: =(AN6-AM6)/AM6*100 -> -3.6363636
B17: 9º | C17: 249 | D17: 301 | E17: 296 | F17: 309 | G17: 288 | H17: 294 | I17: 303 | J17: 277 | K17: 248 | L17: 294 | M17: 331 | N17: 327 | O17: 304 | P17: 302 | Q17: 288 | R17: 311 | S17: 260 | T17: 220 | V17: Primaria | X17: =(X7-W7)/W7*100 -> -0.91168091 | Y17: =(Y7-X7)/X7*100 -> 2.3576768 | Z17: =(Z7-Y7)/Y7*100 -> 0.84269663 | AA17: =(AA7-Z7)/Z7*100 -> -2.6740947 | AB17: =(AB7-AA7)/AA7*100 -> 0.85861477 | AC17: =(AC7-AB7)/AB7*100 -> -0.56753689 | AD17: =(AD7-AC7)/AC7*100 -> 0.91324201 | AE17: =(AE7-AD7)/AD7*100 -> -2.5452489 | ... AN17: =(AN7-AM7)/AM7*100 -> 4.8185941
B18: 10º | C18: 232 | D18: 252 | E18: 335 | F18: 299 | G18: 325 | H18: 281 | I18: 275 | J18: 244 | K18: 254 | L18: 252 | M18: 248 | N18: 210 | O18: 238 | P18: 266 | Q18: 299 | R18: 242 | S18: 220 | T18: 214 | V18: Secundaria | X18: =(X8-W8)/W8*100 -> 5.8779762 | Y18: =(Y8-X8)/X8*100 -> 7.3787772 | Z18: =(Z8-Y8)/Y8*100 -> 3.7958115 | AA18: =(AA8-Z8)/Z8*100 -> -5.1071879 | AB18: =(AB8-AA8)/AA8*100 -> -2.2591362 | AC18: =(AC8-AB8)/AB8*100 -> 6.7301156 | AD18: =(AD8-AC8)/AC8*100 -> -8.4076433 | AE18: =(AE8-AD8)/AD8*100 -> 2.6425591 | ... AN18: =(AN8-AM8)/AM8*100 -> 3.7095501
B19: 11º | C19: 176 | D19: 207 | E19: 179 | F19: 224 | G19: 167 | H19: 207 | I19: 175 | J19: 196 | K19: 193 | L19: 167 | M19: 199 | N19: 193 | O19: 164 | P19: 206 | Q19: 194 | R19: 178 | S19: 173 | T19: 152 | V19: Media | X19: =(X9-W9)/W9*100 -> 12.5 | Y19: =(Y9-X9)/X9*100 -> 11.982571 | Z19: =(Z9-Y9)/Y9*100 -> 1.7509728 | AA19: =(AA9-Z9)/Z9*100 -> -5.9273423 | AB19: =(AB9-AA9)/AA9*100 -> -0.81300813 | AC19: =(AC9-AB9)/AB9*100 -> -7.7868852 | AD19: =(AD9-AC9)/AC9*100 -> -2.2222222 | AE19: =(AE9-AD9)/AD9*100 -> 1.5909091 | ... AN19: =(AN9-AM9)/AM9*100 -> -6.870229
B20: 12° | V20: Total (0 a 11) | X20: =(X10-W10)/W10*100 -> 1.7715494 | Y20: =(Y10-X10)/X10*100 -> 5.1701741 | Z20: =(Z10-Y10)/Y10*100 -> 2.3221344 | AA20: =(AA10-Z10)/Z10*100 -> -3.4282955 | AB20: =(AB10-AA10)/AA10*100 -> -1.1 | AC20: =(AC10-AB10)/AB10*100 -> 1.4914055 | AD20: =(AD10-AC10)/AC10*100 -> -3.2627646 | AE20: =(AE10-AD10)/AD10*100 -> -0.23171988 | ... AN20: =(AN10-AM10)/AM10*100 -> 2.4773575
B21: 13°
B22: C0 | V22: Tasa de aumento o disminución de la matrícula por nivel y año
B23: C1 | C23: 74 | D23: 101 | E23: 53 | F23: 42 | G23: 12 | Q23: 22
B24: C2 | C24: 149 | D24: 114 | E24: 209 | F24: 45 | G24: 43 | H24: 54 | I24: 28 | J24: 36 | K24: 15 | L24: 16 | M24: 20 | N24: 27 | O24: 31 | P24: 18 | Q24: 35 | R24: 23 | S24: 15 | T24: 36
B25: C3 | C25: 294 | D25: 273 | E25: 244 | F25: 243 | G25: 230 | H25: 177 | I25: 72 | J25: 84 | K25: 59 | L25: 70 | M25: 93 | N25: 75 | O25: 89 | P25: 54 | Q25: 108 | R25: 51 | S25: 36 | T25: 36
B26: C4 | C26: 114 | D26: 257 | E26: 306 | F26: 267 | G26: 257 | H26: 256 | I26: 118 | J26: 155 | K26: 86 | L26: 73 | M26: 92 | N26: 95 | O26: 113 | P26: 60 | Q26: 105 | R26: 69 | S26: 62 | T26: 56
B27: C5 | C27: 46 | D27: 99 | E27: 223 | F27: 262 | G27: 174 | H27: 159 | I27: 90 | J27: 89 | K27: 62 | L27: 57 | M27: 81 | N27: 95 | O27: 83 | P27: 62 | Q27: 71 | R27: 78 | S27: 66
B28: C6 | E28: 1 | F28: 28 | G28: 40 | H28: 52 | I28: 123 | J28: 50 | K28: 33 | L28: 18 | M28: 16 | N28: 19 | O28: 22 | P28: 14 | Q28: 10
B29: 41°
B30: 42°
B31: 43°
B32: 44°
B33: 45°
B34: Acel | N34: 25 | O34: 25 | P34: 21 | Q34: 21 | R34: 20 | S34: 17
B35: Total | C35: 4459 | D35: 4693 | E35: 5084 | F35: 5029 | G35: 4756 | H35: 4654 | I35: 4446 | J35: 4298 | K35: 4130 | L35: 4159 | M35: 4239 | N35: 4207 | O35: 4264 | P35: 4214 | Q35: 4234 | R35: 4141 | S35: 3933 | T35: 3975
B37: Promoción por año del grado cero a quinto y de sexto a once, análisis de cohortes (%)
C38: 2008 | D38: 2009 | E38: 2010 | F38: 2011 | G38: 2012 | H38: 2013 | I38: 2014 | J38: 2015 | K38: 2016 | L38: 2017 | M38: 2018 | N38: 2019 | O38: 2020 | P38: 2021 | Q38: 2022 | R38: 2023 | S38: 2024
B39: 0° | N39: 270
B40: 1º | O40: =(O9-N8)/N8*100 -> 27.407407
B41: 2º | P41: =(P10-O9)/O9*100 -> -15.988372
B42: 3º | Q42: =(Q11-P10)/P10*100 -> -3.1141869
B43: 4º | R43: =(R12-Q11)/Q11*100 -> 5 | T43: 5° VS 0°
B44: 5º | S44: =(S13-R12)/R12*100 -> 2.7210884 | T44: =(S13-N8)/N8*100 -> 11.851852
B45: 6º | N45: 506
B46: 7º | O46: =(O15-N14)/N14*100 -> -30.632411
B47: 8º | P47: =(P16-O15)/O15*100 -> -6.8376068
B48: 9º | Q48: =(Q17-P16)/P16*100 -> -11.926606
B49: 10º | R49: =(R18-Q17)/Q17*100 -> -15.972222 | T49: 11° VS 6°
B50: 11º | S50: =(S19-R18)/R18*100 -> -28.512397 | T50: =(S19-N14)/N14*100 -> -65.810277

Sheet NORMAL
B1: SECRETARÍA DE EDUCACIÓN MUNICIPAL DE PITALITO
B2: AREA DE COBERTURA - SISTEMA INTEGRADO DE MATRICULAS
B3: MATRICULA OFICIAL I.E MUNICIPAL NORMAL SUPERIOR POR GRADO Y NIVELES
C5: 2008 | D5: 2009 | E5: 2010 | F5: 2011 | G5: 2012 | H5: 2013 | I5: 2014 | J5: 2015 | K5: 2016 | L5: 2017 | M5: 2018 | N5: 2019 | O5: 2020 | P5: 2021 | Q5: 2022 | R5: 2023 | S5: 2024 | T5: 2025 | W5: 2008 | X5: 2009 | Y5: 2010 | Z5: 2011 | AA5: 2012 | AB5: 2013 | AC5: 2014 | AD5: 2015 | AE5: 2016 | AF5: 2017 | AG5: 2018 | AH5: 2019 | AI5: 2020 | AJ5: 2021 | AK5: 2022 | AL5: 2023 | AM5: 2024 | AN5: 2025
B6: Prej | T6: 7 | V6: Preescolar | W6: =C8 -> 294 | X6: =D8 -> 324 | Y6: =E8 -> 303 | Z6: =F8 -> 327 | AA6: =G8 -> 355 | AB6: =H8 -> 383 | AC6: =I8 -> 291 | AD6: =J8 -> 290 | ... AN6: =T8 -> 237
B7: Jard | T7: 3 | V7: Primaria | W7: =SUM(C9:C13,C34) -> 2340 | X7: =SUM(D9:D13,D34) -> 2331 | Y7: =SUM(E9:E13,E34) -> 2301 | Z7: =SUM(F9:F13,F34) -> 2226 | AA7: =SUM(G9:G13,G34) -> 2302 | AB7: =SUM(H9:H13,H34) -> 2255 | AC7: =SUM(I9:I13,I34) -> 2212 | AD7: =SUM(J9:J13,J34) -> 2076 | ... AN7: =SUM(T9:T13,T34) -> 1734
B8: 0° | C8: 294 | D8: 324 | E8: 303 | F8: 327 | G8: 355 | H8: 383 | I8: 291 | J8: 290 | K8: 313 | L8: 331 | M8: 310 | N8: 303 | O8: 258 | P8: 219 | Q8: 307 | R8: 298 | S8: 269 | T8: 237 | V8: Secundaria | W8: =SUM(C14:C17) -> 1636 | X8: =SUM(D14:D17) -> 1573 | Y8: =SUM(E14:E17) -> 1684 | Z8: =SUM(F14:F17) -> 1696 | AA8: =SUM(G14:G17) -> 1609 | AB8: =SUM(H14:H17) -> 1655 | AC8: =SUM(I14:I17) -> 1657 | AD8: =SUM(J14:J17) -> 1702 | ... AN8: =SUM(T14:T17) -> 1386
B9: 1º | C9: 495 | D9: 465 | E9: 406 | F9: 487 | G9: 524 | H9: 489 | I9: 478 | J9: 387 | K9: 413 | L9: 414 | M9: 410 | N9: 424 | O9: 431 | P9: 350 | Q9: 368 | R9: 405 | S9: 380 | T9: 369 | V9: Media | W9: =SUM(C18:C19) -> 430 | X9: =SUM(D18:D19) -> 549 | Y9: =SUM(E18:E19) -> 616 | Z9: =SUM(F18:F19) -> 579 | AA9: =SUM(G18:G19) -> 490 | AB9: =SUM(H18:H19) -> 517 | AC9: =SUM(I18:I19) -> 564 | AD9: =SUM(J18:J19) -> 528 | ... AN9: =SUM(T18:T19) -> 471
B10: 2º | C10: 407 | D10: 461 | E10: 457 | F10: 443 | G10: 457 | H10: 488 | I10: 435 | J10: 397 | K10: 342 | L10: 384 | M10: 345 | N10: 387 | O10: 353 | P10: 388 | Q10: 341 | R10: 347 | S10: 358 | T10: 347 | V10: Total (0 a 11) | W10: =SUM(C8:C19,C34) -> 4700 | X10: =SUM(D8:D19,D34) -> 4777 | Y10: =SUM(E8:E19,E34) -> 4904 | Z10: =SUM(F8:F19,F34) -> 4828 | AA10: =SUM(G8:G19,G34) -> 4756 | AB10: =SUM(H8:H19,H34) -> 4810 | AC10: =SUM(I8:I19,I34) -> 4724 | AD10: =SUM(J8:J19,J34) -> 4596 | ... AN10: =SUM(T8:T19,T34) -> 3828
B11: 3º | C11: 504 | D11: 423 | E11: 461 | F11: 422 | G11: 431 | H11: 440 | I11: 480 | J11: 417 | K11: 423 | L11: 355 | M11: 351 | N11: 322 | O11: 375 | P11: 367 | Q11: 320 | R11: 333 | S11: 336 | T11: 359
B12: 4º | C12: 450 | D12: 484 | E12: 434 | F12: 425 | G12: 416 | H12: 408 | I12: 440 | J12: 440 | K12: 395 | L12: 393 | M12: 355 | N12: 374 | O12: 371 | P12: 395 | Q12: 339 | R12: 349 | S12: 338 | T12: 326 | V12: Matrícula por Nivel Educativo del Grado Cero a Once
B13: 5º | C13: 457 | D13: 446 | E13: 521 | F13: 425 | G13: 446 | H13: 406 | I13: 361 | J13: 416 | K13: 466 | L13: 415 | M13: 378 | N13: 339 | O13: 316 | P13: 353 | Q13: 358 | R13: 311 | S13: 334 | T13: 333
B14: 6º | C14: 478 | D14: 467 | E14: 528 | F14: 545 | G14: 505 | H14: 551 | I14: 558 | J14: 601 | K14: 598 | L14: 604 | M14: 510 | N14: 529 | O14: 529 | P14: 434 | Q14: 446 | R14: 467 | S14: 500 | T14: 437
B15: 7º | C15: 449 | D15: 423 | E15: 427 | F15: 442 | G15: 448 | H15: 408 | I15: 410 | J15: 428 | K15: 388 | L15: 417 | M15: 380 | N15: 402 | O15: 382 | P15: 409 | Q15: 328 | R15: 348 | S15: 348 | T15: 358 | W15: 2008 | X15: 2009 | Y15: 2010 | Z15: 2011 | AA15: 2012 | AB15: 2013 | AC15: 2014 | AD15: 2015 | AE15: 2016 | AF15: 2017 | AG15: 2018 | AH15: 2019 | AI15: 2020 | AJ15: 2021 | AK15: 2022 | AL15: 2023 | AM15: 2024 | AN15: 2025
B16: 8º | C16: 387 | D16: 341 | E16: 412 | F16: 379 | G16: 328 | H16: 393 | I16: 377 | J16: 368 | K16: 355 | L16: 289 | M16: 367 | N16: 364 | O16: 336 | P16: 292 | Q16: 351 | R16: 303 | S16: 308 | T16: 328 | V16: Preescolar | X16: =(X6-W6)/W6*100 -> 10.204082 | Y16: =(Y6-X6)/X6*100 -> -6.4814815 | Z16: =(Z6-Y6)/Y6*100 -> 7.9207921 | AA16: =(AA6-Z6)/Z6*100 -> 8.5626911 | AB16: =(AB6-AA6)/AA6*100 -> 7.8873239 | AC16: =(AC6-AB6)/AB6*100 -> -24.020888 | AD16: =(AD6-AC6)/AC6*100 -> -0.34364261 | AE16: =(AE6-AD6)/AD6*100 -> 7.9310345 | ... AN16: =(AN6-AM6)/AM6*100 -> -11.895911
B17: 9º | C17: 322 | D17: 342 | E17: 317 | F17: 330 | G17: 328 | H17: 303 | I17: 312 | J17: 305 | K17: 317 | L17: 256 | M17: 238 | N17: 327 | O17: 334 | P17: 266 | Q17: 222 | R17: 313 | S17: 281 | T17: 263 | V17: Primaria | X17: =(X7-W7)/W7*100 -> -0.38461538 | Y17: =(Y7-X7)/X7*100 -> -1.2870013 | Z17: =(Z7-Y7)/Y7*100 -> -3.2594524 | AA17: =(AA7-Z7)/Z7*100 -> 3.4141959 | AB17: =(AB7-AA7)/AA7*100 -> -2.0417029 | AC17: =(AC7-AB7)/AB7*100 -> -1.9068736 | AD17: =(AD7-AC7)/AC7*100 -> -6.1482821 | AE17: =(AE7-AD7)/AD7*100 -> -0.72254335 | ... AN17: =(AN7-AM7)/AM7*100 -> -0.68728522
B18: 10º | C18: 248 | D18: 300 | E18: 366 | F18: 324 | G18: 261 | H18: 315 | I18: 357 | J18: 328 | K18: 323 | L18: 326 | M18: 290 | N18: 240 | O18: 328 | P18: 324 | Q18: 293 | R18: 243 | S18: 309 | T18: 269 | V18: Secundaria | X18: =(X8-W8)/W8*100 -> -3.8508557 | Y18: =(Y8-X8)/X8*100 -> 7.0565798 | Z18: =(Z8-Y8)/Y8*100 -> 0.71258907 | AA18: =(AA8-Z8)/Z8*100 -> -5.129717 | AB18: =(AB8-AA8)/AA8*100 -> 2.8589186 | AC18: =(AC8-AB8)/AB8*100 -> 0.12084592 | AD18: =(AD8-AC8)/AC8*100 -> 2.7157514 | AE18: =(AE8-AD8)/AD8*100 -> -2.5851939 | ... AN18: =(AN8-AM8)/AM8*100 -> -3.5490605
B19: 11º | C19: 182 | D19: 249 | E19: 250 | F19: 255 | G19: 229 | H19: 202 | I19: 207 | J19: 200 | K19: 198 | L19: 199 | M19: 194 | N19: 191 | O19: 163 | P19: 229 | Q19: 214 | R19: 189 | S19: 173 | T19: 202 | V19: Media | X19: =(X9-W9)/W9*100 -> 27.674419 | Y19: =(Y9-X9)/X9*100 -> 12.204007 | Z19: =(Z9-Y9)/Y9*100 -> -6.0064935 | AA19: =(AA9-Z9)/Z9*100 -> -15.37133 | AB19: =(AB9-AA9)/AA9*100 -> 5.5102041 | AC19: =(AC9-AB9)/AB9*100 -> 9.0909091 | AD19: =(AD9-AC9)/AC9*100 -> -6.3829787 | AE19: =(AE9-AD9)/AD9*100 -> -1.3257576 | ... AN19: =(AN9-AM9)/AM9*100 -> -2.2821577
B20: 12° | C20: 23 | D20: 58 | E20: 51 | F20: 42 | G20: 58 | H20: 59 | I20: 69 | J20: 65 | K20: 11 | L20: 40 | M20: 78 | N20: 85 | O20: 87 | P20: 126 | Q20: 116 | V20: Total (0 a 11) | X20: =(X10-W10)/W10*100 -> 1.6382979 | Y20: =(Y10-X10)/X10*100 -> 2.6585723 | Z20: =(Z10-Y10)/Y10*100 -> -1.5497553 | AA20: =(AA10-Z10)/Z10*100 -> -1.4913007 | AB20: =(AB10-AA10)/AA10*100 -> 1.1354079 | AC20: =(AC10-AB10)/AB10*100 -> -1.7879418 | AD20: =(AD10-AC10)/AC10*100 -> -2.7095682 | AE20: =(AE10-AD10)/AD10*100 -> -0.93559617 | ... AN20: =(AN10-AM10)/AM10*100 -> -2.6944586
B21: 13° | C21: 26 | D21: 57 | E21: 58 | F21: 106 | G21: 106 | H21: 55 | I21: 42 | J21: 39 | K21: 31 | L21: 62 | M21: 50 | N21: 88 | O21: 99 | P21: 60 | Q21: 69
B22: C0 | H22: 111 | V22: Tasa de aumento o disminución de la matrícula por nivel y año
B23: C1
B24: C2 | C24: 25 | H24: 181 | I24: 71 | N24: 7 | O24: 13 | P24: 10 | S24: 10 | T24: 13
B25: C3 | I25: 19 | J25: 37 | K25: 14 | L25: 19 | M25: 44 | N25: 70 | O25: 33 | P25: 33 | Q25: 47 | R25: 25 | S25: 26 | T25: 24
B26: C4 | I26: 15 | J26: 40 | K26: 24 | L26: 16 | M26: 23 | N26: 45 | O26: 40 | P26: 20 | Q26: 24 | R26: 32 | S26: 32 | T26: 23
B27: C5 | C27: 19 | J27: 37 | K27: 27 | L27: 26 | M27: 26 | N27: 17 | O27: 20 | P27: 34 | Q27: 21 | R27: 33 | S27: 32 | T27: 37
B28: C6 | I28: 26
B29: 41° | R29: 29 | S29: 22 | T29: 38
B30: 42° | R30: 24 | S30: 35 | T30: 29
B31: 43° | R31: 43 | S31: 22 | T31: 14
B32: 44° | R32: 36 | S32: 35 | T32: 28
B33: 45° | R33: 48 | S33: 29 | T33: 17
B34: Acel | C34: 27 | D34: 52 | E34: 22 | F34: 24 | G34: 28 | H34: 24 | I34: 18 | J34: 19 | K34: 22 | L34: 20 | M34: 11
B35: Total | C35: 4793 | D35: 4892 | E35: 5013 | F35: 4976 | G35: 4920 | H35: 5216 | I35: 4966 | J35: 4814 | K35: 4660 | L35: 4566 | M35: 4360 | N35: 4514 | O35: 4468 | P35: 4309 | Q35: 4164 | R35: 4176 | S35: 4177 | T35: 4061
B37: Promoción por año del grado cero a quinto y de sexto a once, análisis de cohortes (%)
C38: 2008 | D38: 2009 | E38: 2010 | F38: 2011 | G38: 2012 | H38: 2013 | I38: 2014 | J38: 2015 | K38: 2016 | L38: 2017 | M38: 2018 | N38: 2019 | O38: 2020 | P38: 2021 | Q38: 2022 | R38: 2023 | S38: 2024
B39: 0° | N39: 303
B40: 1º | O40: =(O9-N8)/N8*100 -> 42.244224
B41: 2º | P41: =(P10-O9)/O9*100 -> -9.9767981
B42: 3º | Q42: =(Q11-P10)/P10*100 -> -17.525773
B43: 4º | R43: =(R12-Q11)/Q11*100 -> 9.0625 | T43: 5° VS 0°
B44: 5º | S44: =(S13-R12)/R12*100 -> -4.2979943 | T44: =(S13-N8)/N8*100 -> 10.231023
B45: 6º | N45: 529
B46: 7º | O46: =(O15-N14)/N14*100 -> -27.78828
B47: 8º | P47: =(P16-O15)/O15*100 -> -23.560209
B48: 9º | Q48: =(Q17-P16)/P16*100 -> -23.972603
B49: 10º | R49: =(R18-Q17)/Q17*100 -> 9.4594595 | T49: 11° VS 6°
B50: 11º | S50: =(S19-R18)/R18*100 -> -28.806584 | T50: =(S19-N14)/N14*100 -> -67.296786

Sheet PACHAKUTI
B1: SECRETARÍA DE EDUCACIÓN MUNICIPAL DE PITALITO
B2: AREA DE COBERTURA - SISTEMA INTEGRADO DE MATRICULAS
B3: MATRICULA OFICIAL I.E MUNICIPAL PACHAKUTI POR GRADO Y NIVELES
C5: 2008 | D5: 2009 | E5: 2010 | F5: 2011 | G5: 2012 | H5: 2013 | I5: 2014 | J5: 2015 | K5: 2016 | L5: 2017 | M5: 2018 | N5: 2019 | O5: 2020 | P5: 2021 | Q5: 2022 | R5: 2023 | S5: 2024 | T5: 2025 | W5: 2008 | X5: 2009 | Y5: 2010 | Z5: 2011 | AA5: 2012 | AB5: 2013 | AC5: 2014 | AD5: 2015 | AE5: 2016 | AF5: 2017 | AG5: 2018 | AH5: 2019 | AI5: 2020 | AJ5: 2021 | AK5: 2022 | AL5: 2023 | AM5: 2024 | AN5: 2025
B6: Prej | V6: Preescolar | W6: =C8 -> 0 | X6: =D8 -> 0 | Y6: =E8 -> 0 | Z6: =F8 -> 0 | AA6: =G8 -> 0 | AB6: =H8 -> 0 | AC6: =I8 -> 0 | AD6: =J8 -> 7 | ... AN6: =T8 -> 19
B7: Jard | V7: Primaria | W7: =SUM(C9:C13,C34) -> 0 | X7: =SUM(D9:D13,D34) -> 0 | Y7: =SUM(E9:E13,E34) -> 0 | Z7: =SUM(F9:F13,F34) -> 0 | AA7: =SUM(G9:G13,G34) -> 0 | AB7: =SUM(H9:H13,H34) -> 0 | AC7: =SUM(I9:I13,I34) -> 0 | AD7: =SUM(J9:J13,J34) -> 69 | ... AN7: =SUM(T9:T13,T34) -> 95
B8: 0° | J8: 7 | K8: 9 | L8: 5 | M8: 15 | N8: 6 | O8: 7 | P8: 12 | Q8: 17 | R8: 17 | S8: 10 | T8: 19 | V8: Secundaria | W8: =SUM(C14:C17) -> 0 | X8: =SUM(D14:D17) -> 0 | Y8: =SUM(E14:E17) -> 0 | Z8: =SUM(F14:F17) -> 0 | AA8: =SUM(G14:G17) -> 0 | AB8: =SUM(H14:H17) -> 0 | AC8: =SUM(I14:I17) -> 0 | AD8: =SUM(J14:J17) -> 76 | ... AN8: =SUM(T14:T17) -> 88
B9: 1º | J9: 17 | K9: 16 | L9: 11 | M9: 13 | N9: 17 | O9: 10 | P9: 9 | Q9: 16 | R9: 22 | S9: 22 | T9: 18 | V9: Media | W9: =SUM(C18:C19) -> 0 | X9: =SUM(D18:D19) -> 0 | Y9: =SUM(E18:E19) -> 0 | Z9: =SUM(F18:F19) -> 0 | AA9: =SUM(G18:G19) -> 0 | AB9: =SUM(H18:H19) -> 0 | AC9: =SUM(I18:I19) -> 0 | AD9: =SUM(J18:J19) -> 11 | ... AN9: =SUM(T18:T19) -> 21
B10: 2º | J10: 10 | K10: 10 | L10: 13 | M10: 12 | N10: 9 | O10: 23 | P10: 16 | Q10: 15 | R10: 18 | S10: 20 | T10: 28 | V10: Total (0 a 11) | W10: =SUM(C8:C19,C34) -> 0 | X10: =SUM(D8:D19,D34) -> 0 | Y10: =SUM(E8:E19,E34) -> 0 | Z10: =SUM(F8:F19,F34) -> 0 | AA10: =SUM(G8:G19,G34) -> 0 | AB10: =SUM(H8:H19,H34) -> 0 | AC10: =SUM(I8:I19,I34) -> 0 | AD10: =SUM(J8:J19,J34) -> 163 | ... AN10: =SUM(T8:T19,T34) -> 223
B11: 3º | J11: 17 | K11: 15 | L11: 10 | M11: 15 | N11: 17 | O11: 11 | P11: 24 | Q11: 13 | R11: 16 | S11: 18 | T11: 16
B12: 4º | J12: 13 | K12: 18 | L12: 18 | M12: 12 | N12: 10 | O12: 17 | P12: 12 | Q12: 23 | R12: 17 | S12: 16 | T12: 17 | V12: Matrícula por Nivel Educativo del Grado Cero a Once
B13: 5º | J13: 12 | K13: 16 | L13: 15 | M13: 22 | N13: 14 | O13: 13 | P13: 18 | Q13: 11 | R13: 21 | S13: 14 | T13: 16
B14: 6º | J14: 20 | K14: 27 | L14: 26 | M14: 25 | N14: 30 | O14: 27 | P14: 23 | Q14: 28 | R14: 23 | S14: 43 | T14: 21
B15: 7º | J15: 23 | K15: 25 | L15: 32 | M15: 33 | N15: 25 | O15: 29 | P15: 25 | Q15: 19 | R15: 25 | S15: 19 | T15: 31 | W15: 2008 | X15: 2009 | Y15: 2010 | Z15: 2011 | AA15: 2012 | AB15: 2013 | AC15: 2014 | AD15: 2015 | AE15: 2016 | AF15: 2017 | AG15: 2018 | AH15: 2019 | AI15: 2020 | AJ15: 2021 | AK15: 2022 | AL15: 2023 | AM15: 2024 | AN15: 2025
B16: 8º | J16: 27 | K16: 27 | L16: 27 | M16: 30 | N16: 18 | O16: 30 | P16: 31 | Q16: 19 | R16: 17 | S16: 24 | T16: 15 | V16: Preescolar | AE16: =(AE6-AD6)/AD6*100 -> 28.571429 | AF16: =(AF6-AE6)/AE6*100 -> -44.444444 | AG16: =(AG6-AF6)/AF6*100 -> 200 | AH16: =(AH6-AG6)/AG6*100 -> -60 | AI16: =(AI6-AH6)/AH6*100 -> 16.666667 | AJ16: =(AJ6-AI6)/AI6*100 -> 71.428571 | AK16: =(AK6-AJ6)/AJ6*100 -> 41.666667 | AL16: =(AL6-AK6)/AK6*100 -> 0 | ... AN16: =(AN6-AM6)/AM6*100 -> 90
B17: 9º | J17: 6 | K17: 20 | L17: 25 | M17: 19 | N17: 19 | O17: 14 | P17: 27 | Q17: 23 | R17: 17 | S17: 14 | T17: 21 | V17: Primaria | AE17: =(AE7-AD7)/AD7*100 -> 8.6956522 | AF17: =(AF7-AE7)/AE7*100 -> -10.666667 | AG17: =(AG7-AF7)/AF7*100 -> 10.447761 | AH17: =(AH7-AG7)/AG7*100 -> -9.4594595 | AI17: =(AI7-AH7)/AH7*100 -> 10.447761 | AJ17: =(AJ7-AI7)/AI7*100 -> 6.7567568 | AK17: =(AK7-AJ7)/AJ7*100 -> -1.2658228 | AL17: =(AL7-AK7)/AK7*100 -> 20.512821 | ... AN17: =(AN7-AM7)/AM7*100 -> 5.5555556
B18: 10º | J18: 7 | K18: 10 | L18: 16 | M18: 15 | N18: 20 | O18: 16 | P18: 18 | Q18: 25 | R18: 18 | S18: 14 | T18: 9 | V18: Secundaria | AE18: =(AE8-AD8)/AD8*100 -> 30.263158 | AF18: =(AF8-AE8)/AE8*100 -> 11.111111 | AG18: =(AG8-AF8)/AF8*100 -> -2.7272727 | AH18: =(AH8-AG8)/AG8*100 -> -14.018692 | AI18: =(AI8-AH8)/AH8*100 -> 8.6956522 | AJ18: =(AJ8-AI8)/AI8*100 -> 6 | AK18: =(AK8-AJ8)/AJ8*100 -> -16.037736 | AL18: =(AL8-AK8)/AK8*100 -> -7.8651685 | ... AN18: =(AN8-AM8)/AM8*100 -> -12
B19: 11º | J19: 4 | K19: 6 | L19: 8 | M19: 13 | N19: 15 | O19: 18 | P19: 16 | Q19: 11 | R19: 22 | S19: 12 | T19: 12 | V19: Media | AE19: =(AE9-AD9)/AD9*100 -> 45.454545 | AF19: =(AF9-AE9)/AE9*100 -> 50 | AG19: =(AG9-AF9)/AF9*100 -> 16.666667 | AH19: =(AH9-AG9)/AG9*100 -> 25 | AI19: =(AI9-AH9)/AH9*100 -> -2.8571429 | AJ19: =(AJ9-AI9)/AI9*100 -> 0 | AK19: =(AK9-AJ9)/AJ9*100 -> 5.8823529 | AL19: =(AL9-AK9)/AK9*100 -> 11.111111 | ... AN19: =(AN9-AM9)/AM9*100 -> -19.230769
B20: 12° | V20: Total (0 a 11) | AE20: =(AE10-AD10)/AD10*100 -> 22.08589 | AF20: =(AF10-AE10)/AE10*100 -> 3.5175879 | AG20: =(AG10-AF10)/AF10*100 -> 8.7378641 | AH20: =(AH10-AG10)/AG10*100 -> -10.714286 | AI20: =(AI10-AH10)/AH10*100 -> 7.5 | AJ20: =(AJ10-AI10)/AI10*100 -> 7.4418605 | AK20: =(AK10-AJ10)/AJ10*100 -> -4.7619048 | AL20: =(AL10-AK10)/AK10*100 -> 5.9090909 | ... AN20: =(AN10-AM10)/AM10*100 -> -1.3274336
B21: 13°
B22: C0 | V22: Tasa de aumento o disminución de la matrícula por nivel y año
B23: C1
B24: C2
B25: C3 | K25: 25
B26: C4
B27: C5
B28: C6
B29: 41°
B30: 42°
B31: 43°
B32: 44°
B33: 45°
B34: Acel
B35: Total | J35: 163 | K35: 224 | L35: 206 | M35: 224 | N35: 200 | O35: 215 | P35: 231 | Q35: 220 | R35: 233 | S35: 226 | T35: 223
B37: Promoción por año del grado cero a quinto y de sexto a once, análisis de cohortes (%)
C38: 2008 | D38: 2009 | E38: 2010 | F38: 2011 | G38: 2012 | H38: 2013 | I38: 2014 | J38: 2015 | K38: 2016 | L38: 2017 | M38: 2018 | N38: 2019 | O38: 2020 | P38: 2021 | Q38: 2022 | R38: 2023 | S38: 2024
B39: 0° | N39: 6
B40: 1º | O40: =(O9-N8)/N8*100 -> 66.666667
B41: 2º | P41: =(P10-O9)/O9*100 -> 60
B42: 3º | Q42: =(Q11-P10)/P10*100 -> -18.75
B43: 4º | R43: =(R12-Q11)/Q11*100 -> 30.769231 | T43: 5° VS 0°
B44: 5º | S44: =(S13-R12)/R12*100 -> -17.647059 | T44: =(S13-N8)/N8*100 -> 133.33333
B45: 6º | N45: 30
B46: 7º | O46: =(O15-N14)/N14*100 -> -3.3333333
B47: 8º | P47: =(P16-O15)/O15*100 -> 6.8965517
B48: 9º | Q48: =(Q17-P16)/P16*100 -> -25.806452
B49: 10º | R49: =(R18-Q17)/Q17*100 -> -21.73913 | T49: 11° VS 6°
B50: 11º | S50: =(S19-R18)/R18*100 -> -33.333333 | T50: =(S19-N14)/N14*100 -> -60

Sheet PALMARITO
B1: SECRETARÍA DE EDUCACIÓN MUNICIPAL DE PITALITO
B2: AREA DE COBERTURA - SISTEMA INTEGRADO DE MATRICULAS
B3: MATRICULA OFICIAL I.E MUNICIPAL PALMARITO POR GRADO Y NIVELES
C5: 2008 | D5: 2009 | E5: 2010 | F5: 2011 | G5: 2012 | H5: 2013 | I5: 2014 | J5: 2015 | K5: 2016 | L5: 2017 | M5: 2018 | N5: 2019 | O5: 2020 | P5: 2021 | Q5: 2022 | R5: 2023 | S5: 2024 | T5: 2025 | W5: 2008 | X5: 2009 | Y5: 2010 | Z5: 2011 | AA5: 2012 | AB5: 2013 | AC5: 2014 | AD5: 2015 | AE5: 2016 | AF5: 2017 | AG5: 2018 | AH5: 2019 | AI5: 2020 | AJ5: 2021 | AK5: 2022 | AL5: 2023 | AM5: 2024 | AN5: 2025
B6: Prej | V6: Preescolar | W6: =C8 -> 67 | X6: =D8 -> 63 | Y6: =E8 -> 70 | Z6: =F8 -> 63 | AA6: =G8 -> 58 | AB6: =H8 -> 73 | AC6: =I8 -> 68 | AD6: =J8 -> 53 | ... AN6: =T8 -> 42
B7: Jard | V7: Primaria | W7: =SUM(C9:C13,C34) -> 459 | X7: =SUM(D9:D13,D34) -> 450 | Y7: =SUM(E9:E13,E34) -> 463 | Z7: =SUM(F9:F13,F34) -> 439 | AA7: =SUM(G9:G13,G34) -> 423 | AB7: =SUM(H9:H13,H34) -> 388 | AC7: =SUM(I9:I13,I34) -> 355 | AD7: =SUM(J9:J13,J34) -> 339 | ... AN7: =SUM(T9:T13,T34) -> 315
B8: 0° | C8: 67 | D8: 63 | E8: 70 | F8: 63 | G8: 58 | H8: 73 | I8: 68 | J8: 53 | K8: 60 | L8: 52 | M8: 58 | N8: 59 | O8: 48 | P8: 52 | Q8: 67 | R8: 64 | S8: 54 | T8: 42 | V8: Secundaria | W8: =SUM(C14:C17) -> 147 | X8: =SUM(D14:D17) -> 127 | Y8: =SUM(E14:E17) -> 184 | Z8: =SUM(F14:F17) -> 197 | AA8: =SUM(G14:G17) -> 240 | AB8: =SUM(H14:H17) -> 279 | AC8: =SUM(I14:I17) -> 276 | AD8: =SUM(J14:J17) -> 268 | ... AN8: =SUM(T14:T17) -> 269
B9: 1º | C9: 108 | D9: 100 | E9: 95 | F9: 85 | G9: 71 | H9: 76 | I9: 83 | J9: 72 | K9: 56 | L9: 70 | M9: 53 | N9: 69 | O9: 66 | P9: 55 | Q9: 66 | R9: 81 | S9: 69 | T9: 61 | V9: Media | W9: =SUM(C18:C19) -> 0 | X9: =SUM(D18:D19) -> 0 | Y9: =SUM(E18:E19) -> 0 | Z9: =SUM(F18:F19) -> 36 | AA9: =SUM(G18:G19) -> 52 | AB9: =SUM(H18:H19) -> 52 | AC9: =SUM(I18:I19) -> 59 | AD9: =SUM(J18:J19) -> 62 | ... AN9: =SUM(T18:T19) -> 72
B10: 2º | C10: 88 | D10: 95 | E10: 96 | F10: 85 | G10: 99 | H10: 63 | I10: 69 | J10: 78 | K10: 57 | L10: 52 | M10: 69 | N10: 48 | O10: 55 | P10: 71 | Q10: 63 | R10: 65 | S10: 69 | T10: 62 | V10: Total (0 a 11) | W10: =SUM(C8:C19,C34) -> 673 | X10: =SUM(D8:D19,D34) -> 640 | Y10: =SUM(E8:E19,E34) -> 717 | Z10: =SUM(F8:F19,F34) -> 735 | AA10: =SUM(G8:G19,G34) -> 773 | AB10: =SUM(H8:H19,H34) -> 792 | AC10: =SUM(I8:I19,I34) -> 758 | AD10: =SUM(J8:J19,J34) -> 722 | ... AN10: =SUM(T8:T19,T34) -> 698
B11: 3º | C11: 95 | D11: 91 | E11: 98 | F11: 92 | G11: 87 | H11: 88 | I11: 58 | J11: 68 | K11: 79 | L11: 56 | M11: 64 | N11: 68 | O11: 56 | P11: 57 | Q11: 51 | R11: 66 | S11: 63 | T11: 70
B12: 4º | C12: 84 | D12: 85 | E12: 87 | F12: 91 | G12: 77 | H12: 77 | I12: 77 | J12: 51 | K12: 55 | L12: 69 | M12: 57 | N12: 55 | O12: 62 | P12: 66 | Q12: 56 | R12: 57 | S12: 60 | T12: 67 | V12: Matrícula por Nivel Educativo del Grado Cero a Once
B13: 5º | C13: 84 | D13: 79 | E13: 87 | F13: 86 | G13: 89 | H13: 84 | I13: 68 | J13: 70 | K13: 47 | L13: 56 | M13: 59 | N13: 55 | O13: 58 | P13: 63 | Q13: 53 | R13: 57 | S13: 57 | T13: 55
B14: 6º | C14: 59 | D14: 37 | E14: 70 | F14: 59 | G14: 101 | H14: 93 | I14: 84 | J14: 86 | K14: 84 | L14: 60 | M14: 89 | N14: 92 | O14: 85 | P14: 91 | Q14: 81 | R14: 82 | S14: 89 | T14: 83
B15: 7º | C15: 42 | D15: 36 | E15: 40 | F15: 65 | G15: 52 | H15: 88 | I15: 78 | J15: 70 | K15: 66 | L15: 73 | M15: 45 | N15: 59 | O15: 71 | P15: 61 | Q15: 75 | R15: 76 | S15: 74 | T15: 75 | W15: 2008 | X15: 2009 | Y15: 2010 | Z15: 2011 | AA15: 2012 | AB15: 2013 | AC15: 2014 | AD15: 2015 | AE15: 2016 | AF15: 2017 | AG15: 2018 | AH15: 2019 | AI15: 2020 | AJ15: 2021 | AK15: 2022 | AL15: 2023 | AM15: 2024 | AN15: 2025
B16: 8º | C16: 26 | D16: 32 | E16: 40 | F16: 39 | G16: 52 | H16: 53 | I16: 71 | J16: 60 | K16: 56 | L16: 69 | M16: 57 | N16: 45 | O16: 45 | P16: 74 | Q16: 53 | R16: 64 | S16: 64 | T16: 56 | V16: Preescolar | X16: =(X6-W6)/W6*100 -> -5.9701493 | Y16: =(Y6-X6)/X6*100 -> 11.111111 | Z16: =(Z6-Y6)/Y6*100 -> -10 | AA16: =(AA6-Z6)/Z6*100 -> -7.9365079 | AB16: =(AB6-AA6)/AA6*100 -> 25.862069 | AC16: =(AC6-AB6)/AB6*100 -> -6.8493151 | AD16: =(AD6-AC6)/AC6*100 -> -22.058824 | AE16: =(AE6-AD6)/AD6*100 -> 13.207547 | ... AN16: =(AN6-AM6)/AM6*100 -> -22.222222
B17: 9º | C17: 20 | D17: 22 | E17: 34 | F17: 34 | G17: 35 | H17: 45 | I17: 43 | J17: 52 | K17: 52 | L17: 36 | M17: 46 | N17: 58 | O17: 44 | P17: 41 | Q17: 55 | R17: 35 | S17: 50 | T17: 55 | V17: Primaria | X17: =(X7-W7)/W7*100 -> -1.9607843 | Y17: =(Y7-X7)/X7*100 -> 2.8888889 | Z17: =(Z7-Y7)/Y7*100 -> -5.1835853 | AA17: =(AA7-Z7)/Z7*100 -> -3.6446469 | AB17: =(AB7-AA7)/AA7*100 -> -8.2742317 | AC17: =(AC7-AB7)/AB7*100 -> -8.5051546 | AD17: =(AD7-AC7)/AC7*100 -> -4.5070423 | AE17: =(AE7-AD7)/AD7*100 -> -13.274336 | ... AN17: =(AN7-AM7)/AM7*100 -> -0.94339623
B18: 10º | F18: 36 | G18: 28 | H18: 27 | I18: 39 | J18: 38 | K18: 45 | L18: 47 | M18: 41 | N18: 34 | O18: 42 | P18: 34 | Q18: 34 | R18: 37 | S18: 30 | T18: 45 | V18: Secundaria | X18: =(X8-W8)/W8*100 -> -13.605442 | Y18: =(Y8-X8)/X8*100 -> 44.88189 | Z18: =(Z8-Y8)/Y8*100 -> 7.0652174 | AA18: =(AA8-Z8)/Z8*100 -> 21.827411 | AB18: =(AB8-AA8)/AA8*100 -> 16.25 | AC18: =(AC8-AB8)/AB8*100 -> -1.0752688 | AD18: =(AD8-AC8)/AC8*100 -> -2.8985507 | AE18: =(AE8-AD8)/AD8*100 -> -3.7313433 | ... AN18: =(AN8-AM8)/AM8*100 -> -2.8880866
B19: 11º | G19: 24 | H19: 25 | I19: 20 | J19: 24 | K19: 29 | L19: 36 | M19: 36 | N19: 28 | O19: 27 | P19: 36 | Q19: 24 | R19: 23 | S19: 34 | T19: 27 | V19: Media | AA19: =(AA9-Z9)/Z9*100 -> 44.444444 | AB19: =(AB9-AA9)/AA9*100 -> 0 | AC19: =(AC9-AB9)/AB9*100 -> 13.461538 | AD19: =(AD9-AC9)/AC9*100 -> 5.0847458 | AE19: =(AE9-AD9)/AD9*100 -> 19.354839 | AF19: =(AF9-AE9)/AE9*100 -> 12.162162 | AG19: =(AG9-AF9)/AF9*100 -> -7.2289157 | AH19: =(AH9-AG9)/AG9*100 -> -19.480519 | ... AN19: =(AN9-AM9)/AM9*100 -> 12.5
B20: 12° | V20: Total (0 a 11) | X20: =(X10-W10)/W10*100 -> -4.9034175 | Y20: =(Y10-X10)/X10*100 -> 12.03125 | Z20: =(Z10-Y10)/Y10*100 -> 2.5104603 | AA20: =(AA10-Z10)/Z10*100 -> 5.170068 | AB20: =(AB10-AA10)/AA10*100 -> 2.457956 | AC20: =(AC10-AB10)/AB10*100 -> -4.2929293 | AD20: =(AD10-AC10)/AC10*100 -> -4.7493404 | AE20: =(AE10-AD10)/AD10*100 -> -4.9861496 | ... AN20: =(AN10-AM10)/AM10*100 -> -2.1037868
B21: 13°
B22: C0 | H22: 77 | V22: Tasa de aumento o disminución de la matrícula por nivel y año
B23: C1
B24: C2 | H24: 73 | I24: 24
B25: C3 | I25: 87 | J25: 61 | K25: 11
B26: C4 | K26: 43 | L26: 12
B27: C5
B28: C6 | L28: 42 | M28: 18
B29: 41°
B30: 42°
B31: 43°
B32: 44°
B33: 45°
B34: Acel
B35: Total | C35: 673 | D35: 640 | E35: 717 | F35: 735 | G35: 773 | H35: 942 | I35: 869 | J35: 783 | K35: 740 | L35: 730 | M35: 692 | N35: 670 | O35: 659 | P35: 701 | Q35: 678 | R35: 707 | S35: 713 | T35: 698
B37: Promoción por año del grado cero a quinto y de sexto a once, análisis de cohortes (%)
C38: 2008 | D38: 2009 | E38: 2010 | F38: 2011 | G38: 2012 | H38: 2013 | I38: 2014 | J38: 2015 | K38: 2016 | L38: 2017 | M38: 2018 | N38: 2019 | O38: 2020 | P38: 2021 | Q38: 2022 | R38: 2023 | S38: 2024
B39: 0° | N39: 59
B40: 1º | O40: =(O9-N8)/N8*100 -> 11.864407
B41: 2º | P41: =(P10-O9)/O9*100 -> 7.5757576
B42: 3º | Q42: =(Q11-P10)/P10*100 -> -28.169014
B43: 4º | R43: =(R12-Q11)/Q11*100 -> 11.764706 | T43: 5° VS 0°
B44: 5º | S44: =(S13-R12)/R12*100 -> 0 | T44: =(S13-N8)/N8*100 -> -3.3898305
B45: 6º | N45: 92
B46: 7º | O46: =(O15-N14)/N14*100 -> -22.826087
B47: 8º | P47: =(P16-O15)/O15*100 -> 4.2253521
B48: 9º | Q48: =(Q17-P16)/P16*100 -> -25.675676
B49: 10º | R49: =(R18-Q17)/Q17*100 -> -32.727273 | T49: 11° VS 6°
B50: 11º | S50: =(S19-R18)/R18*100 -> -8.1081081 | T50: =(S19-N14)/N14*100 -> -63.043478

Sheet VILLAFATIMA
B1: SECRETARÍA DE EDUCACIÓN MUNICIPAL DE PITALITO
B2: AREA DE COBERTURA - SISTEMA INTEGRADO DE MATRICULAS
B3: MATRICULA OFICIAL I.E MUNICIPAL VILLAFATIMA POR GRADO Y NIVELES
C5: 2008 | D5: 2009 | E5: 2010 | F5: 2011 | G5: 2012 | H5: 2013 | I5: 2014 | J5: 2015 | K5: 2016 | L5: 2017 | M5: 2018 | N5: 2019 | O5: 2020 | P5: 2021 | Q5: 2022 | R5: 2023 | S5: 2024 | T5: 2025 | W5: 2008 | X5: 2009 | Y5: 2010 | Z5: 2011 | AA5: 2012 | AB5: 2013 | AC5: 2014 | AD5: 2015 | AE5: 2016 | AF5: 2017 | AG5: 2018 | AH5: 2019 | AI5: 2020 | AJ5: 2021 | AK5: 2022 | AL5: 2023 | AM5: 2024 | AN5: 2025
B6: Prej | V6: Preescolar | W6: =C8 -> 54 | X6: =D8 -> 42 | Y6: =E8 -> 54 | Z6: =F8 -> 52 | AA6: =G8 -> 61 | AB6: =H8 -> 43 | AC6: =I8 -> 46 | AD6: =J8 -> 37 | ... AN6: =T8 -> 48
B7: Jard | V7: Primaria | W7: =SUM(C9:C13,C34) -> 400 | X7: =SUM(D9:D13,D34) -> 385 | Y7: =SUM(E9:E13,E34) -> 359 | Z7: =SUM(F9:F13,F34) -> 341 | AA7: =SUM(G9:G13,G34) -> 352 | AB7: =SUM(H9:H13,H34) -> 343 | AC7: =SUM(I9:I13,I34) -> 306 | AD7: =SUM(J9:J13,J34) -> 310 | ... AN7: =SUM(T9:T13,T34) -> 250
B8: 0° | C8: 54 | D8: 42 | E8: 54 | F8: 52 | G8: 61 | H8: 43 | I8: 46 | J8: 37 | K8: 40 | L8: 43 | M8: 47 | N8: 57 | O8: 45 | P8: 38 | Q8: 57 | R8: 49 | S8: 32 | T8: 48 | V8: Secundaria | W8: =SUM(C14:C17) -> 163 | X8: =SUM(D14:D17) -> 173 | Y8: =SUM(E14:E17) -> 180 | Z8: =SUM(F14:F17) -> 200 | AA8: =SUM(G14:G17) -> 184 | AB8: =SUM(H14:H17) -> 168 | AC8: =SUM(I14:I17) -> 167 | AD8: =SUM(J14:J17) -> 159 | ... AN8: =SUM(T14:T17) -> 141
B9: 1º | C9: 87 | D9: 78 | E9: 60 | F9: 71 | G9: 76 | H9: 77 | I9: 50 | J9: 57 | K9: 44 | L9: 51 | M9: 55 | N9: 63 | O9: 58 | P9: 48 | Q9: 46 | R9: 69 | S9: 65 | T9: 45 | V9: Media | W9: =SUM(C18:C19) -> 0 | X9: =SUM(D18:D19) -> 0 | Y9: =SUM(E18:E19) -> 0 | Z9: =SUM(F18:F19) -> 27 | AA9: =SUM(G18:G19) -> 44 | AB9: =SUM(H18:H19) -> 49 | AC9: =SUM(I18:I19) -> 35 | AD9: =SUM(J18:J19) -> 44 | ... AN9: =SUM(T18:T19) -> 49
B10: 2º | C10: 79 | D10: 73 | E10: 72 | F10: 69 | G10: 78 | H10: 59 | I10: 66 | J10: 57 | K10: 56 | L10: 43 | M10: 47 | N10: 45 | O10: 57 | P10: 60 | Q10: 43 | R10: 43 | S10: 55 | T10: 60 | V10: Total (0 a 11) | W10: =SUM(C8:C19,C34) -> 617 | X10: =SUM(D8:D19,D34) -> 600 | Y10: =SUM(E8:E19,E34) -> 593 | Z10: =SUM(F8:F19,F34) -> 620 | AA10: =SUM(G8:G19,G34) -> 641 | AB10: =SUM(H8:H19,H34) -> 603 | AC10: =SUM(I8:I19,I34) -> 554 | AD10: =SUM(J8:J19,J34) -> 550 | ... AN10: =SUM(T8:T19,T34) -> 488
B11: 3º | C11: 93 | D11: 74 | E11: 65 | F11: 66 | G11: 72 | H11: 72 | I11: 59 | J11: 64 | K11: 54 | L11: 56 | M11: 49 | N11: 45 | O11: 48 | P11: 55 | Q11: 57 | R11: 46 | S11: 48 | T11: 51
B12: 4º | C12: 75 | D12: 89 | E12: 68 | F12: 64 | G12: 65 | H12: 70 | I12: 63 | J12: 67 | K12: 62 | L12: 51 | M12: 57 | N12: 47 | O12: 46 | P12: 44 | Q12: 53 | R12: 64 | S12: 53 | T12: 45 | V12: Matrícula por Nivel Educativo del Grado Cero a Once
B13: 5º | C13: 66 | D13: 71 | E13: 94 | F13: 71 | G13: 61 | H13: 65 | I13: 68 | J13: 65 | K13: 68 | L13: 59 | M13: 50 | N13: 53 | O13: 54 | P13: 49 | Q13: 43 | R13: 56 | S13: 54 | T13: 49
B14: 6º | C14: 57 | D14: 54 | E14: 48 | F14: 71 | G14: 70 | H14: 53 | I14: 57 | J14: 52 | K14: 52 | L14: 52 | M14: 56 | N14: 40 | O14: 52 | P14: 46 | Q14: 32 | R14: 36 | S14: 40 | T14: 44
B15: 7º | C15: 50 | D15: 48 | E15: 51 | F15: 41 | G15: 50 | H15: 46 | I15: 39 | J15: 47 | K15: 43 | L15: 40 | M15: 39 | N15: 44 | O15: 25 | P15: 46 | Q15: 43 | R15: 30 | S15: 31 | T15: 37 | W15: 2008 | X15: 2009 | Y15: 2010 | Z15: 2011 | AA15: 2012 | AB15: 2013 | AC15: 2014 | AD15: 2015 | AE15: 2016 | AF15: 2017 | AG15: 2018 | AH15: 2019 | AI15: 2020 | AJ15: 2021 | AK15: 2022 | AL15: 2023 | AM15: 2024 | AN15: 2025
B16: 8º | C16: 36 | D16: 41 | E16: 45 | F16: 48 | G16: 27 | H16: 44 | I16: 40 | J16: 25 | K16: 35 | L16: 39 | M16: 38 | N16: 31 | O16: 39 | P16: 23 | Q16: 34 | R16: 39 | S16: 31 | T16: 29 | V16: Preescolar | X16: =(X6-W6)/W6*100 -> -22.222222 | Y16: =(Y6-X6)/X6*100 -> 28.571429 | Z16: =(Z6-Y6)/Y6*100 -> -3.7037037 | AA16: =(AA6-Z6)/Z6*100 -> 17.307692 | AB16: =(AB6-AA6)/AA6*100 -> -29.508197 | AC16: =(AC6-AB6)/AB6*100 -> 6.9767442 | AD16: =(AD6-AC6)/AC6*100 -> -19.565217 | AE16: =(AE6-AD6)/AD6*100 -> 8.1081081 | ... AN16: =(AN6-AM6)/AM6*100 -> 50
B17: 9º | C17: 20 | D17: 30 | E17: 36 | F17: 40 | G17: 37 | H17: 25 | I17: 31 | J17: 35 | K17: 23 | L17: 22 | M17: 25 | N17: 31 | O17: 29 | P17: 39 | Q17: 16 | R17: 31 | S17: 33 | T17: 31 | V17: Primaria | X17: =(X7-W7)/W7*100 -> -3.75 | Y17: =(Y7-X7)/X7*100 -> -6.7532468 | Z17: =(Z7-Y7)/Y7*100 -> -5.0139276 | AA17: =(AA7-Z7)/Z7*100 -> 3.2258065 | AB17: =(AB7-AA7)/AA7*100 -> -2.5568182 | AC17: =(AC7-AB7)/AB7*100 -> -10.787172 | AD17: =(AD7-AC7)/AC7*100 -> 1.3071895 | AE17: =(AE7-AD7)/AD7*100 -> -8.3870968 | ... AN17: =(AN7-AM7)/AM7*100 -> -9.0909091
B18: 10º | F18: 27 | G18: 27 | H18: 21 | I18: 17 | J18: 29 | K18: 31 | L18: 19 | M18: 26 | N18: 18 | O18: 15 | P18: 27 | Q18: 31 | R18: 13 | S18: 29 | T18: 22 | V18: Secundaria | X18: =(X8-W8)/W8*100 -> 6.1349693 | Y18: =(Y8-X8)/X8*100 -> 4.0462428 | Z18: =(Z8-Y8)/Y8*100 -> 11.111111 | AA18: =(AA8-Z8)/Z8*100 -> -8 | AB18: =(AB8-AA8)/AA8*100 -> -8.6956522 | AC18: =(AC8-AB8)/AB8*100 -> -0.5952381 | AD18: =(AD8-AC8)/AC8*100 -> -4.7904192 | AE18: =(AE8-AD8)/AD8*100 -> -3.7735849 | ... AN18: =(AN8-AM8)/AM8*100 -> 4.4444444
B19: 11º | G19: 17 | H19: 28 | I19: 18 | J19: 15 | K19: 28 | L19: 32 | M19: 14 | N19: 15 | O19: 15 | P19: 11 | Q19: 24 | R19: 27 | S19: 18 | T19: 27 | V19: Media | AA19: =(AA9-Z9)/Z9*100 -> 62.962963 | AB19: =(AB9-AA9)/AA9*100 -> 11.363636 | AC19: =(AC9-AB9)/AB9*100 -> -28.571429 | AD19: =(AD9-AC9)/AC9*100 -> 25.714286 | AE19: =(AE9-AD9)/AD9*100 -> 34.090909 | AF19: =(AF9-AE9)/AE9*100 -> -13.559322 | AG19: =(AG9-AF9)/AF9*100 -> -21.568627 | AH19: =(AH9-AG9)/AG9*100 -> -17.5 | ... AN19: =(AN9-AM9)/AM9*100 -> 4.2553191
B20: 12° | V20: Total (0 a 11) | X20: =(X10-W10)/W10*100 -> -2.7552674 | Y20: =(Y10-X10)/X10*100 -> -1.1666667 | Z20: =(Z10-Y10)/Y10*100 -> 4.5531197 | AA20: =(AA10-Z10)/Z10*100 -> 3.3870968 | AB20: =(AB10-AA10)/AA10*100 -> -5.9282371 | AC20: =(AC10-AB10)/AB10*100 -> -8.1260365 | AD20: =(AD10-AC10)/AC10*100 -> -0.72202166 | AE20: =(AE10-AD10)/AD10*100 -> -2.5454545 | ... AN20: =(AN10-AM10)/AM10*100 -> -0.20449898
B21: 13°
B22: C0 | H22: 113 | V22: Tasa de aumento o disminución de la matrícula por nivel y año
B23: C1
B24: C2 | C24: 30 | D24: 70 | E24: 68 | F24: 3 | H24: 56 | I24: 41
B25: C3 | F25: 77
B26: C4 | G26: 49
B27: C5 | H27: 42
B28: C6
B29: 41°
B30: 42°
B31: 43°
B32: 44°
B33: 45°
B34: Acel
B35: Total | C35: 647 | D35: 670 | E35: 661 | F35: 700 | G35: 690 | H35: 814 | I35: 595 | J35: 550 | K35: 536 | L35: 507 | M35: 503 | N35: 489 | O35: 483 | P35: 486 | Q35: 479 | R35: 503 | S35: 489 | T35: 488
B37: Promoción por año del grado cero a quinto y de sexto a once, análisis de cohortes (%)
C38: 2008 | D38: 2009 | E38: 2010 | F38: 2011 | G38: 2012 | H38: 2013 | I38: 2014 | J38: 2015 | K38: 2016 | L38: 2017 | M38: 2018 | N38: 2019 | O38: 2020 | P38: 2021 | Q38: 2022 | R38: 2023 | S38: 2024
B39: 0° | N39: 57
B40: 1º | O40: =(O9-N8)/N8*100 -> 1.754386
B41: 2º | P41: =(P10-O9)/O9*100 -> 3.4482759
B42: 3º | Q42: =(Q11-P10)/P10*100 -> -5
B43: 4º | R43: =(R12-Q11)/Q11*100 -> 12.280702 | T43: 5° VS 0°
B44: 5º | S44: =(S13-R12)/R12*100 -> -15.625 | T44: =(S13-N8)/N8*100 -> -5.2631579
B45: 6º | N45: 40
B46: 7º | O46: =(O15-N14)/N14*100 -> -37.5
B47: 8º | P47: =(P16-O15)/O15*100 -> -8
B48: 9º | Q48: =(Q17-P16)/P16*100 -> -30.434783
B49: 10º | R49: =(R18-Q17)/Q17*100 -> -18.75 | T49: 11° VS 6°
B50: 11º | S50: =(S19-R18)/R18*100 -> 38.461538 | T50: =(S19-N14)/N14*100 -> -55

Sheet WINNIPEG
B1: SECRETARÍA DE EDUCACIÓN MUNICIPAL DE PITALITO
B2: AREA DE COBERTURA - SISTEMA INTEGRADO DE MATRICULAS
B3: MATRICULA OFICIAL I.E MUNICIPAL WINNIPEG POR GRADO Y NIVELES
C5: 2008 | D5: 2009 | E5: 2010 | F5: 2011 | G5: 2012 | H5: 2013 | I5: 2014 | J5: 2015 | K5: 2016 | L5: 2017 | M5: 2018 | N5: 2019 | O5: 2020 | P5: 2021 | Q5: 2022 | R5: 2023 | S5: 2024 | T5: 2025 | W5: 2008 | X5: 2009 | Y5: 2010 | Z5: 2011 | AA5: 2012 | AB5: 2013 | AC5: 2014 | AD5: 2015 | AE5: 2016 | AF5: 2017 | AG5: 2018 | AH5: 2019 | AI5: 2020 | AJ5: 2021 | AK5: 2022 | AL5: 2023 | AM5: 2024 | AN5: 2025
B6: Prej | V6: Preescolar | W6: =C8 -> 116 | X6: =D8 -> 127 | Y6: =E8 -> 132 | Z6: =F8 -> 160 | AA6: =G8 -> 158 | AB6: =H8 -> 150 | AC6: =I8 -> 175 | AD6: =J8 -> 160 | ... AN6: =T8 -> 118
B7: Jard | V7: Primaria | W7: =SUM(C9:C13,C34) -> 775 | X7: =SUM(D9:D13,D34) -> 806 | Y7: =SUM(E9:E13,E34) -> 800 | Z7: =SUM(F9:F13,F34) -> 754 | AA7: =SUM(G9:G13,G34) -> 762 | AB7: =SUM(H9:H13,H34) -> 775 | AC7: =SUM(I9:I13,I34) -> 754 | AD7: =SUM(J9:J13,J34) -> 723 | ... AN7: =SUM(T9:T13,T34) -> 684
B8: 0° | C8: 116 | D8: 127 | E8: 132 | F8: 160 | G8: 158 | H8: 150 | I8: 175 | J8: 160 | K8: 167 | L8: 152 | M8: 166 | N8: 160 | O8: 165 | P8: 150 | Q8: 160 | R8: 167 | S8: 138 | T8: 118 | V8: Secundaria | W8: =SUM(C14:C17) -> 387 | X8: =SUM(D14:D17) -> 378 | Y8: =SUM(E14:E17) -> 385 | Z8: =SUM(F14:F17) -> 417 | AA8: =SUM(G14:G17) -> 445 | AB8: =SUM(H14:H17) -> 443 | AC8: =SUM(I14:I17) -> 464 | AD8: =SUM(J14:J17) -> 502 | ... AN8: =SUM(T14:T17) -> 525
B9: 1º | C9: 175 | D9: 178 | E9: 174 | F9: 156 | G9: 173 | H9: 164 | I9: 140 | J9: 154 | K9: 152 | L9: 153 | M9: 145 | N9: 158 | O9: 129 | P9: 136 | Q9: 129 | R9: 143 | S9: 131 | T9: 155 | V9: Media | W9: =SUM(C18:C19) -> 0 | X9: =SUM(D18:D19) -> 0 | Y9: =SUM(E18:E19) -> 0 | Z9: =SUM(F18:F19) -> 0 | AA9: =SUM(G18:G19) -> 44 | AB9: =SUM(H18:H19) -> 82 | AC9: =SUM(I18:I19) -> 75 | AD9: =SUM(J18:J19) -> 110 | ... AN9: =SUM(T18:T19) -> 138
B10: 2º | C10: 140 | D10: 153 | E10: 173 | F10: 149 | G10: 146 | H10: 163 | I10: 160 | J10: 128 | K10: 144 | L10: 142 | M10: 146 | N10: 130 | O10: 147 | P10: 126 | Q10: 117 | R10: 122 | S10: 134 | T10: 136 | V10: Total (0 a 11) | W10: =SUM(C8:C19,C34) -> 1278 | X10: =SUM(D8:D19,D34) -> 1311 | Y10: =SUM(E8:E19,E34) -> 1317 | Z10: =SUM(F8:F19,F34) -> 1331 | AA10: =SUM(G8:G19,G34) -> 1409 | AB10: =SUM(H8:H19,H34) -> 1450 | AC10: =SUM(I8:I19,I34) -> 1468 | AD10: =SUM(J8:J19,J34) -> 1495 | ... AN10: =SUM(T8:T19,T34) -> 1465
B11: 3º | C11: 164 | D11: 152 | E11: 148 | F11: 157 | G11: 150 | H11: 137 | I11: 157 | J11: 158 | K11: 125 | L11: 142 | M11: 139 | N11: 139 | O11: 141 | P11: 153 | Q11: 125 | R11: 119 | S11: 118 | T11: 139
B12: 4º | C12: 154 | D12: 169 | E12: 144 | F12: 144 | G12: 157 | H12: 162 | I12: 139 | J12: 145 | K12: 154 | L12: 128 | M12: 141 | N12: 143 | O12: 124 | P12: 135 | Q12: 143 | R12: 137 | S12: 126 | T12: 116 | V12: Matrícula por Nivel Educativo del Grado Cero a Once
B13: 5º | C13: 142 | D13: 154 | E13: 161 | F13: 148 | G13: 136 | H13: 149 | I13: 158 | J13: 138 | K13: 141 | L13: 154 | M13: 139 | N13: 140 | O13: 146 | P13: 122 | Q13: 134 | R13: 153 | S13: 143 | T13: 138
B14: 6º | C14: 114 | D14: 116 | E14: 123 | F14: 150 | G14: 151 | H14: 158 | I14: 166 | J14: 153 | K14: 124 | L14: 189 | M14: 158 | N14: 135 | O14: 154 | P14: 169 | Q14: 131 | R14: 155 | S14: 144 | T14: 162
B15: 7º | C15: 105 | D15: 103 | E15: 107 | F15: 114 | G15: 121 | H15: 120 | I15: 128 | J15: 133 | K15: 147 | L15: 125 | M15: 156 | N15: 148 | O15: 121 | P15: 141 | Q15: 128 | R15: 134 | S15: 133 | T15: 135 | W15: 2008 | X15: 2009 | Y15: 2010 | Z15: 2011 | AA15: 2012 | AB15: 2013 | AC15: 2014 | AD15: 2015 | AE15: 2016 | AF15: 2017 | AG15: 2018 | AH15: 2019 | AI15: 2020 | AJ15: 2021 | AK15: 2022 | AL15: 2023 | AM15: 2024 | AN15: 2025
B16: 8º | C16: 97 | D16: 86 | E16: 86 | F16: 94 | G16: 107 | H16: 109 | I16: 96 | J16: 128 | K16: 119 | L16: 131 | M16: 115 | N16: 150 | O16: 128 | P16: 107 | Q16: 109 | R16: 119 | S16: 113 | T16: 123 | V16: Preescolar | X16: =(X6-W6)/W6*100 -> 9.4827586 | Y16: =(Y6-X6)/X6*100 -> 3.9370079 | Z16: =(Z6-Y6)/Y6*100 -> 21.212121 | AA16: =(AA6-Z6)/Z6*100 -> -1.25 | AB16: =(AB6-AA6)/AA6*100 -> -5.0632911 | AC16: =(AC6-AB6)/AB6*100 -> 16.666667 | AD16: =(AD6-AC6)/AC6*100 -> -8.5714286 | AE16: =(AE6-AD6)/AD6*100 -> 4.375 | ... AN16: =(AN6-AM6)/AM6*100 -> -14.492754
B17: 9º | C17: 71 | D17: 73 | E17: 69 | F17: 59 | G17: 66 | H17: 56 | I17: 74 | J17: 88 | K17: 99 | L17: 105 | M17: 107 | N17: 98 | O17: 122 | P17: 120 | Q17: 84 | R17: 92 | S17: 100 | T17: 105 | V17: Primaria | X17: =(X7-W7)/W7*100 -> 4 | Y17: =(Y7-X7)/X7*100 -> -0.74441687 | Z17: =(Z7-Y7)/Y7*100 -> -5.75 | AA17: =(AA7-Z7)/Z7*100 -> 1.061008 | AB17: =(AB7-AA7)/AA7*100 -> 1.7060367 | AC17: =(AC7-AB7)/AB7*100 -> -2.7096774 | AD17: =(AD7-AC7)/AC7*100 -> -4.1114058 | AE17: =(AE7-AD7)/AD7*100 -> -0.96818811 | ... AN17: =(AN7-AM7)/AM7*100 -> 4.9079755
B18: 10º | G18: 44 | H18: 46 | I18: 40 | J18: 74 | K18: 72 | L18: 76 | M18: 87 | N18: 98 | O18: 77 | P18: 97 | Q18: 90 | R18: 79 | S18: 78 | T18: 83 | V18: Secundaria | X18: =(X8-W8)/W8*100 -> -2.3255814 | Y18: =(Y8-X8)/X8*100 -> 1.8518519 | Z18: =(Z8-Y8)/Y8*100 -> 8.3116883 | AA18: =(AA8-Z8)/Z8*100 -> 6.7146283 | AB18: =(AB8-AA8)/AA8*100 -> -0.4494382 | AC18: =(AC8-AB8)/AB8*100 -> 4.7404063 | AD18: =(AD8-AC8)/AC8*100 -> 8.1896552 | AE18: =(AE8-AD8)/AD8*100 -> -2.5896414 | ... AN18: =(AN8-AM8)/AM8*100 -> 7.1428571
B19: 11º | H19: 36 | I19: 35 | J19: 36 | K19: 70 | L19: 64 | M19: 53 | N19: 87 | O19: 66 | P19: 63 | Q19: 71 | R19: 69 | S19: 69 | T19: 55 | V19: Media | AB19: =(AB9-AA9)/AA9*100 -> 86.363636 | AC19: =(AC9-AB9)/AB9*100 -> -8.5365854 | AD19: =(AD9-AC9)/AC9*100 -> 46.666667 | AE19: =(AE9-AD9)/AD9*100 -> 29.090909 | AF19: =(AF9-AE9)/AE9*100 -> -1.4084507 | AG19: =(AG9-AF9)/AF9*100 -> 0 | AH19: =(AH9-AG9)/AG9*100 -> 32.142857 | AI19: =(AI9-AH9)/AH9*100 -> -22.702703 | ... AN19: =(AN9-AM9)/AM9*100 -> -6.122449
B20: 12° | V20: Total (0 a 11) | X20: =(X10-W10)/W10*100 -> 2.5821596 | Y20: =(Y10-X10)/X10*100 -> 0.4576659 | Z20: =(Z10-Y10)/Y10*100 -> 1.063022 | AA20: =(AA10-Z10)/Z10*100 -> 5.8602554 | AB20: =(AB10-AA10)/AA10*100 -> 2.9098652 | AC20: =(AC10-AB10)/AB10*100 -> 1.2413793 | AD20: =(AD10-AC10)/AC10*100 -> 1.8392371 | AE20: =(AE10-AD10)/AD10*100 -> 1.270903 | ... AN20: =(AN10-AM10)/AM10*100 -> 2.6629292
B21: 13°
B22: C0 | H22: 400 | V22: Tasa de aumento o disminución de la matrícula por nivel y año
B23: C1 | D23: 54 | E23: 52 | I23: 308 | J23: 460
B24: C2 | H24: 40 | I24: 119
B25: C3 | D25: 27 | E25: 44 | I25: 54 | J25: 57 | T25: 28
B26: C4 | F26: 17 | K26: 34
B27: C5
B28: C6 | L28: 16
B29: 41°
B30: 42°
B31: 43°
B32: 44°
B33: 45°
B34: Acel
B35: Total | C35: 1278 | D35: 1392 | E35: 1413 | F35: 1348 | G35: 1409 | H35: 1890 | I35: 1949 | J35: 2012 | K35: 1548 | L35: 1577 | M35: 1552 | N35: 1586 | O35: 1520 | P35: 1519 | Q35: 1421 | R35: 1489 | S35: 1427 | T35: 1493
B37: Promoción por año del grado cero a quinto y de sexto a once, análisis de cohortes (%)
C38: 2008 | D38: 2009 | E38: 2010 | F38: 2011 | G38: 2012 | H38: 2013 | I38: 2014 | J38: 2015 | K38: 2016 | L38: 2017 | M38: 2018 | N38: 2019 | O38: 2020 | P38: 2021 | Q38: 2022 | R38: 2023 | S38: 2024
B39: 0° | N39: 160
B40: 1º | O40: =(O9-N8)/N8*100 -> -19.375
B41: 2º | P41: =(P10-O9)/O9*100 -> -2.3255814
B42: 3º | Q42: =(Q11-P10)/P10*100 -> -0.79365079
B43: 4º | R43: =(R12-Q11)/Q11*100 -> 9.6 | T43: 5° VS 0°
B44: 5º | S44: =(S13-R12)/R12*100 -> 4.379562 | T44: =(S13-N8)/N8*100 -> -10.625
B45: 6º | N45: 135
B46: 7º | O46: =(O15-N14)/N14*100 -> -10.37037
B47: 8º | P47: =(P16-O15)/O15*100 -> -11.570248
B48: 9º | Q48: =(Q17-P16)/P16*100 -> -21.495327
B49: 10º | R49: =(R18-Q17)/Q17*100 -> -5.952381 | T49: 11° VS 6°
B50: 11º | S50: =(S19-R18)/R18*100 -> -12.658228 | T50: =(S19-N14)/N14*100 -> -48.888889

Sheet VALIDACION
B1: SECRETARÍA DE EDUCACIÓN MUNICIPAL DE PITALITO
B2: AREA DE COBERTURA - SISTEMA INTEGRADO DE MATRICULAS
B3: EVOLUCIÓN DE LA MATRÍCULA OFICIAL POR GRADO (VALIDACION)
C5: 2008 | D5: 2009 | E5: 2010 | F5: 2011 | G5: 2012 | H5: 2013 | I5: 2014 | J5: 2015 | K5: 2016 | L5: 2017 | M5: 2018 | N5: 2019 | O5: 2020 | P5: 2021 | Q5: 2022 | R5: 2023 | S5: 2024 | T5: 2025 | W5: 2008 | X5: 2009 | Y5: 2010 | Z5: 2011 | AA5: 2012 | AB5: 2013 | AC5: 2014 | AD5: 2015 | AE5: 2016 | AF5: 2017 | AG5: 2018 | AH5: 2019 | AI5: 2020 | AJ5: 2021 | AK5: 2022 | AL5: 2023 | AM5: 2024 | AN5: 2025
B6: Prej | T6: =SUM(CHILLURCO!T6+CRIOLLO!T6+'DOMINGO SAVIO'!T6+GUACACALLO!T6+'HUMBERTO M ORDOÑEZ'!T6+'JORGE V CORDOVEZ'!T6+'JOSE E RIVERA'!T6+'LA LAGUNA'!T6+'LICEO S ANDINO'!T6+MONTESSORI!T6+NACIONAL!T6+NORMAL!T6+PALMARITO!T6+PACHAKUTI!T6+VILLAFATIMA!T6+WINNIPEG!T6) -> 17 | V6: Preescolar | W6: =SUM(CHILLURCO!W6+CRIOLLO!W6+'DOMINGO SAVIO'!W6+GUACACALLO!W6+'HUMBERTO M ORDOÑEZ'!W6+'JORGE V CORDOVEZ'!W6+'JOSE E RIVERA'!W6+'LA LAGUNA'!W6+'LICEO S ANDINO'!W6+MONTESSORI!W6+NACIONAL!W6+NORMAL!W6+PALMARITO!W6+PACHAKUTI!W6+VILLAFATIMA!W6+WINNIPEG!W6) -> 1874 | X6: =SUM(CHILLURCO!X6+CRIOLLO!X6+'DOMINGO SAVIO'!X6+GUACACALLO!X6+'HUMBERTO M ORDOÑEZ'!X6+'JORGE V CORDOVEZ'!X6+'JOSE E RIVERA'!X6+'LA LAGUNA'!X6+'LICEO S ANDINO'!X6+MONTESSORI!X6+NACIONAL!X6+NORMAL!X6+PALMARITO!X6+PACHAKUTI!X6+VILLAFATIMA!X6+WINNIPEG!X6) -> 1853 | Y6: =SUM(CHILLURCO!Y6+CRIOLLO!Y6+'DOMINGO SAVIO'!Y6+GUACACALLO!Y6+'HUMBERTO M ORDOÑEZ'!Y6+'JORGE V CORDOVEZ'!Y6+'JOSE E RIVERA'!Y6+'LA LAGUNA'!Y6+'LICEO S ANDINO'!Y6+MONTESSORI!Y6+NACIONAL!Y6+NORMAL!Y6+PALMARITO!Y6+PACHAKUTI!Y6+VILLAFATIMA!Y6+WINNIPEG!Y6) -> 1858 | Z6: =SUM(CHILLURCO!Z6+CRIOLLO!Z6+'DOMINGO SAVIO'!Z6+GUACACALLO!Z6+'HUMBERTO M ORDOÑEZ'!Z6+'JORGE V CORDOVEZ'!Z6+'JOSE E RIVERA'!Z6+'LA LAGUNA'!Z6+'LICEO S ANDINO'!Z6+MONTESSORI!Z6+NACIONAL!Z6+NORMAL!Z6+PALMARITO!Z6+PACHAKUTI!Z6+VILLAFATIMA!Z6+WINNIPEG!Z6) -> 2066 | AA6: =SUM(CHILLURCO!AA6+CRIOLLO!AA6+'DOMINGO SAVIO'!AA6+GUACACALLO!AA6+'HUMBERTO M ORDOÑEZ'!AA6+'JORGE V CORDOVEZ'!AA6+'JOSE E RIVERA'!AA6+'LA LAGUNA'!AA6+'LICEO S ANDINO'!AA6+MONTESSORI!AA6+NACIONAL!AA6+NORMAL!AA6+PALMARITO!AA6+PACHAKUTI!AA6+VILLAFATIMA!AA6+WINNIPEG!AA6) -> 2105 | AB6: =SUM(CHILLURCO!AB6+CRIOLLO!AB6+'DOMINGO SAVIO'!AB6+GUACACALLO!AB6+'HUMBERTO M ORDOÑEZ'!AB6+'JORGE V CORDOVEZ'!AB6+'JOSE E RIVERA'!AB6+'LA LAGUNA'!AB6+'LICEO S ANDINO'!AB6+MONTESSORI!AB6+NACIONAL!AB6+NORMAL!AB6+PALMARITO!AB6+PACHAKUTI!AB6+VILLAFATIMA!AB6+WINNIPEG!AB6) -> 2153 | AC6: =SUM(CHILLURCO!AC6+CRIOLLO!AC6+'DOMINGO SAVIO'!AC6+GUACACALLO!AC6+'HUMBERTO M ORDOÑEZ'!AC6+'JORGE V CORDOVEZ'!AC6+'JOSE E RIVERA'!AC6+'LA LAGUNA'!AC6+'LICEO S ANDINO'!AC6+MONTESSORI!AC6+NACIONAL!AC6+NORMAL!AC6+PALMARITO!AC6+PACHAKUTI!AC6+VILLAFATIMA!AC6+WINNIPEG!AC6) -> 1954 | AD6: =SUM(CHILLURCO!AD6+CRIOLLO!AD6+'DOMINGO SAVIO'!AD6+GUACACALLO!AD6+'HUMBERTO M ORDOÑEZ'!AD6+'JORGE V CORDOVEZ'!AD6+'JOSE E RIVERA'!AD6+'LA LAGUNA'!AD6+'LICEO S ANDINO'!AD6+MONTESSORI!AD6+NACIONAL!AD6+NORMAL!AD6+PALMARITO!AD6+PACHAKUTI!AD6+VILLAFATIMA!AD6+WINNIPEG!AD6) -> 1930 | ... AN6: =SUM(CHILLURCO!AN6+CRIOLLO!AN6+'DOMINGO SAVIO'!AN6+GUACACALLO!AN6+'HUMBERTO M ORDOÑEZ'!AN6+'JORGE V CORDOVEZ'!AN6+'JOSE E RIVERA'!AN6+'LA LAGUNA'!AN6+'LICEO S ANDINO'!AN6+MONTESSORI!AN6+NACIONAL!AN6+NORMAL!AN6+PALMARITO!AN6+PACHAKUTI!AN6+VILLAFATIMA!AN6+WINNIPEG!AN6) -> 1940
B7: Jard | T7: =SUM(CHILLURCO!T7+CRIOLLO!T7+'DOMINGO SAVIO'!T7+GUACACALLO!T7+'HUMBERTO M ORDOÑEZ'!T7+'JORGE V CORDOVEZ'!T7+'JOSE E RIVERA'!T7+'LA LAGUNA'!T7+'LICEO S ANDINO'!T7+MONTESSORI!T7+NACIONAL!T7+NORMAL!T7+PALMARITO!T7+PACHAKUTI!T7+VILLAFATIMA!T7+WINNIPEG!T7) -> 83 | V7: Primaria | W7: =SUM(CHILLURCO!W7+CRIOLLO!W7+'DOMINGO SAVIO'!W7+GUACACALLO!W7+'HUMBERTO M ORDOÑEZ'!W7+'JORGE V CORDOVEZ'!W7+'JOSE E RIVERA'!W7+'LA LAGUNA'!W7+'LICEO S ANDINO'!W7+MONTESSORI!W7+NACIONAL!W7+NORMAL!W7+PALMARITO!W7+PACHAKUTI!W7+VILLAFATIMA!W7+WINNIPEG!W7) -> 14140 | X7: =SUM(CHILLURCO!X7+CRIOLLO!X7+'DOMINGO SAVIO'!X7+GUACACALLO!X7+'HUMBERTO M ORDOÑEZ'!X7+'JORGE V CORDOVEZ'!X7+'JOSE E RIVERA'!X7+'LA LAGUNA'!X7+'LICEO S ANDINO'!X7+MONTESSORI!X7+NACIONAL!X7+NORMAL!X7+PALMARITO!X7+PACHAKUTI!X7+VILLAFATIMA!X7+WINNIPEG!X7) -> 14140 | Y7: =SUM(CHILLURCO!Y7+CRIOLLO!Y7+'DOMINGO SAVIO'!Y7+GUACACALLO!Y7+'HUMBERTO M ORDOÑEZ'!Y7+'JORGE V CORDOVEZ'!Y7+'JOSE E RIVERA'!Y7+'LA LAGUNA'!Y7+'LICEO S ANDINO'!Y7+MONTESSORI!Y7+NACIONAL!Y7+NORMAL!Y7+PALMARITO!Y7+PACHAKUTI!Y7+VILLAFATIMA!Y7+WINNIPEG!Y7) -> 14054 | Z7: =SUM(CHILLURCO!Z7+CRIOLLO!Z7+'DOMINGO SAVIO'!Z7+GUACACALLO!Z7+'HUMBERTO M ORDOÑEZ'!Z7+'JORGE V CORDOVEZ'!Z7+'JOSE E RIVERA'!Z7+'LA LAGUNA'!Z7+'LICEO S ANDINO'!Z7+MONTESSORI!Z7+NACIONAL!Z7+NORMAL!Z7+PALMARITO!Z7+PACHAKUTI!Z7+VILLAFATIMA!Z7+WINNIPEG!Z7) -> 13642 | AA7: =SUM(CHILLURCO!AA7+CRIOLLO!AA7+'DOMINGO SAVIO'!AA7+GUACACALLO!AA7+'HUMBERTO M ORDOÑEZ'!AA7+'JORGE V CORDOVEZ'!AA7+'JOSE E RIVERA'!AA7+'LA LAGUNA'!AA7+'LICEO S ANDINO'!AA7+MONTESSORI!AA7+NACIONAL!AA7+NORMAL!AA7+PALMARITO!AA7+PACHAKUTI!AA7+VILLAFATIMA!AA7+WINNIPEG!AA7) -> 13820 | AB7: =SUM(CHILLURCO!AB7+CRIOLLO!AB7+'DOMINGO SAVIO'!AB7+GUACACALLO!AB7+'HUMBERTO M ORDOÑEZ'!AB7+'JORGE V CORDOVEZ'!AB7+'JOSE E RIVERA'!AB7+'LA LAGUNA'!AB7+'LICEO S ANDINO'!AB7+MONTESSORI!AB7+NACIONAL!AB7+NORMAL!AB7+PALMARITO!AB7+PACHAKUTI!AB7+VILLAFATIMA!AB7+WINNIPEG!AB7) -> 13977 | AC7: =SUM(CHILLURCO!AC7+CRIOLLO!AC7+'DOMINGO SAVIO'!AC7+GUACACALLO!AC7+'HUMBERTO M ORDOÑEZ'!AC7+'JORGE V CORDOVEZ'!AC7+'JOSE E RIVERA'!AC7+'LA LAGUNA'!AC7+'LICEO S ANDINO'!AC7+MONTESSORI!AC7+NACIONAL!AC7+NORMAL!AC7+PALMARITO!AC7+PACHAKUTI!AC7+VILLAFATIMA!AC7+WINNIPEG!AC7) -> 13554 | AD7: =SUM(CHILLURCO!AD7+CRIOLLO!AD7+'DOMINGO SAVIO'!AD7+GUACACALLO!AD7+'HUMBERTO M ORDOÑEZ'!AD7+'JORGE V CORDOVEZ'!AD7+'JOSE E RIVERA'!AD7+'LA LAGUNA'!AD7+'LICEO S ANDINO'!AD7+MONTESSORI!AD7+NACIONAL!AD7+NORMAL!AD7+PALMARITO!AD7+PACHAKUTI!AD7+VILLAFATIMA!AD7+WINNIPEG!AD7) -> 13277 | ... AN7: =SUM(CHILLURCO!AN7+CRIOLLO!AN7+'DOMINGO SAVIO'!AN7+GUACACALLO!AN7+'HUMBERTO M ORDOÑEZ'!AN7+'JORGE V CORDOVEZ'!AN7+'JOSE E RIVERA'!AN7+'LA LAGUNA'!AN7+'LICEO S ANDINO'!AN7+MONTESSORI!AN7+NACIONAL!AN7+NORMAL!AN7+PALMARITO!AN7+PACHAKUTI!AN7+VILLAFATIMA!AN7+WINNIPEG!AN7) -> 12629
B8: 0° | C8: =SUM(CHILLURCO!C8+CRIOLLO!C8+'DOMINGO SAVIO'!C8+GUACACALLO!C8+'HUMBERTO M ORDOÑEZ'!C8+'JORGE V CORDOVEZ'!C8+'JOSE E RIVERA'!C8+'LA LAGUNA'!C8+'LICEO S ANDINO'!C8+MONTESSORI!C8+NACIONAL!C8+NORMAL!C8+PALMARITO!C8+PACHAKUTI!C8+VILLAFATIMA!C8+WINNIPEG!C8) -> 1874 | D8: =SUM(CHILLURCO!D8+CRIOLLO!D8+'DOMINGO SAVIO'!D8+GUACACALLO!D8+'HUMBERTO M ORDOÑEZ'!D8+'JORGE V CORDOVEZ'!D8+'JOSE E RIVERA'!D8+'LA LAGUNA'!D8+'LICEO S ANDINO'!D8+MONTESSORI!D8+NACIONAL!D8+NORMAL!D8+PALMARITO!D8+PACHAKUTI!D8+VILLAFATIMA!D8+WINNIPEG!D8) -> 1853 | E8: =SUM(CHILLURCO!E8+CRIOLLO!E8+'DOMINGO SAVIO'!E8+GUACACALLO!E8+'HUMBERTO M ORDOÑEZ'!E8+'JORGE V CORDOVEZ'!E8+'JOSE E RIVERA'!E8+'LA LAGUNA'!E8+'LICEO S ANDINO'!E8+MONTESSORI!E8+NACIONAL!E8+NORMAL!E8+PALMARITO!E8+PACHAKUTI!E8+VILLAFATIMA!E8+WINNIPEG!E8) -> 1858 | F8: =SUM(CHILLURCO!F8+CRIOLLO!F8+'DOMINGO SAVIO'!F8+GUACACALLO!F8+'HUMBERTO M ORDOÑEZ'!F8+'JORGE V CORDOVEZ'!F8+'JOSE E RIVERA'!F8+'LA LAGUNA'!F8+'LICEO S ANDINO'!F8+MONTESSORI!F8+NACIONAL!F8+NORMAL!F8+PALMARITO!F8+PACHAKUTI!F8+VILLAFATIMA!F8+WINNIPEG!F8) -> 2066 | G8: =SUM(CHILLURCO!G8+CRIOLLO!G8+'DOMINGO SAVIO'!G8+GUACACALLO!G8+'HUMBERTO M ORDOÑEZ'!G8+'JORGE V CORDOVEZ'!G8+'JOSE E RIVERA'!G8+'LA LAGUNA'!G8+'LICEO S ANDINO'!G8+MONTESSORI!G8+NACIONAL!G8+NORMAL!G8+PALMARITO!G8+PACHAKUTI!G8+VILLAFATIMA!G8+WINNIPEG!G8) -> 2105 | H8: =SUM(CHILLURCO!H8+CRIOLLO!H8+'DOMINGO SAVIO'!H8+GUACACALLO!H8+'HUMBERTO M ORDOÑEZ'!H8+'JORGE V CORDOVEZ'!H8+'JOSE E RIVERA'!H8+'LA LAGUNA'!H8+'LICEO S ANDINO'!H8+MONTESSORI!H8+NACIONAL!H8+NORMAL!H8+PALMARITO!H8+PACHAKUTI!H8+VILLAFATIMA!H8+WINNIPEG!H8) -> 2153 | I8: =SUM(CHILLURCO!I8+CRIOLLO!I8+'DOMINGO SAVIO'!I8+GUACACALLO!I8+'HUMBERTO M ORDOÑEZ'!I8+'JORGE V CORDOVEZ'!I8+'JOSE E RIVERA'!I8+'LA LAGUNA'!I8+'LICEO S ANDINO'!I8+MONTESSORI!I8+NACIONAL!I8+NORMAL!I8+PALMARITO!I8+PACHAKUTI!I8+VILLAFATIMA!I8+WINNIPEG!I8) -> 1954 | J8: =SUM(CHILLURCO!J8+CRIOLLO!J8+'DOMINGO SAVIO'!J8+GUACACALLO!J8+'HUMBERTO M ORDOÑEZ'!J8+'JORGE V CORDOVEZ'!J8+'JOSE E RIVERA'!J8+'LA LAGUNA'!J8+'LICEO S ANDINO'!J8+MONTESSORI!J8+NACIONAL!J8+NORMAL!J8+PALMARITO!J8+PACHAKUTI!J8+VILLAFATIMA!J8+WINNIPEG!J8) -> 1930 | ... T8: =SUM(CHILLURCO!T8+CRIOLLO!T8+'DOMINGO SAVIO'!T8+GUACACALLO!T8+'HUMBERTO M ORDOÑEZ'!T8+'JORGE V CORDOVEZ'!T8+'JOSE E RIVERA'!T8+'LA LAGUNA'!T8+'LICEO S ANDINO'!T8+MONTESSORI!T8+NACIONAL!T8+NORMAL!T8+PALMARITO!T8+PACHAKUTI!T8+VILLAFATIMA!T8+WINNIPEG!T8) -> 1940 | V8: Secundaria | W8: =SUM(CHILLURCO!W8+CRIOLLO!W8+'DOMINGO SAVIO'!W8+GUACACALLO!W8+'HUMBERTO M ORDOÑEZ'!W8+'JORGE V CORDOVEZ'!W8+'JOSE E RIVERA'!W8+'LA LAGUNA'!W8+'LICEO S ANDINO'!W8+MONTESSORI!W8+NACIONAL!W8+NORMAL!W8+PALMARITO!W8+PACHAKUTI!W8+VILLAFATIMA!W8+WINNIPEG!W8) -> 7903 | X8: =SUM(CHILLURCO!X8+CRIOLLO!X8+'DOMINGO SAVIO'!X8+GUACACALLO!X8+'HUMBERTO M ORDOÑEZ'!X8+'JORGE V CORDOVEZ'!X8+'JOSE E RIVERA'!X8+'LA LAGUNA'!X8+'LICEO S ANDINO'!X8+MONTESSORI!X8+NACIONAL!X8+NORMAL!X8+PALMARITO!X8+PACHAKUTI!X8+VILLAFATIMA!X8+WINNIPEG!X8) -> 8176 | Y8: =SUM(CHILLURCO!Y8+CRIOLLO!Y8+'DOMINGO SAVIO'!Y8+GUACACALLO!Y8+'HUMBERTO M ORDOÑEZ'!Y8+'JORGE V CORDOVEZ'!Y8+'JOSE E RIVERA'!Y8+'LA LAGUNA'!Y8+'LICEO S ANDINO'!Y8+MONTESSORI!Y8+NACIONAL!Y8+NORMAL!Y8+PALMARITO!Y8+PACHAKUTI!Y8+VILLAFATIMA!Y8+WINNIPEG!Y8) -> 9215 | Z8: =SUM(CHILLURCO!Z8+CRIOLLO!Z8+'DOMINGO SAVIO'!Z8+GUACACALLO!Z8+'HUMBERTO M ORDOÑEZ'!Z8+'JORGE V CORDOVEZ'!Z8+'JOSE E RIVERA'!Z8+'LA LAGUNA'!Z8+'LICEO S ANDINO'!Z8+MONTESSORI!Z8+NACIONAL!Z8+NORMAL!Z8+PALMARITO!Z8+PACHAKUTI!Z8+VILLAFATIMA!Z8+WINNIPEG!Z8) -> 9407 | AA8: =SUM(CHILLURCO!AA8+CRIOLLO!AA8+'DOMINGO SAVIO'!AA8+GUACACALLO!AA8+'HUMBERTO M ORDOÑEZ'!AA8+'JORGE V CORDOVEZ'!AA8+'JOSE E RIVERA'!AA8+'LA LAGUNA'!AA8+'LICEO S ANDINO'!AA8+MONTESSORI!AA8+NACIONAL!AA8+NORMAL!AA8+PALMARITO!AA8+PACHAKUTI!AA8+VILLAFATIMA!AA8+WINNIPEG!AA8) -> 9427 | AB8: =SUM(CHILLURCO!AB8+CRIOLLO!AB8+'DOMINGO SAVIO'!AB8+GUACACALLO!AB8+'HUMBERTO M ORDOÑEZ'!AB8+'JORGE V CORDOVEZ'!AB8+'JOSE E RIVERA'!AB8+'LA LAGUNA'!AB8+'LICEO S ANDINO'!AB8+MONTESSORI!AB8+NACIONAL!AB8+NORMAL!AB8+PALMARITO!AB8+PACHAKUTI!AB8+VILLAFATIMA!AB8+WINNIPEG!AB8) -> 9624 | AC8: =SUM(CHILLURCO!AC8+CRIOLLO!AC8+'DOMINGO SAVIO'!AC8+GUACACALLO!AC8+'HUMBERTO M ORDOÑEZ'!AC8+'JORGE V CORDOVEZ'!AC8+'JOSE E RIVERA'!AC8+'LA LAGUNA'!AC8+'LICEO S ANDINO'!AC8+MONTESSORI!AC8+NACIONAL!AC8+NORMAL!AC8+PALMARITO!AC8+PACHAKUTI!AC8+VILLAFATIMA!AC8+WINNIPEG!AC8) -> 9790 | AD8: =SUM(CHILLURCO!AD8+CRIOLLO!AD8+'DOMINGO SAVIO'!AD8+GUACACALLO!AD8+'HUMBERTO M ORDOÑEZ'!AD8+'JORGE V CORDOVEZ'!AD8+'JOSE E RIVERA'!AD8+'LA LAGUNA'!AD8+'LICEO S ANDINO'!AD8+MONTESSORI!AD8+NACIONAL!AD8+NORMAL!AD8+PALMARITO!AD8+PACHAKUTI!AD8+VILLAFATIMA!AD8+WINNIPEG!AD8) -> 9891 | ... AN8: =SUM(CHILLURCO!AN8+CRIOLLO!AN8+'DOMINGO SAVIO'!AN8+GUACACALLO!AN8+'HUMBERTO M ORDOÑEZ'!AN8+'JORGE V CORDOVEZ'!AN8+'JOSE E RIVERA'!AN8+'LA LAGUNA'!AN8+'LICEO S ANDINO'!AN8+MONTESSORI!AN8+NACIONAL!AN8+NORMAL!AN8+PALMARITO!AN8+PACHAKUTI!AN8+VILLAFATIMA!AN8+WINNIPEG!AN8) -> 8785
B9: 1º | C9: =SUM(CHILLURCO!C9+CRIOLLO!C9+'DOMINGO SAVIO'!C9+GUACACALLO!C9+'HUMBERTO M ORDOÑEZ'!C9+'JORGE V CORDOVEZ'!C9+'JOSE E RIVERA'!C9+'LA LAGUNA'!C9+'LICEO S ANDINO'!C9+MONTESSORI!C9+NACIONAL!C9+NORMAL!C9+PALMARITO!C9+PACHAKUTI!C9+VILLAFATIMA!C9+WINNIPEG!C9) -> 2903 | D9: =SUM(CHILLURCO!D9+CRIOLLO!D9+'DOMINGO SAVIO'!D9+GUACACALLO!D9+'HUMBERTO M ORDOÑEZ'!D9+'JORGE V CORDOVEZ'!D9+'JOSE E RIVERA'!D9+'LA LAGUNA'!D9+'LICEO S ANDINO'!D9+MONTESSORI!D9+NACIONAL!D9+NORMAL!D9+PALMARITO!D9+PACHAKUTI!D9+VILLAFATIMA!D9+WINNIPEG!D9) -> 3034 | E9: =SUM(CHILLURCO!E9+CRIOLLO!E9+'DOMINGO SAVIO'!E9+GUACACALLO!E9+'HUMBERTO M ORDOÑEZ'!E9+'JORGE V CORDOVEZ'!E9+'JOSE E RIVERA'!E9+'LA LAGUNA'!E9+'LICEO S ANDINO'!E9+MONTESSORI!E9+NACIONAL!E9+NORMAL!E9+PALMARITO!E9+PACHAKUTI!E9+VILLAFATIMA!E9+WINNIPEG!E9) -> 2751 | F9: =SUM(CHILLURCO!F9+CRIOLLO!F9+'DOMINGO SAVIO'!F9+GUACACALLO!F9+'HUMBERTO M ORDOÑEZ'!F9+'JORGE V CORDOVEZ'!F9+'JOSE E RIVERA'!F9+'LA LAGUNA'!F9+'LICEO S ANDINO'!F9+MONTESSORI!F9+NACIONAL!F9+NORMAL!F9+PALMARITO!F9+PACHAKUTI!F9+VILLAFATIMA!F9+WINNIPEG!F9) -> 2770 | G9: =SUM(CHILLURCO!G9+CRIOLLO!G9+'DOMINGO SAVIO'!G9+GUACACALLO!G9+'HUMBERTO M ORDOÑEZ'!G9+'JORGE V CORDOVEZ'!G9+'JOSE E RIVERA'!G9+'LA LAGUNA'!G9+'LICEO S ANDINO'!G9+MONTESSORI!G9+NACIONAL!G9+NORMAL!G9+PALMARITO!G9+PACHAKUTI!G9+VILLAFATIMA!G9+WINNIPEG!G9) -> 2981 | H9: =SUM(CHILLURCO!H9+CRIOLLO!H9+'DOMINGO SAVIO'!H9+GUACACALLO!H9+'HUMBERTO M ORDOÑEZ'!H9+'JORGE V CORDOVEZ'!H9+'JOSE E RIVERA'!H9+'LA LAGUNA'!H9+'LICEO S ANDINO'!H9+MONTESSORI!H9+NACIONAL!H9+NORMAL!H9+PALMARITO!H9+PACHAKUTI!H9+VILLAFATIMA!H9+WINNIPEG!H9) -> 3138 | I9: =SUM(CHILLURCO!I9+CRIOLLO!I9+'DOMINGO SAVIO'!I9+GUACACALLO!I9+'HUMBERTO M ORDOÑEZ'!I9+'JORGE V CORDOVEZ'!I9+'JOSE E RIVERA'!I9+'LA LAGUNA'!I9+'LICEO S ANDINO'!I9+MONTESSORI!I9+NACIONAL!I9+NORMAL!I9+PALMARITO!I9+PACHAKUTI!I9+VILLAFATIMA!I9+WINNIPEG!I9) -> 3000 | J9: =SUM(CHILLURCO!J9+CRIOLLO!J9+'DOMINGO SAVIO'!J9+GUACACALLO!J9+'HUMBERTO M ORDOÑEZ'!J9+'JORGE V CORDOVEZ'!J9+'JOSE E RIVERA'!J9+'LA LAGUNA'!J9+'LICEO S ANDINO'!J9+MONTESSORI!J9+NACIONAL!J9+NORMAL!J9+PALMARITO!J9+PACHAKUTI!J9+VILLAFATIMA!J9+WINNIPEG!J9) -> 2681 | ... T9: =SUM(CHILLURCO!T9+CRIOLLO!T9+'DOMINGO SAVIO'!T9+GUACACALLO!T9+'HUMBERTO M ORDOÑEZ'!T9+'JORGE V CORDOVEZ'!T9+'JOSE E RIVERA'!T9+'LA LAGUNA'!T9+'LICEO S ANDINO'!T9+MONTESSORI!T9+NACIONAL!T9+NORMAL!T9+PALMARITO!T9+PACHAKUTI!T9+VILLAFATIMA!T9+WINNIPEG!T9) -> 2624 | V9: Media | W9: =SUM(CHILLURCO!W9+CRIOLLO!W9+'DOMINGO SAVIO'!W9+GUACACALLO!W9+'HUMBERTO M ORDOÑEZ'!W9+'JORGE V CORDOVEZ'!W9+'JOSE E RIVERA'!W9+'LA LAGUNA'!W9+'LICEO S ANDINO'!W9+MONTESSORI!W9+NACIONAL!W9+NORMAL!W9+PALMARITO!W9+PACHAKUTI!W9+VILLAFATIMA!W9+WINNIPEG!W9) -> 2048 | X9: =SUM(CHILLURCO!X9+CRIOLLO!X9+'DOMINGO SAVIO'!X9+GUACACALLO!X9+'HUMBERTO M ORDOÑEZ'!X9+'JORGE V CORDOVEZ'!X9+'JOSE E RIVERA'!X9+'LA LAGUNA'!X9+'LICEO S ANDINO'!X9+MONTESSORI!X9+NACIONAL!X9+NORMAL!X9+PALMARITO!X9+PACHAKUTI!X9+VILLAFATIMA!X9+WINNIPEG!X9) -> 2145 | Y9: =SUM(CHILLURCO!Y9+CRIOLLO!Y9+'DOMINGO SAVIO'!Y9+GUACACALLO!Y9+'HUMBERTO M ORDOÑEZ'!Y9+'JORGE V CORDOVEZ'!Y9+'JOSE E RIVERA'!Y9+'LA LAGUNA'!Y9+'LICEO S ANDINO'!Y9+MONTESSORI!Y9+NACIONAL!Y9+NORMAL!Y9+PALMARITO!Y9+PACHAKUTI!Y9+VILLAFATIMA!Y9+WINNIPEG!Y9) -> 2423 | Z9: =SUM(CHILLURCO!Z9+CRIOLLO!Z9+'DOMINGO SAVIO'!Z9+GUACACALLO!Z9+'HUMBERTO M ORDOÑEZ'!Z9+'JORGE V CORDOVEZ'!Z9+'JOSE E RIVERA'!Z9+'LA LAGUNA'!Z9+'LICEO S ANDINO'!Z9+MONTESSORI!Z9+NACIONAL!Z9+NORMAL!Z9+PALMARITO!Z9+PACHAKUTI!Z9+VILLAFATIMA!Z9+WINNIPEG!Z9) -> 2606 | AA9: =SUM(CHILLURCO!AA9+CRIOLLO!AA9+'DOMINGO SAVIO'!AA9+GUACACALLO!AA9+'HUMBERTO M ORDOÑEZ'!AA9+'JORGE V CORDOVEZ'!AA9+'JOSE E RIVERA'!AA9+'LA LAGUNA'!AA9+'LICEO S ANDINO'!AA9+MONTESSORI!AA9+NACIONAL!AA9+NORMAL!AA9+PALMARITO!AA9+PACHAKUTI!AA9+VILLAFATIMA!AA9+WINNIPEG!AA9) -> 2631 | AB9: =SUM(CHILLURCO!AB9+CRIOLLO!AB9+'DOMINGO SAVIO'!AB9+GUACACALLO!AB9+'HUMBERTO M ORDOÑEZ'!AB9+'JORGE V CORDOVEZ'!AB9+'JOSE E RIVERA'!AB9+'LA LAGUNA'!AB9+'LICEO S ANDINO'!AB9+MONTESSORI!AB9+NACIONAL!AB9+NORMAL!AB9+PALMARITO!AB9+PACHAKUTI!AB9+VILLAFATIMA!AB9+WINNIPEG!AB9) -> 2677 | AC9: =SUM(CHILLURCO!AC9+CRIOLLO!AC9+'DOMINGO SAVIO'!AC9+GUACACALLO!AC9+'HUMBERTO M ORDOÑEZ'!AC9+'JORGE V CORDOVEZ'!AC9+'JOSE E RIVERA'!AC9+'LA LAGUNA'!AC9+'LICEO S ANDINO'!AC9+MONTESSORI!AC9+NACIONAL!AC9+NORMAL!AC9+PALMARITO!AC9+PACHAKUTI!AC9+VILLAFATIMA!AC9+WINNIPEG!AC9) -> 2703 | AD9: =SUM(CHILLURCO!AD9+CRIOLLO!AD9+'DOMINGO SAVIO'!AD9+GUACACALLO!AD9+'HUMBERTO M ORDOÑEZ'!AD9+'JORGE V CORDOVEZ'!AD9+'JOSE E RIVERA'!AD9+'LA LAGUNA'!AD9+'LICEO S ANDINO'!AD9+MONTESSORI!AD9+NACIONAL!AD9+NORMAL!AD9+PALMARITO!AD9+PACHAKUTI!AD9+VILLAFATIMA!AD9+WINNIPEG!AD9) -> 2765 | ... AN9: =SUM(CHILLURCO!AN9+CRIOLLO!AN9+'DOMINGO SAVIO'!AN9+GUACACALLO!AN9+'HUMBERTO M ORDOÑEZ'!AN9+'JORGE V CORDOVEZ'!AN9+'JOSE E RIVERA'!AN9+'LA LAGUNA'!AN9+'LICEO S ANDINO'!AN9+MONTESSORI!AN9+NACIONAL!AN9+NORMAL!AN9+PALMARITO!AN9+PACHAKUTI!AN9+VILLAFATIMA!AN9+WINNIPEG!AN9) -> 2645
B10: 2º | C10: =SUM(CHILLURCO!C10+CRIOLLO!C10+'DOMINGO SAVIO'!C10+GUACACALLO!C10+'HUMBERTO M ORDOÑEZ'!C10+'JORGE V CORDOVEZ'!C10+'JOSE E RIVERA'!C10+'LA LAGUNA'!C10+'LICEO S ANDINO'!C10+MONTESSORI!C10+NACIONAL!C10+NORMAL!C10+PALMARITO!C10+PACHAKUTI!C10+VILLAFATIMA!C10+WINNIPEG!C10) -> 2777 | D10: =SUM(CHILLURCO!D10+CRIOLLO!D10+'DOMINGO SAVIO'!D10+GUACACALLO!D10+'HUMBERTO M ORDOÑEZ'!D10+'JORGE V CORDOVEZ'!D10+'JOSE E RIVERA'!D10+'LA LAGUNA'!D10+'LICEO S ANDINO'!D10+MONTESSORI!D10+NACIONAL!D10+NORMAL!D10+PALMARITO!D10+PACHAKUTI!D10+VILLAFATIMA!D10+WINNIPEG!D10) -> 2750 | E10: =SUM(CHILLURCO!E10+CRIOLLO!E10+'DOMINGO SAVIO'!E10+GUACACALLO!E10+'HUMBERTO M ORDOÑEZ'!E10+'JORGE V CORDOVEZ'!E10+'JOSE E RIVERA'!E10+'LA LAGUNA'!E10+'LICEO S ANDINO'!E10+MONTESSORI!E10+NACIONAL!E10+NORMAL!E10+PALMARITO!E10+PACHAKUTI!E10+VILLAFATIMA!E10+WINNIPEG!E10) -> 2906 | F10: =SUM(CHILLURCO!F10+CRIOLLO!F10+'DOMINGO SAVIO'!F10+GUACACALLO!F10+'HUMBERTO M ORDOÑEZ'!F10+'JORGE V CORDOVEZ'!F10+'JOSE E RIVERA'!F10+'LA LAGUNA'!F10+'LICEO S ANDINO'!F10+MONTESSORI!F10+NACIONAL!F10+NORMAL!F10+PALMARITO!F10+PACHAKUTI!F10+VILLAFATIMA!F10+WINNIPEG!F10) -> 2683 | G10: =SUM(CHILLURCO!G10+CRIOLLO!G10+'DOMINGO SAVIO'!G10+GUACACALLO!G10+'HUMBERTO M ORDOÑEZ'!G10+'JORGE V CORDOVEZ'!G10+'JOSE E RIVERA'!G10+'LA LAGUNA'!G10+'LICEO S ANDINO'!G10+MONTESSORI!G10+NACIONAL!G10+NORMAL!G10+PALMARITO!G10+PACHAKUTI!G10+VILLAFATIMA!G10+WINNIPEG!G10) -> 2692 | H10: =SUM(CHILLURCO!H10+CRIOLLO!H10+'DOMINGO SAVIO'!H10+GUACACALLO!H10+'HUMBERTO M ORDOÑEZ'!H10+'JORGE V CORDOVEZ'!H10+'JOSE E RIVERA'!H10+'LA LAGUNA'!H10+'LICEO S ANDINO'!H10+MONTESSORI!H10+NACIONAL!H10+NORMAL!H10+PALMARITO!H10+PACHAKUTI!H10+VILLAFATIMA!H10+WINNIPEG!H10) -> 2731 | I10: =SUM(CHILLURCO!I10+CRIOLLO!I10+'DOMINGO SAVIO'!I10+GUACACALLO!I10+'HUMBERTO M ORDOÑEZ'!I10+'JORGE V CORDOVEZ'!I10+'JOSE E RIVERA'!I10+'LA LAGUNA'!I10+'LICEO S ANDINO'!I10+MONTESSORI!I10+NACIONAL!I10+NORMAL!I10+PALMARITO!I10+PACHAKUTI!I10+VILLAFATIMA!I10+WINNIPEG!I10) -> 2722 | J10: =SUM(CHILLURCO!J10+CRIOLLO!J10+'DOMINGO SAVIO'!J10+GUACACALLO!J10+'HUMBERTO M ORDOÑEZ'!J10+'JORGE V CORDOVEZ'!J10+'JOSE E RIVERA'!J10+'LA LAGUNA'!J10+'LICEO S ANDINO'!J10+MONTESSORI!J10+NACIONAL!J10+NORMAL!J10+PALMARITO!J10+PACHAKUTI!J10+VILLAFATIMA!J10+WINNIPEG!J10) -> 2722 | ... T10: =SUM(CHILLURCO!T10+CRIOLLO!T10+'DOMINGO SAVIO'!T10+GUACACALLO!T10+'HUMBERTO M ORDOÑEZ'!T10+'JORGE V CORDOVEZ'!T10+'JOSE E RIVERA'!T10+'LA LAGUNA'!T10+'LICEO S ANDINO'!T10+MONTESSORI!T10+NACIONAL!T10+NORMAL!T10+PALMARITO!T10+PACHAKUTI!T10+VILLAFATIMA!T10+WINNIPEG!T10) -> 2551 | V10: Total (0 a 11) | W10: =SUM(CHILLURCO!W10+CRIOLLO!W10+'DOMINGO SAVIO'!W10+GUACACALLO!W10+'HUMBERTO M ORDOÑEZ'!W10+'JORGE V CORDOVEZ'!W10+'JOSE E RIVERA'!W10+'LA LAGUNA'!W10+'LICEO S ANDINO'!W10+MONTESSORI!W10+NACIONAL!W10+NORMAL!W10+PALMARITO!W10+PACHAKUTI!W10+VILLAFATIMA!W10+WINNIPEG!W10) -> 25965 | X10: =SUM(CHILLURCO!X10+CRIOLLO!X10+'DOMINGO SAVIO'!X10+GUACACALLO!X10+'HUMBERTO M ORDOÑEZ'!X10+'JORGE V CORDOVEZ'!X10+'JOSE E RIVERA'!X10+'LA LAGUNA'!X10+'LICEO S ANDINO'!X10+MONTESSORI!X10+NACIONAL!X10+NORMAL!X10+PALMARITO!X10+PACHAKUTI!X10+VILLAFATIMA!X10+WINNIPEG!X10) -> 26314 | Y10: =SUM(CHILLURCO!Y10+CRIOLLO!Y10+'DOMINGO SAVIO'!Y10+GUACACALLO!Y10+'HUMBERTO M ORDOÑEZ'!Y10+'JORGE V CORDOVEZ'!Y10+'JOSE E RIVERA'!Y10+'LA LAGUNA'!Y10+'LICEO S ANDINO'!Y10+MONTESSORI!Y10+NACIONAL!Y10+NORMAL!Y10+PALMARITO!Y10+PACHAKUTI!Y10+VILLAFATIMA!Y10+WINNIPEG!Y10) -> 27550 | Z10: =SUM(CHILLURCO!Z10+CRIOLLO!Z10+'DOMINGO SAVIO'!Z10+GUACACALLO!Z10+'HUMBERTO M ORDOÑEZ'!Z10+'JORGE V CORDOVEZ'!Z10+'JOSE E RIVERA'!Z10+'LA LAGUNA'!Z10+'LICEO S ANDINO'!Z10+MONTESSORI!Z10+NACIONAL!Z10+NORMAL!Z10+PALMARITO!Z10+PACHAKUTI!Z10+VILLAFATIMA!Z10+WINNIPEG!Z10) -> 27721 | AA10: =SUM(CHILLURCO!AA10+CRIOLLO!AA10+'DOMINGO SAVIO'!AA10+GUACACALLO!AA10+'HUMBERTO M ORDOÑEZ'!AA10+'JORGE V CORDOVEZ'!AA10+'JOSE E RIVERA'!AA10+'LA LAGUNA'!AA10+'LICEO S ANDINO'!AA10+MONTESSORI!AA10+NACIONAL!AA10+NORMAL!AA10+PALMARITO!AA10+PACHAKUTI!AA10+VILLAFATIMA!AA10+WINNIPEG!AA10) -> 27983 | AB10: =SUM(CHILLURCO!AB10+CRIOLLO!AB10+'DOMINGO SAVIO'!AB10+GUACACALLO!AB10+'HUMBERTO M ORDOÑEZ'!AB10+'JORGE V CORDOVEZ'!AB10+'JOSE E RIVERA'!AB10+'LA LAGUNA'!AB10+'LICEO S ANDINO'!AB10+MONTESSORI!AB10+NACIONAL!AB10+NORMAL!AB10+PALMARITO!AB10+PACHAKUTI!AB10+VILLAFATIMA!AB10+WINNIPEG!AB10) -> 28431 | AC10: =SUM(CHILLURCO!AC10+CRIOLLO!AC10+'DOMINGO SAVIO'!AC10+GUACACALLO!AC10+'HUMBERTO M ORDOÑEZ'!AC10+'JORGE V CORDOVEZ'!AC10+'JOSE E RIVERA'!AC10+'LA LAGUNA'!AC10+'LICEO S ANDINO'!AC10+MONTESSORI!AC10+NACIONAL!AC10+NORMAL!AC10+PALMARITO!AC10+PACHAKUTI!AC10+VILLAFATIMA!AC10+WINNIPEG!AC10) -> 28001 | AD10: =SUM(CHILLURCO!AD10+CRIOLLO!AD10+'DOMINGO SAVIO'!AD10+GUACACALLO!AD10+'HUMBERTO M ORDOÑEZ'!AD10+'JORGE V CORDOVEZ'!AD10+'JOSE E RIVERA'!AD10+'LA LAGUNA'!AD10+'LICEO S ANDINO'!AD10+MONTESSORI!AD10+NACIONAL!AD10+NORMAL!AD10+PALMARITO!AD10+PACHAKUTI!AD10+VILLAFATIMA!AD10+WINNIPEG!AD10) -> 27863 | ... AN10: =SUM(CHILLURCO!AN10+CRIOLLO!AN10+'DOMINGO SAVIO'!AN10+GUACACALLO!AN10+'HUMBERTO M ORDOÑEZ'!AN10+'JORGE V CORDOVEZ'!AN10+'JOSE E RIVERA'!AN10+'LA LAGUNA'!AN10+'LICEO S ANDINO'!AN10+MONTESSORI!AN10+NACIONAL!AN10+NORMAL!AN10+PALMARITO!AN10+PACHAKUTI!AN10+VILLAFATIMA!AN10+WINNIPEG!AN10) -> 25999
B11: 3º | C11: =SUM(CHILLURCO!C11+CRIOLLO!C11+'DOMINGO SAVIO'!C11+GUACACALLO!C11+'HUMBERTO M ORDOÑEZ'!C11+'JORGE V CORDOVEZ'!C11+'JOSE E RIVERA'!C11+'LA LAGUNA'!C11+'LICEO S ANDINO'!C11+MONTESSORI!C11+NACIONAL!C11+NORMAL!C11+PALMARITO!C11+PACHAKUTI!C11+VILLAFATIMA!C11+WINNIPEG!C11) -> 2959 | D11: =SUM(CHILLURCO!D11+CRIOLLO!D11+'DOMINGO SAVIO'!D11+GUACACALLO!D11+'HUMBERTO M ORDOÑEZ'!D11+'JORGE V CORDOVEZ'!D11+'JOSE E RIVERA'!D11+'LA LAGUNA'!D11+'LICEO S ANDINO'!D11+MONTESSORI!D11+NACIONAL!D11+NORMAL!D11+PALMARITO!D11+PACHAKUTI!D11+VILLAFATIMA!D11+WINNIPEG!D11) -> 2765 | E11: =SUM(CHILLURCO!E11+CRIOLLO!E11+'DOMINGO SAVIO'!E11+GUACACALLO!E11+'HUMBERTO M ORDOÑEZ'!E11+'JORGE V CORDOVEZ'!E11+'JOSE E RIVERA'!E11+'LA LAGUNA'!E11+'LICEO S ANDINO'!E11+MONTESSORI!E11+NACIONAL!E11+NORMAL!E11+PALMARITO!E11+PACHAKUTI!E11+VILLAFATIMA!E11+WINNIPEG!E11) -> 2726 | F11: =SUM(CHILLURCO!F11+CRIOLLO!F11+'DOMINGO SAVIO'!F11+GUACACALLO!F11+'HUMBERTO M ORDOÑEZ'!F11+'JORGE V CORDOVEZ'!F11+'JOSE E RIVERA'!F11+'LA LAGUNA'!F11+'LICEO S ANDINO'!F11+MONTESSORI!F11+NACIONAL!F11+NORMAL!F11+PALMARITO!F11+PACHAKUTI!F11+VILLAFATIMA!F11+WINNIPEG!F11) -> 2828 | G11: =SUM(CHILLURCO!G11+CRIOLLO!G11+'DOMINGO SAVIO'!G11+GUACACALLO!G11+'HUMBERTO M ORDOÑEZ'!G11+'JORGE V CORDOVEZ'!G11+'JOSE E RIVERA'!G11+'LA LAGUNA'!G11+'LICEO S ANDINO'!G11+MONTESSORI!G11+NACIONAL!G11+NORMAL!G11+PALMARITO!G11+PACHAKUTI!G11+VILLAFATIMA!G11+WINNIPEG!G11) -> 2701 | H11: =SUM(CHILLURCO!H11+CRIOLLO!H11+'DOMINGO SAVIO'!H11+GUACACALLO!H11+'HUMBERTO M ORDOÑEZ'!H11+'JORGE V CORDOVEZ'!H11+'JOSE E RIVERA'!H11+'LA LAGUNA'!H11+'LICEO S ANDINO'!H11+MONTESSORI!H11+NACIONAL!H11+NORMAL!H11+PALMARITO!H11+PACHAKUTI!H11+VILLAFATIMA!H11+WINNIPEG!H11) -> 2658 | I11: =SUM(CHILLURCO!I11+CRIOLLO!I11+'DOMINGO SAVIO'!I11+GUACACALLO!I11+'HUMBERTO M ORDOÑEZ'!I11+'JORGE V CORDOVEZ'!I11+'JOSE E RIVERA'!I11+'LA LAGUNA'!I11+'LICEO S ANDINO'!I11+MONTESSORI!I11+NACIONAL!I11+NORMAL!I11+PALMARITO!I11+PACHAKUTI!I11+VILLAFATIMA!I11+WINNIPEG!I11) -> 2688 | J11: =SUM(CHILLURCO!J11+CRIOLLO!J11+'DOMINGO SAVIO'!J11+GUACACALLO!J11+'HUMBERTO M ORDOÑEZ'!J11+'JORGE V CORDOVEZ'!J11+'JOSE E RIVERA'!J11+'LA LAGUNA'!J11+'LICEO S ANDINO'!J11+MONTESSORI!J11+NACIONAL!J11+NORMAL!J11+PALMARITO!J11+PACHAKUTI!J11+VILLAFATIMA!J11+WINNIPEG!J11) -> 2714 | ... T11: =SUM(CHILLURCO!T11+CRIOLLO!T11+'DOMINGO SAVIO'!T11+GUACACALLO!T11+'HUMBERTO M ORDOÑEZ'!T11+'JORGE V CORDOVEZ'!T11+'JOSE E RIVERA'!T11+'LA LAGUNA'!T11+'LICEO S ANDINO'!T11+MONTESSORI!T11+NACIONAL!T11+NORMAL!T11+PALMARITO!T11+PACHAKUTI!T11+VILLAFATIMA!T11+WINNIPEG!T11) -> 2572
B12: 4º | C12: =SUM(CHILLURCO!C12+CRIOLLO!C12+'DOMINGO SAVIO'!C12+GUACACALLO!C12+'HUMBERTO M ORDOÑEZ'!C12+'JORGE V CORDOVEZ'!C12+'JOSE E RIVERA'!C12+'LA LAGUNA'!C12+'LICEO S ANDINO'!C12+MONTESSORI!C12+NACIONAL!C12+NORMAL!C12+PALMARITO!C12+PACHAKUTI!C12+VILLAFATIMA!C12+WINNIPEG!C12) -> 2733 | D12: =SUM(CHILLURCO!D12+CRIOLLO!D12+'DOMINGO SAVIO'!D12+GUACACALLO!D12+'HUMBERTO M ORDOÑEZ'!D12+'JORGE V CORDOVEZ'!D12+'JOSE E RIVERA'!D12+'LA LAGUNA'!D12+'LICEO S ANDINO'!D12+MONTESSORI!D12+NACIONAL!D12+NORMAL!D12+PALMARITO!D12+PACHAKUTI!D12+VILLAFATIMA!D12+WINNIPEG!D12) -> 2855 | E12: =SUM(CHILLURCO!E12+CRIOLLO!E12+'DOMINGO SAVIO'!E12+GUACACALLO!E12+'HUMBERTO M ORDOÑEZ'!E12+'JORGE V CORDOVEZ'!E12+'JOSE E RIVERA'!E12+'LA LAGUNA'!E12+'LICEO S ANDINO'!E12+MONTESSORI!E12+NACIONAL!E12+NORMAL!E12+PALMARITO!E12+PACHAKUTI!E12+VILLAFATIMA!E12+WINNIPEG!E12) -> 2781 | F12: =SUM(CHILLURCO!F12+CRIOLLO!F12+'DOMINGO SAVIO'!F12+GUACACALLO!F12+'HUMBERTO M ORDOÑEZ'!F12+'JORGE V CORDOVEZ'!F12+'JOSE E RIVERA'!F12+'LA LAGUNA'!F12+'LICEO S ANDINO'!F12+MONTESSORI!F12+NACIONAL!F12+NORMAL!F12+PALMARITO!F12+PACHAKUTI!F12+VILLAFATIMA!F12+WINNIPEG!F12) -> 2660 | G12: =SUM(CHILLURCO!G12+CRIOLLO!G12+'DOMINGO SAVIO'!G12+GUACACALLO!G12+'HUMBERTO M ORDOÑEZ'!G12+'JORGE V CORDOVEZ'!G12+'JOSE E RIVERA'!G12+'LA LAGUNA'!G12+'LICEO S ANDINO'!G12+MONTESSORI!G12+NACIONAL!G12+NORMAL!G12+PALMARITO!G12+PACHAKUTI!G12+VILLAFATIMA!G12+WINNIPEG!G12) -> 2769 | H12: =SUM(CHILLURCO!H12+CRIOLLO!H12+'DOMINGO SAVIO'!H12+GUACACALLO!H12+'HUMBERTO M ORDOÑEZ'!H12+'JORGE V CORDOVEZ'!H12+'JOSE E RIVERA'!H12+'LA LAGUNA'!H12+'LICEO S ANDINO'!H12+MONTESSORI!H12+NACIONAL!H12+NORMAL!H12+PALMARITO!H12+PACHAKUTI!H12+VILLAFATIMA!H12+WINNIPEG!H12) -> 2667 | I12: =SUM(CHILLURCO!I12+CRIOLLO!I12+'DOMINGO SAVIO'!I12+GUACACALLO!I12+'HUMBERTO M ORDOÑEZ'!I12+'JORGE V CORDOVEZ'!I12+'JOSE E RIVERA'!I12+'LA LAGUNA'!I12+'LICEO S ANDINO'!I12+MONTESSORI!I12+NACIONAL!I12+NORMAL!I12+PALMARITO!I12+PACHAKUTI!I12+VILLAFATIMA!I12+WINNIPEG!I12) -> 2581 | J12: =SUM(CHILLURCO!J12+CRIOLLO!J12+'DOMINGO SAVIO'!J12+GUACACALLO!J12+'HUMBERTO M ORDOÑEZ'!J12+'JORGE V CORDOVEZ'!J12+'JOSE E RIVERA'!J12+'LA LAGUNA'!J12+'LICEO S ANDINO'!J12+MONTESSORI!J12+NACIONAL!J12+NORMAL!J12+PALMARITO!J12+PACHAKUTI!J12+VILLAFATIMA!J12+WINNIPEG!J12) -> 2600 | ... T12: =SUM(CHILLURCO!T12+CRIOLLO!T12+'DOMINGO SAVIO'!T12+GUACACALLO!T12+'HUMBERTO M ORDOÑEZ'!T12+'JORGE V CORDOVEZ'!T12+'JOSE E RIVERA'!T12+'LA LAGUNA'!T12+'LICEO S ANDINO'!T12+MONTESSORI!T12+NACIONAL!T12+NORMAL!T12+PALMARITO!T12+PACHAKUTI!T12+VILLAFATIMA!T12+WINNIPEG!T12) -> 2421
B13: 5º | C13: =SUM(CHILLURCO!C13+CRIOLLO!C13+'DOMINGO SAVIO'!C13+GUACACALLO!C13+'HUMBERTO M ORDOÑEZ'!C13+'JORGE V CORDOVEZ'!C13+'JOSE E RIVERA'!C13+'LA LAGUNA'!C13+'LICEO S ANDINO'!C13+MONTESSORI!C13+NACIONAL!C13+NORMAL!C13+PALMARITO!C13+PACHAKUTI!C13+VILLAFATIMA!C13+WINNIPEG!C13) -> 2689 | D13: =SUM(CHILLURCO!D13+CRIOLLO!D13+'DOMINGO SAVIO'!D13+GUACACALLO!D13+'HUMBERTO M ORDOÑEZ'!D13+'JORGE V CORDOVEZ'!D13+'JOSE E RIVERA'!D13+'LA LAGUNA'!D13+'LICEO S ANDINO'!D13+MONTESSORI!D13+NACIONAL!D13+NORMAL!D13+PALMARITO!D13+PACHAKUTI!D13+VILLAFATIMA!D13+WINNIPEG!D13) -> 2684 | E13: =SUM(CHILLURCO!E13+CRIOLLO!E13+'DOMINGO SAVIO'!E13+GUACACALLO!E13+'HUMBERTO M ORDOÑEZ'!E13+'JORGE V CORDOVEZ'!E13+'JOSE E RIVERA'!E13+'LA LAGUNA'!E13+'LICEO S ANDINO'!E13+MONTESSORI!E13+NACIONAL!E13+NORMAL!E13+PALMARITO!E13+PACHAKUTI!E13+VILLAFATIMA!E13+WINNIPEG!E13) -> 2868 | F13: =SUM(CHILLURCO!F13+CRIOLLO!F13+'DOMINGO SAVIO'!F13+GUACACALLO!F13+'HUMBERTO M ORDOÑEZ'!F13+'JORGE V CORDOVEZ'!F13+'JOSE E RIVERA'!F13+'LA LAGUNA'!F13+'LICEO S ANDINO'!F13+MONTESSORI!F13+NACIONAL!F13+NORMAL!F13+PALMARITO!F13+PACHAKUTI!F13+VILLAFATIMA!F13+WINNIPEG!F13) -> 2677 | G13: =SUM(CHILLURCO!G13+CRIOLLO!G13+'DOMINGO SAVIO'!G13+GUACACALLO!G13+'HUMBERTO M ORDOÑEZ'!G13+'JORGE V CORDOVEZ'!G13+'JOSE E RIVERA'!G13+'LA LAGUNA'!G13+'LICEO S ANDINO'!G13+MONTESSORI!G13+NACIONAL!G13+NORMAL!G13+PALMARITO!G13+PACHAKUTI!G13+VILLAFATIMA!G13+WINNIPEG!G13) -> 2649 | H13: =SUM(CHILLURCO!H13+CRIOLLO!H13+'DOMINGO SAVIO'!H13+GUACACALLO!H13+'HUMBERTO M ORDOÑEZ'!H13+'JORGE V CORDOVEZ'!H13+'JOSE E RIVERA'!H13+'LA LAGUNA'!H13+'LICEO S ANDINO'!H13+MONTESSORI!H13+NACIONAL!H13+NORMAL!H13+PALMARITO!H13+PACHAKUTI!H13+VILLAFATIMA!H13+WINNIPEG!H13) -> 2759 | I13: =SUM(CHILLURCO!I13+CRIOLLO!I13+'DOMINGO SAVIO'!I13+GUACACALLO!I13+'HUMBERTO M ORDOÑEZ'!I13+'JORGE V CORDOVEZ'!I13+'JOSE E RIVERA'!I13+'LA LAGUNA'!I13+'LICEO S ANDINO'!I13+MONTESSORI!I13+NACIONAL!I13+NORMAL!I13+PALMARITO!I13+PACHAKUTI!I13+VILLAFATIMA!I13+WINNIPEG!I13) -> 2545 | J13: =SUM(CHILLURCO!J13+CRIOLLO!J13+'DOMINGO SAVIO'!J13+GUACACALLO!J13+'HUMBERTO M ORDOÑEZ'!J13+'JORGE V CORDOVEZ'!J13+'JOSE E RIVERA'!J13+'LA LAGUNA'!J13+'LICEO S ANDINO'!J13+MONTESSORI!J13+NACIONAL!J13+NORMAL!J13+PALMARITO!J13+PACHAKUTI!J13+VILLAFATIMA!J13+WINNIPEG!J13) -> 2541 | ... T13: =SUM(CHILLURCO!T13+CRIOLLO!T13+'DOMINGO SAVIO'!T13+GUACACALLO!T13+'HUMBERTO M ORDOÑEZ'!T13+'JORGE V CORDOVEZ'!T13+'JOSE E RIVERA'!T13+'LA LAGUNA'!T13+'LICEO S ANDINO'!T13+MONTESSORI!T13+NACIONAL!T13+NORMAL!T13+PALMARITO!T13+PACHAKUTI!T13+VILLAFATIMA!T13+WINNIPEG!T13) -> 2439
B14: 6º | C14: =SUM(CHILLURCO!C14+CRIOLLO!C14+'DOMINGO SAVIO'!C14+GUACACALLO!C14+'HUMBERTO M ORDOÑEZ'!C14+'JORGE V CORDOVEZ'!C14+'JOSE E RIVERA'!C14+'LA LAGUNA'!C14+'LICEO S ANDINO'!C14+MONTESSORI!C14+NACIONAL!C14+NORMAL!C14+PALMARITO!C14+PACHAKUTI!C14+VILLAFATIMA!C14+WINNIPEG!C14) -> 2568 | D14: =SUM(CHILLURCO!D14+CRIOLLO!D14+'DOMINGO SAVIO'!D14+GUACACALLO!D14+'HUMBERTO M ORDOÑEZ'!D14+'JORGE V CORDOVEZ'!D14+'JOSE E RIVERA'!D14+'LA LAGUNA'!D14+'LICEO S ANDINO'!D14+MONTESSORI!D14+NACIONAL!D14+NORMAL!D14+PALMARITO!D14+PACHAKUTI!D14+VILLAFATIMA!D14+WINNIPEG!D14) -> 2588 | E14: =SUM(CHILLURCO!E14+CRIOLLO!E14+'DOMINGO SAVIO'!E14+GUACACALLO!E14+'HUMBERTO M ORDOÑEZ'!E14+'JORGE V CORDOVEZ'!E14+'JOSE E RIVERA'!E14+'LA LAGUNA'!E14+'LICEO S ANDINO'!E14+MONTESSORI!E14+NACIONAL!E14+NORMAL!E14+PALMARITO!E14+PACHAKUTI!E14+VILLAFATIMA!E14+WINNIPEG!E14) -> 2879 | F14: =SUM(CHILLURCO!F14+CRIOLLO!F14+'DOMINGO SAVIO'!F14+GUACACALLO!F14+'HUMBERTO M ORDOÑEZ'!F14+'JORGE V CORDOVEZ'!F14+'JOSE E RIVERA'!F14+'LA LAGUNA'!F14+'LICEO S ANDINO'!F14+MONTESSORI!F14+NACIONAL!F14+NORMAL!F14+PALMARITO!F14+PACHAKUTI!F14+VILLAFATIMA!F14+WINNIPEG!F14) -> 3005 | G14: =SUM(CHILLURCO!G14+CRIOLLO!G14+'DOMINGO SAVIO'!G14+GUACACALLO!G14+'HUMBERTO M ORDOÑEZ'!G14+'JORGE V CORDOVEZ'!G14+'JOSE E RIVERA'!G14+'LA LAGUNA'!G14+'LICEO S ANDINO'!G14+MONTESSORI!G14+NACIONAL!G14+NORMAL!G14+PALMARITO!G14+PACHAKUTI!G14+VILLAFATIMA!G14+WINNIPEG!G14) -> 3046 | H14: =SUM(CHILLURCO!H14+CRIOLLO!H14+'DOMINGO SAVIO'!H14+GUACACALLO!H14+'HUMBERTO M ORDOÑEZ'!H14+'JORGE V CORDOVEZ'!H14+'JOSE E RIVERA'!H14+'LA LAGUNA'!H14+'LICEO S ANDINO'!H14+MONTESSORI!H14+NACIONAL!H14+NORMAL!H14+PALMARITO!H14+PACHAKUTI!H14+VILLAFATIMA!H14+WINNIPEG!H14) -> 3134 | I14: =SUM(CHILLURCO!I14+CRIOLLO!I14+'DOMINGO SAVIO'!I14+GUACACALLO!I14+'HUMBERTO M ORDOÑEZ'!I14+'JORGE V CORDOVEZ'!I14+'JOSE E RIVERA'!I14+'LA LAGUNA'!I14+'LICEO S ANDINO'!I14+MONTESSORI!I14+NACIONAL!I14+NORMAL!I14+PALMARITO!I14+PACHAKUTI!I14+VILLAFATIMA!I14+WINNIPEG!I14) -> 3351 | J14: =SUM(CHILLURCO!J14+CRIOLLO!J14+'DOMINGO SAVIO'!J14+GUACACALLO!J14+'HUMBERTO M ORDOÑEZ'!J14+'JORGE V CORDOVEZ'!J14+'JOSE E RIVERA'!J14+'LA LAGUNA'!J14+'LICEO S ANDINO'!J14+MONTESSORI!J14+NACIONAL!J14+NORMAL!J14+PALMARITO!J14+PACHAKUTI!J14+VILLAFATIMA!J14+WINNIPEG!J14) -> 3281 | ... T14: =SUM(CHILLURCO!T14+CRIOLLO!T14+'DOMINGO SAVIO'!T14+GUACACALLO!T14+'HUMBERTO M ORDOÑEZ'!T14+'JORGE V CORDOVEZ'!T14+'JOSE E RIVERA'!T14+'LA LAGUNA'!T14+'LICEO S ANDINO'!T14+MONTESSORI!T14+NACIONAL!T14+NORMAL!T14+PALMARITO!T14+PACHAKUTI!T14+VILLAFATIMA!T14+WINNIPEG!T14) -> 2711
B15: 7º | C15: =SUM(CHILLURCO!C15+CRIOLLO!C15+'DOMINGO SAVIO'!C15+GUACACALLO!C15+'HUMBERTO M ORDOÑEZ'!C15+'JORGE V CORDOVEZ'!C15+'JOSE E RIVERA'!C15+'LA LAGUNA'!C15+'LICEO S ANDINO'!C15+MONTESSORI!C15+NACIONAL!C15+NORMAL!C15+PALMARITO!C15+PACHAKUTI!C15+VILLAFATIMA!C15+WINNIPEG!C15) -> 2201 | D15: =SUM(CHILLURCO!D15+CRIOLLO!D15+'DOMINGO SAVIO'!D15+GUACACALLO!D15+'HUMBERTO M ORDOÑEZ'!D15+'JORGE V CORDOVEZ'!D15+'JOSE E RIVERA'!D15+'LA LAGUNA'!D15+'LICEO S ANDINO'!D15+MONTESSORI!D15+NACIONAL!D15+NORMAL!D15+PALMARITO!D15+PACHAKUTI!D15+VILLAFATIMA!D15+WINNIPEG!D15) -> 2214 | E15: =SUM(CHILLURCO!E15+CRIOLLO!E15+'DOMINGO SAVIO'!E15+GUACACALLO!E15+'HUMBERTO M ORDOÑEZ'!E15+'JORGE V CORDOVEZ'!E15+'JOSE E RIVERA'!E15+'LA LAGUNA'!E15+'LICEO S ANDINO'!E15+MONTESSORI!E15+NACIONAL!E15+NORMAL!E15+PALMARITO!E15+PACHAKUTI!E15+VILLAFATIMA!E15+WINNIPEG!E15) -> 2464 | F15: =SUM(CHILLURCO!F15+CRIOLLO!F15+'DOMINGO SAVIO'!F15+GUACACALLO!F15+'HUMBERTO M ORDOÑEZ'!F15+'JORGE V CORDOVEZ'!F15+'JOSE E RIVERA'!F15+'LA LAGUNA'!F15+'LICEO S ANDINO'!F15+MONTESSORI!F15+NACIONAL!F15+NORMAL!F15+PALMARITO!F15+PACHAKUTI!F15+VILLAFATIMA!F15+WINNIPEG!F15) -> 2417 | G15: =SUM(CHILLURCO!G15+CRIOLLO!G15+'DOMINGO SAVIO'!G15+GUACACALLO!G15+'HUMBERTO M ORDOÑEZ'!G15+'JORGE V CORDOVEZ'!G15+'JOSE E RIVERA'!G15+'LA LAGUNA'!G15+'LICEO S ANDINO'!G15+MONTESSORI!G15+NACIONAL!G15+NORMAL!G15+PALMARITO!G15+PACHAKUTI!G15+VILLAFATIMA!G15+WINNIPEG!G15) -> 2554 | H15: =SUM(CHILLURCO!H15+CRIOLLO!H15+'DOMINGO SAVIO'!H15+GUACACALLO!H15+'HUMBERTO M ORDOÑEZ'!H15+'JORGE V CORDOVEZ'!H15+'JOSE E RIVERA'!H15+'LA LAGUNA'!H15+'LICEO S ANDINO'!H15+MONTESSORI!H15+NACIONAL!H15+NORMAL!H15+PALMARITO!H15+PACHAKUTI!H15+VILLAFATIMA!H15+WINNIPEG!H15) -> 2547 | I15: =SUM(CHILLURCO!I15+CRIOLLO!I15+'DOMINGO SAVIO'!I15+GUACACALLO!I15+'HUMBERTO M ORDOÑEZ'!I15+'JORGE V CORDOVEZ'!I15+'JOSE E RIVERA'!I15+'LA LAGUNA'!I15+'LICEO S ANDINO'!I15+MONTESSORI!I15+NACIONAL!I15+NORMAL!I15+PALMARITO!I15+PACHAKUTI!I15+VILLAFATIMA!I15+WINNIPEG!I15) -> 2508 | J15: =SUM(CHILLURCO!J15+CRIOLLO!J15+'DOMINGO SAVIO'!J15+GUACACALLO!J15+'HUMBERTO M ORDOÑEZ'!J15+'JORGE V CORDOVEZ'!J15+'JOSE E RIVERA'!J15+'LA LAGUNA'!J15+'LICEO S ANDINO'!J15+MONTESSORI!J15+NACIONAL!J15+NORMAL!J15+PALMARITO!J15+PACHAKUTI!J15+VILLAFATIMA!J15+WINNIPEG!J15) -> 2607 | ... T15: =SUM(CHILLURCO!T15+CRIOLLO!T15+'DOMINGO SAVIO'!T15+GUACACALLO!T15+'HUMBERTO M ORDOÑEZ'!T15+'JORGE V CORDOVEZ'!T15+'JOSE E RIVERA'!T15+'LA LAGUNA'!T15+'LICEO S ANDINO'!T15+MONTESSORI!T15+NACIONAL!T15+NORMAL!T15+PALMARITO!T15+PACHAKUTI!T15+VILLAFATIMA!T15+WINNIPEG!T15) -> 2387
B16: 8º | C16: =SUM(CHILLURCO!C16+CRIOLLO!C16+'DOMINGO SAVIO'!C16+GUACACALLO!C16+'HUMBERTO M ORDOÑEZ'!C16+'JORGE V CORDOVEZ'!C16+'JOSE E RIVERA'!C16+'LA LAGUNA'!C16+'LICEO S ANDINO'!C16+MONTESSORI!C16+NACIONAL!C16+NORMAL!C16+PALMARITO!C16+PACHAKUTI!C16+VILLAFATIMA!C16+WINNIPEG!C16) -> 1755 | D16: =SUM(CHILLURCO!D16+CRIOLLO!D16+'DOMINGO SAVIO'!D16+GUACACALLO!D16+'HUMBERTO M ORDOÑEZ'!D16+'JORGE V CORDOVEZ'!D16+'JOSE E RIVERA'!D16+'LA LAGUNA'!D16+'LICEO S ANDINO'!D16+MONTESSORI!D16+NACIONAL!D16+NORMAL!D16+PALMARITO!D16+PACHAKUTI!D16+VILLAFATIMA!D16+WINNIPEG!D16) -> 1850 | E16: =SUM(CHILLURCO!E16+CRIOLLO!E16+'DOMINGO SAVIO'!E16+GUACACALLO!E16+'HUMBERTO M ORDOÑEZ'!E16+'JORGE V CORDOVEZ'!E16+'JOSE E RIVERA'!E16+'LA LAGUNA'!E16+'LICEO S ANDINO'!E16+MONTESSORI!E16+NACIONAL!E16+NORMAL!E16+PALMARITO!E16+PACHAKUTI!E16+VILLAFATIMA!E16+WINNIPEG!E16) -> 2141 | F16: =SUM(CHILLURCO!F16+CRIOLLO!F16+'DOMINGO SAVIO'!F16+GUACACALLO!F16+'HUMBERTO M ORDOÑEZ'!F16+'JORGE V CORDOVEZ'!F16+'JOSE E RIVERA'!F16+'LA LAGUNA'!F16+'LICEO S ANDINO'!F16+MONTESSORI!F16+NACIONAL!F16+NORMAL!F16+PALMARITO!F16+PACHAKUTI!F16+VILLAFATIMA!F16+WINNIPEG!F16) -> 2227 | G16: =SUM(CHILLURCO!G16+CRIOLLO!G16+'DOMINGO SAVIO'!G16+GUACACALLO!G16+'HUMBERTO M ORDOÑEZ'!G16+'JORGE V CORDOVEZ'!G16+'JOSE E RIVERA'!G16+'LA LAGUNA'!G16+'LICEO S ANDINO'!G16+MONTESSORI!G16+NACIONAL!G16+NORMAL!G16+PALMARITO!G16+PACHAKUTI!G16+VILLAFATIMA!G16+WINNIPEG!G16) -> 2071 | H16: =SUM(CHILLURCO!H16+CRIOLLO!H16+'DOMINGO SAVIO'!H16+GUACACALLO!H16+'HUMBERTO M ORDOÑEZ'!H16+'JORGE V CORDOVEZ'!H16+'JOSE E RIVERA'!H16+'LA LAGUNA'!H16+'LICEO S ANDINO'!H16+MONTESSORI!H16+NACIONAL!H16+NORMAL!H16+PALMARITO!H16+PACHAKUTI!H16+VILLAFATIMA!H16+WINNIPEG!H16) -> 2179 | I16: =SUM(CHILLURCO!I16+CRIOLLO!I16+'DOMINGO SAVIO'!I16+GUACACALLO!I16+'HUMBERTO M ORDOÑEZ'!I16+'JORGE V CORDOVEZ'!I16+'JOSE E RIVERA'!I16+'LA LAGUNA'!I16+'LICEO S ANDINO'!I16+MONTESSORI!I16+NACIONAL!I16+NORMAL!I16+PALMARITO!I16+PACHAKUTI!I16+VILLAFATIMA!I16+WINNIPEG!I16) -> 2169 | J16: =SUM(CHILLURCO!J16+CRIOLLO!J16+'DOMINGO SAVIO'!J16+GUACACALLO!J16+'HUMBERTO M ORDOÑEZ'!J16+'JORGE V CORDOVEZ'!J16+'JOSE E RIVERA'!J16+'LA LAGUNA'!J16+'LICEO S ANDINO'!J16+MONTESSORI!J16+NACIONAL!J16+NORMAL!J16+PALMARITO!J16+PACHAKUTI!J16+VILLAFATIMA!J16+WINNIPEG!J16) -> 2203 | ... T16: =SUM(CHILLURCO!T16+CRIOLLO!T16+'DOMINGO SAVIO'!T16+GUACACALLO!T16+'HUMBERTO M ORDOÑEZ'!T16+'JORGE V CORDOVEZ'!T16+'JOSE E RIVERA'!T16+'LA LAGUNA'!T16+'LICEO S ANDINO'!T16+MONTESSORI!T16+NACIONAL!T16+NORMAL!T16+PALMARITO!T16+PACHAKUTI!T16+VILLAFATIMA!T16+WINNIPEG!T16) -> 1970
B17: 9º | C17: =SUM(CHILLURCO!C17+CRIOLLO!C17+'DOMINGO SAVIO'!C17+GUACACALLO!C17+'HUMBERTO M ORDOÑEZ'!C17+'JORGE V CORDOVEZ'!C17+'JOSE E RIVERA'!C17+'LA LAGUNA'!C17+'LICEO S ANDINO'!C17+MONTESSORI!C17+NACIONAL!C17+NORMAL!C17+PALMARITO!C17+PACHAKUTI!C17+VILLAFATIMA!C17+WINNIPEG!C17) -> 1379 | D17: =SUM(CHILLURCO!D17+CRIOLLO!D17+'DOMINGO SAVIO'!D17+GUACACALLO!D17+'HUMBERTO M ORDOÑEZ'!D17+'JORGE V CORDOVEZ'!D17+'JOSE E RIVERA'!D17+'LA LAGUNA'!D17+'LICEO S ANDINO'!D17+MONTESSORI!D17+NACIONAL!D17+NORMAL!D17+PALMARITO!D17+PACHAKUTI!D17+VILLAFATIMA!D17+WINNIPEG!D17) -> 1524 | E17: =SUM(CHILLURCO!E17+CRIOLLO!E17+'DOMINGO SAVIO'!E17+GUACACALLO!E17+'HUMBERTO M ORDOÑEZ'!E17+'JORGE V CORDOVEZ'!E17+'JOSE E RIVERA'!E17+'LA LAGUNA'!E17+'LICEO S ANDINO'!E17+MONTESSORI!E17+NACIONAL!E17+NORMAL!E17+PALMARITO!E17+PACHAKUTI!E17+VILLAFATIMA!E17+WINNIPEG!E17) -> 1731 | F17: =SUM(CHILLURCO!F17+CRIOLLO!F17+'DOMINGO SAVIO'!F17+GUACACALLO!F17+'HUMBERTO M ORDOÑEZ'!F17+'JORGE V CORDOVEZ'!F17+'JOSE E RIVERA'!F17+'LA LAGUNA'!F17+'LICEO S ANDINO'!F17+MONTESSORI!F17+NACIONAL!F17+NORMAL!F17+PALMARITO!F17+PACHAKUTI!F17+VILLAFATIMA!F17+WINNIPEG!F17) -> 1758 | G17: =SUM(CHILLURCO!G17+CRIOLLO!G17+'DOMINGO SAVIO'!G17+GUACACALLO!G17+'HUMBERTO M ORDOÑEZ'!G17+'JORGE V CORDOVEZ'!G17+'JOSE E RIVERA'!G17+'LA LAGUNA'!G17+'LICEO S ANDINO'!G17+MONTESSORI!G17+NACIONAL!G17+NORMAL!G17+PALMARITO!G17+PACHAKUTI!G17+VILLAFATIMA!G17+WINNIPEG!G17) -> 1756 | H17: =SUM(CHILLURCO!H17+CRIOLLO!H17+'DOMINGO SAVIO'!H17+GUACACALLO!H17+'HUMBERTO M ORDOÑEZ'!H17+'JORGE V CORDOVEZ'!H17+'JOSE E RIVERA'!H17+'LA LAGUNA'!H17+'LICEO S ANDINO'!H17+MONTESSORI!H17+NACIONAL!H17+NORMAL!H17+PALMARITO!H17+PACHAKUTI!H17+VILLAFATIMA!H17+WINNIPEG!H17) -> 1764 | I17: =SUM(CHILLURCO!I17+CRIOLLO!I17+'DOMINGO SAVIO'!I17+GUACACALLO!I17+'HUMBERTO M ORDOÑEZ'!I17+'JORGE V CORDOVEZ'!I17+'JOSE E RIVERA'!I17+'LA LAGUNA'!I17+'LICEO S ANDINO'!I17+MONTESSORI!I17+NACIONAL!I17+NORMAL!I17+PALMARITO!I17+PACHAKUTI!I17+VILLAFATIMA!I17+WINNIPEG!I17) -> 1762 | J17: =SUM(CHILLURCO!J17+CRIOLLO!J17+'DOMINGO SAVIO'!J17+GUACACALLO!J17+'HUMBERTO M ORDOÑEZ'!J17+'JORGE V CORDOVEZ'!J17+'JOSE E RIVERA'!J17+'LA LAGUNA'!J17+'LICEO S ANDINO'!J17+MONTESSORI!J17+NACIONAL!J17+NORMAL!J17+PALMARITO!J17+PACHAKUTI!J17+VILLAFATIMA!J17+WINNIPEG!J17) -> 1800 | ... T17: =SUM(CHILLURCO!T17+CRIOLLO!T17+'DOMINGO SAVIO'!T17+GUACACALLO!T17+'HUMBERTO M ORDOÑEZ'!T17+'JORGE V CORDOVEZ'!T17+'JOSE E RIVERA'!T17+'LA LAGUNA'!T17+'LICEO S ANDINO'!T17+MONTESSORI!T17+NACIONAL!T17+NORMAL!T17+PALMARITO!T17+PACHAKUTI!T17+VILLAFATIMA!T17+WINNIPEG!T17) -> 1717
