Workbook

Sheet PITALITO
B1: SECRETARÍA DE EDUCACIÓN MUNICIPAL DE PITALITO
B2: AREA DE COBERTURA - SISTEMA INTEGRADO DE MATRICULAS
B3: EVOLUCIÓN DE LA MATRÍCULA OFICIAL POR GRADO
C5: 2008 | D5: 2009 | E5: 2010 | F5: 2011 | G5: 2012 | H5: 2013 | I5: 2014 | J5: 2015 | K5: 2016 | L5: 2017 | M5: 2018 | N5: 2019 | O5: 2020 | P5: 2021 | Q5: 2022 | R5: 2023 | S5: 2024 | T5: 2025 | W5: 2008 | X5: 2009 | Y5: 2010 | Z5: 2011 | AA5: 2012 | AB5: 2013 | AC5: 2014 | AD5: 2015 | AE5: 2016 | AF5: 2017 | AG5: 2018 | AH5: 2019 | AI5: 2020 | AJ5: 2021 | AK5: 2022 | AL5: 2023 | AM5: 2024 | AN5: 2025
B6: Prej | T6: 17 | V6: Preescolar | W6: =C8 -> 1874 | X6: =D8 -> 1853 | Y6: =E8 -> 1858 | Z6: =F8 -> 2066 | AA6: =G8 -> 2105 | AB6: =H8 -> 2153 | AC6: =I8 -> 1954 | AD6: =J8 -> 1930 | ... AN6: =T8 -> 1940
B7: Jard | T7: 83 | V7: Primaria | W7: =SUM(C9:C13,C34) -> 14140 | X7: =SUM(D9:D13,D34) -> 14140 | Y7: =SUM(E9:E13,E34) -> 14054 | Z7: =SUM(F9:F13,F34) -> 13642 | AA7: =SUM(G9:G13,G34) -> 13820 | AB7: =SUM(H9:H13,H34) -> 13977 | AC7: =SUM(I9:I13,I34) -> 13554 | AD7: =SUM(J9:J13,J34) -> 13277 | ... AN7: =SUM(T9:T13,T34) -> 12629
B8: 0° | C8: 1874 | D8: 1853 | E8: 1858 | F8: 2066 | G8: 2105 | H8: 2153 | I8: 1954 | J8: 1930 | K8: 1960 | L8: 2034 | M8: 2075 | N8: 2134 | O8: 2026 | P8: 1895 | Q8: 2216 | R8: 2306 | S8: 2113 | T8: 1940 | V8: Secundaria | W8: =SUM(C14:C17) -> 7903 | X8: =SUM(D14:D17) -> 8176 | Y8: =SUM(E14:E17) -> 9215 | Z8: =SUM(F14:F17) -> 9407 | AA8: =SUM(G14:G17) -> 9427 | AB8: =SUM(H14:H17) -> 9624 | AC8: =SUM(I14:I17) -> 9790 | AD8: =SUM(J14:J17) -> 9891 | ... AN8: =SUM(T14:T17) -> 8785
B9: 1º | C9: 2903 | D9: 3034 | E9: 2751 | F9: 2770 | G9: 2981 | H9: 3138 | I9: 3000 | J9: 2681 | K9: 2609 | L9: 2562 | M9: 2600 | N9: 2797 | O9: 2782 | P9: 2590 | Q9: 2629 | R9: 2797 | S9: 2763 | T9: 2624 | V9: Media | W9: =SUM(C18:C19) -> 2048 | X9: =SUM(D18:D19) -> 2145 | Y9: =SUM(E18:E19) -> 2423 | Z9: =SUM(F18:F19) -> 2606 | AA9: =SUM(G18:G19) -> 2631 | AB9: =SUM(H18:H19) -> 2677 | AC9: =SUM(I18:I19) -> 2703 | AD9: =SUM(J18:J19) -> 2765 | ... AN9: =SUM(T18:T19) -> 2645
B10: 2º | C10: 2777 | D10: 2750 | E10: 2906 | F10: 2683 | G10: 2692 | H10: 2731 | I10: 2722 | J10: 2722 | K10: 2422 | L10: 2388 | M10: 2322 | N10: 2397 | O10: 2479 | P10: 2552 | Q10: 2375 | R10: 2450 | S10: 2531 | T10: 2551 | V10: Total (0 a 11) | W10: =SUM(C8:C19,C34) -> 25965 | X10: =SUM(D8:D19,D34) -> 26314 | Y10: =SUM(E8:E19,E34) -> 27550 | Z10: =SUM(F8:F19,F34) -> 27721 | AA10: =SUM(G8:G19,G34) -> 27983 | AB10: =SUM(H8:H19,H34) -> 28431 | AC10: =SUM(I8:I19,I34) -> 28001 | AD10: =SUM(J8:J19,J34) -> 27863 | ... AN10: =SUM(T8:T19,T34) -> 25999
B11: 3º | C11: 2959 | D11: 2765 | E11: 2726 | F11: 2828 | G11: 2701 | H11: 2658 | I11: 2688 | J11: 2714 | K11: 2681 | L11: 2505 | M11: 2359 | N11: 2355 | O11: 2393 | P11: 2551 | Q11: 2296 | R11: 2382 | S11: 2403 | T11: 2572
B12: 4º | C12: 2733 | D12: 2855 | E12: 2781 | F12: 2660 | G12: 2769 | H12: 2667 | I12: 2581 | J12: 2600 | K12: 2611 | L12: 2603 | M12: 2443 | N12: 2348 | O12: 2434 | P12: 2446 | Q12: 2456 | R12: 2359 | S12: 2439 | T12: 2421 | V12: Matrícula por Nivel Educativo del Grado Cero a Once
B13: 5º | C13: 2689 | D13: 2684 | E13: 2868 | F13: 2677 | G13: 2649 | H13: 2759 | I13: 2545 | J13: 2541 | K13: 2603 | L13: 2592 | M13: 2556 | N13: 2421 | O13: 2286 | P13: 2460 | Q13: 2363 | R13: 2435 | S13: 2334 | T13: 2439
B14: 6º | C14: 2568 | D14: 2588 | E14: 2879 | F14: 3005 | G14: 3046 | H14: 3134 | I14: 3351 | J14: 3281 | K14: 3213 | L14: 3177 | M14: 3164 | N14: 3228 | O14: 3163 | P14: 2750 | Q14: 2797 | R14: 2743 | S14: 2903 | T14: 2711
B15: 7º | C15: 2201 | D15: 2214 | E15: 2464 | F15: 2417 | G15: 2554 | H15: 2547 | I15: 2508 | J15: 2607 | K15: 2512 | L15: 2564 | M15: 2342 | N15: 2451 | O15: 2440 | P15: 2626 | Q15: 2280 | R15: 2346 | S15: 2246 | T15: 2387 | W15: 2008 | X15: 2009 | Y15: 2010 | Z15: 2011 | AA15: 2012 | AB15: 2013 | AC15: 2014 | AD15: 2015 | AE15: 2016 | AF15: 2017 | AG15: 2018 | AH15: 2019 | AI15: 2020 | AJ15: 2021 | AK15: 2022 | AL15: 2023 | AM15: 2024 | AN15: 2025
B16: 8º | C16: 1755 | D16: 1850 | E16: 2141 | F16: 2227 | G16: 2071 | H16: 2179 | I16: 2169 | J16: 2203 | K16: 2191 | L16: 2139 | M16: 2123 | N16: 2175 | O16: 2100 | P16: 2220 | Q16: 2189 | R16: 1970 | S16: 1966 | T16: 1970 | V16: Preescolar | X16: =(X6-W6)/W6*100 -> -1.1205977 | Y16: =(Y6-X6)/X6*100 -> 0.2698327 | Z16: =(Z6-Y6)/Y6*100 -> 11.194833 | AA16: =(AA6-Z6)/Z6*100 -> 1.8877057 | AB16: =(AB6-AA6)/AA6*100 -> 2.280285 | AC16: =(AC6-AB6)/AB6*100 -> -9.2429169 | AD16: =(AD6-AC6)/AC6*100 -> -1.2282497 | AE16: =(AE6-AD6)/AD6*100 -> 1.5544041 | ... AN16: =(AN6-AM6)/AM6*100 -> -8.1874113
B17: 9º | C17: 1379 | D17: 1524 | E17: 1731 | F17: 1758 | G17: 1756 | H17: 1764 | I17: 1762 | J17: 1800 | K17: 1733 | L17: 1767 | M17: 1700 | N17: 1859 | O17: 1784 | P17: 1810 | Q17: 1737 | R17: 1851 | S17: 1668 | T17: 1717 | V17: Primaria | X17: =(X7-W7)/W7*100 -> 0 | Y17: =(Y7-X7)/X7*100 -> -0.60820368 | Z17: =(Z7-Y7)/Y7*100 -> -2.9315497 | AA17: =(AA7-Z7)/Z7*100 -> 1.304794 | AB17: =(AB7-AA7)/AA7*100 -> 1.1360347 | AC17: =(AC7-AB7)/AB7*100 -> -3.0264005 | AD17: =(AD7-AC7)/AC7*100 -> -2.0436771 | AE17: =(AE7-AD7)/AD7*100 -> -2.4779694 | ... AN17: =(AN7-AM7)/AM7*100 -> 1.1371827
B18: 10º | C18: 1141 | D18: 1152 | E18: 1454 | F18: 1581 | G18: 1547 | H18: 1538 | I18: 1584 | J18: 1583 | K18: 1628 | L18: 1583 | M18: 1565 | N18: 1477 | O18: 1575 | P18: 1606 | Q18: 1577 | R18: 1478 | S18: 1517 | T18: 1424 | V18: Secundaria | X18: =(X8-W8)/W8*100 -> 3.4543844 | Y18: =(Y8-X8)/X8*100 -> 12.707926 | Z18: =(Z8-Y8)/Y8*100 -> 2.0835594 | AA18: =(AA8-Z8)/Z8*100 -> 0.21260763 | AB18: =(AB8-AA8)/AA8*100 -> 2.0897422 | AC18: =(AC8-AB8)/AB8*100 -> 1.7248545 | AD18: =(AD8-AC8)/AC8*100 -> 1.031665 | AE18: =(AE8-AD8)/AD8*100 -> -2.4466687 | ... AN18: =(AN8-AM8)/AM8*100 -> 0.022771263
B19: 11º | C19: 907 | D19: 993 | E19: 969 | F19: 1025 | G19: 1084 | H19: 1139 | I19: 1119 | J19: 1182 | K19: 1147 | L19: 1166 | M19: 1121 | N19: 1164 | O19: 1135 | P19: 1261 | Q19: 1166 | R19: 1151 | S19: 1140 | T19: 1221 | V19: Media | X19: =(X9-W9)/W9*100 -> 4.7363281 | Y19: =(Y9-X9)/X9*100 -> 12.960373 | Z19: =(Z9-Y9)/Y9*100 -> 7.5526207 | AA19: =(AA9-Z9)/Z9*100 -> 0.95932464 | AB19: =(AB9-AA9)/AA9*100 -> 1.7483846 | AC19: =(AC9-AB9)/AB9*100 -> 0.97123646 | AD19: =(AD9-AC9)/AC9*100 -> 2.2937477 | AE19: =(AE9-AD9)/AD9*100 -> 0.36166365 | ... AN19: =(AN9-AM9)/AM9*100 -> -0.45163718
B20: 12° | C20: 23 | D20: 58 | E20: 51 | F20: 42 | G20: 58 | H20: 59 | I20: 69 | J20: 65 | K20: 11 | L20: 40 | M20: 78 | N20: 85 | O20: 87 | P20: 126 | Q20: 116 | V20: Total (0 a 11) | X20: =(X10-W10)/W10*100 -> 1.3441171 | Y20: =(Y10-X10)/X10*100 -> 4.6971194 | Z20: =(Z10-Y10)/Y10*100 -> 0.62068966 | AA20: =(AA10-Z10)/Z10*100 -> 0.94513185 | AB20: =(AB10-AA10)/AA10*100 -> 1.600972 | AC20: =(AC10-AB10)/AB10*100 -> -1.5124336 | AD20: =(AD10-AC10)/AC10*100 -> -0.49283954 | AE20: =(AE10-AD10)/AD10*100 -> -1.9057531 | ... AN20: =(AN10-AM10)/AM10*100 -> -0.15745008
B21: 13° | C21: 26 | D21: 57 | E21: 58 | F21: 106 | G21: 106 | H21: 55 | I21: 42 | J21: 39 | K21: 31 | L21: 62 | M21: 50 | N21: 88 | O21: 99 | P21: 60 | Q21: 69
B22: C0 | H22: 3103 | V22: Tasa de aumento o disminución de la matrícula por nivel y año
B23: C1 | C23: 274 | D23: 379 | E23: 345 | F23: 195 | G23: 58 | H23: 22 | I23: 1769 | J23: 2108 | K23: 21 | L23: 21 | M23: 35 | P23: 60 | Q23: 164 | R23: 14 | S23: 26 | T23: 17
B24: C2 | C24: 520 | D24: 415 | E24: 536 | F24: 151 | G24: 188 | H24: 1128 | I24: 809 | J24: 86 | K24: 66 | L24: 54 | M24: 75 | N24: 34 | O24: 44 | P24: 58 | Q24: 86 | R24: 48 | S24: 58 | T24: 39
B25: C3 | C25: 419 | D25: 458 | E25: 495 | F25: 619 | G25: 546 | H25: 509 | I25: 1623 | J25: 1346 | K25: 732 | L25: 593 | M25: 663 | N25: 596 | O25: 596 | P25: 470 | Q25: 547 | R25: 441 | S25: 383 | T25: 345
B26: C4 | C26: 142 | D26: 365 | E26: 418 | F26: 468 | G26: 557 | H26: 537 | I26: 513 | J26: 623 | K26: 975 | L26: 709 | M26: 663 | N26: 698 | O26: 648 | P26: 481 | Q26: 502 | R26: 501 | S26: 488 | T26: 348
B27: C5 | C27: 92 | D27: 120 | E27: 310 | F27: 410 | G27: 374 | H27: 445 | I27: 261 | J27: 469 | K27: 433 | L27: 537 | M27: 543 | N27: 554 | O27: 556 | P27: 505 | Q27: 455 | R27: 486 | S27: 472 | T27: 392
B28: C6 | D28: 30 | E28: 1 | F28: 28 | G28: 40 | H28: 52 | I28: 374 | J28: 114 | K28: 125 | L28: 337 | M28: 196 | N28: 89 | O28: 94 | P28: 14 | Q28: 10
B29: 41° | R29: 29 | S29: 22 | T29: 38
B30: 42° | R30: 24 | S30: 35 | T30: 29
B31: 43° | R31: 43 | S31: 22 | T31: 14
B32: 44° | R32: 36 | S32: 35 | T32: 28
B33: 45° | R33: 48 | S33: 29 | T33: 17
B34: Acel | C34: 79 | D34: 52 | E34: 22 | F34: 24 | G34: 28 | H34: 24 | I34: 18 | J34: 19 | K34: 22 | L34: 20 | M34: 11 | N34: 25 | O34: 25 | P34: 21 | Q34: 21 | R34: 20 | S34: 17 | T34: 22
B35: Total | C35: 27461 | D35: 28196 | E35: 29764 | F35: 29740 | G35: 29910 | H35: 34341 | I35: 33461 | J35: 32713 | K35: 29726 | L35: 29453 | M35: 28684 | N35: 28975 | O35: 28746 | P35: 28562 | Q35: 28051 | R35: 27958 | S35: 27610 | T35: 27366
B37: Promoción por año del grado cero a quinto y de sexto a once, análisis de cohortes (%)
C38: 2008 | D38: 2009 | E38: 2010 | F38: 2011 | G38: 2012 | H38: 2013 | I38: 2014 | J38: 2015 | K38: 2016 | L38: 2017 | M38: 2018 | N38: 2019 | O38: 2020 | P38: 2021 | Q38: 2022 | R38: 2023 | S38: 2024
B39: 0° | N39: 2134
B40: 1º | O40: =(O9-N8)/N8*100 -> 30.365511
B41: 2º | P41: =(P10-O9)/O9*100 -> -8.2674335
B42: 3º | Q42: =(Q11-P10)/P10*100 -> -10.031348
...

Sheet PITALITO GRADO Y ZONA
B1: SECRETARÍA DE EDUCACIÓN MUNICIPAL DE PITALITO
B2: AREA DE COBERTURA - SISTEMA INTEGRADO DE MATRICULAS
B3: EVOLUCIÓN DE LA MATRÍCULA OFICIAL POR GRADO Y ZONA
C5: 2008 | E5: 2009 | G5: 2010 | I5: 2011 | K5: 2012 | M5: 2013 | O5: 2014 | Q5: 2015 | S5: 2016 | U5: 2017 | W5: 2018 | Y5: 2019 | AA5: 2020 | AC5: 2021 | AE5: 2022 | AG5: 2023 | AI5: 2024 | AK5: 2025 | AO5: 2008 | AQ5: 2009 | AS5: 2010 | AU5: 2011 | AW5: 2012 | AY5: 2013 | BA5: 2014 | BC5: 2015 | BE5: 2016 | BG5: 2017 | BI5: 2018 | BK5: 2019 | BM5: 2020 | BO5: 2021 | BQ5: 2022 | BS5: 2023 | BU5: 2024 | BW5: 2025
C6: RURAL | D6: URBANA | E6: RURAL | F6: URBANA | G6: RURAL | H6: URBANA | I6: RURAL | J6: URBANA | K6: RURAL | L6: URBANA | M6: RURAL | N6: URBANA | O6: RURAL | P6: URBANA | Q6: RURAL | R6: URBANA | S6: RURAL | T6: URBANA | U6: RURAL | V6: URBANA | W6: RURAL | X6: URBANA | Y6: RURAL | Z6: URBANA | AA6: RURAL | AB6: URBANA | AC6: RURAL | AD6: URBANA | AE6: RURAL | AF6: URBANA | AG6: RURAL | AH6: URBANA | AI6: RURAL | AJ6: URBANA | AK6: RURAL | AL6: URBANA | AO6: RURAL | AP6: URBANA | AQ6: RURAL | AR6: URBANA | AS6: RURAL | AT6: URBANA | AU6: RURAL | AV6: URBANA | AW6: RURAL | AX6: URBANA | AY6: RURAL | AZ6: URBANA | BA6: RURAL | BB6: URBANA | BC6: RURAL | BD6: URBANA | BE6: RURAL | BF6: URBANA | BG6: RURAL | BH6: URBANA | BI6: RURAL | BJ6: URBANA | BK6: RURAL | BL6: URBANA | BM6: RURAL | BN6: URBANA | BO6: RURAL | BP6: URBANA | BQ6: RURAL | BR6: URBANA | BS6: RURAL | BT6: URBANA | BU6: RURAL | BV6: URBANA | BW6: RURAL | BX6: URBANA
B7: Prej | AK7: 10 | AL7: 7 | AN7: Preescolar | AO7: =C9 -> 787 | AP7: =D9 -> 1087 | AQ7: =E9 -> 807 | AR7: =F9 -> 1046 | AS7: =G9 -> 802 | AT7: =H9 -> 1056 | AU7: =I9 -> 844 | AV7: =J9 -> 1222 | ... BX7: =AL9 -> 1032
B8: Jard | AK8: 55 | AL8: 28 | AN8: Primaria + Acel | AO8: =SUM(C10:C14,C35) -> 6768 | AP8: =SUM(D10:D14,D35) -> 7372 | AQ8: =SUM(E10:E14,E35) -> 6741 | AR8: =SUM(F10:F14,F35) -> 7399 | AS8: =SUM(G10:G14,G35) -> 6602 | AT8: =SUM(H10:H14,H35) -> 7452 | AU8: =SUM(I10:I14,I35) -> 6374 | AV8: =SUM(J10:J14,J35) -> 7268 | ... BX8: =SUM(AL10:AL14,AL35) -> 6865
B9: 0° | C9: 787 | D9: 1087 | E9: 807 | F9: 1046 | G9: 802 | H9: 1056 | I9: 844 | J9: 1222 | K9: 838 | L9: 1267 | M9: 940 | N9: 1213 | O9: 806 | P9: 1148 | Q9: 864 | R9: 1066 | S9: 882 | T9: 1078 | U9: 886 | V9: 1148 | W9: 994 | X9: 1081 | Y9: 967 | Z9: 1167 | AA9: 872 | AB9: 1154 | AC9: 857 | AD9: 1038 | AE9: 1031 | AF9: 1185 | AG9: 1122 | AH9: 1184 | AI9: 954 | AJ9: 1159 | AK9: 908 | AL9: 1032 | AN9: Secundaria | AO9: =SUM(C15:C18) -> 1847 | AP9: =SUM(D15:D18) -> 6056 | AQ9: =SUM(E15:E18) -> 2082 | AR9: =SUM(F15:F18) -> 6094 | AS9: =SUM(G15:G18) -> 2535 | AT9: =SUM(H15:H18) -> 6680 | AU9: =SUM(I15:I18) -> 2607 | AV9: =SUM(J15:J18) -> 6800 | ... BX9: =SUM(AL15:AL18) -> 5599
B10: 1º | C10: 1422 | D10: 1481 | E10: 1477 | F10: 1557 | G10: 1305 | H10: 1446 | I10: 1300 | J10: 1470 | K10: 1334 | L10: 1647 | M10: 1485 | N10: 1653 | O10: 1443 | P10: 1557 | Q10: 1195 | R10: 1486 | S10: 1203 | T10: 1406 | U10: 1188 | V10: 1374 | W10: 1198 | X10: 1402 | Y10: 1356 | Z10: 1441 | AA10: 1250 | AB10: 1532 | AC10: 1136 | AD10: 1454 | AE10: 1201 | AF10: 1428 | AG10: 1345 | AH10: 1452 | AI10: 1359 | AJ10: 1404 | AK10: 1177 | AL10: 1447 | AN10: Media | AO10: =SUM(C19:C20) -> 168 | AP10: =SUM(D19:D20) -> 1880 | AQ10: =SUM(E19:E20) -> 186 | AR10: =SUM(F19:F20) -> 1959 | AS10: =SUM(G19:G20) -> 272 | AT10: =SUM(H19:H20) -> 2151 | AU10: =SUM(I19:I20) -> 427 | AV10: =SUM(J19:J20) -> 2179 | ... BX10: =SUM(AL19:AL20) -> 1738
B11: 2º | C11: 1419 | D11: 1358 | E11: 1367 | F11: 1383 | G11: 1384 | H11: 1522 | I11: 1274 | J11: 1409 | K11: 1300 | L11: 1392 | M11: 1197 | N11: 1534 | O11: 1228 | P11: 1494 | Q11: 1313 | R11: 1409 | S11: 1071 | T11: 1351 | U11: 1111 | V11: 1277 | W11: 1101 | X11: 1221 | Y11: 1064 | Z11: 1333 | AA11: 1163 | AB11: 1316 | AC11: 1185 | AD11: 1367 | AE11: 1084 | AF11: 1291 | AG11: 1149 | AH11: 1301 | AI11: 1175 | AJ11: 1356 | AK11: 1255 | AL11: 1296 | AN11: Total (0 a 11) | AO11: =SUM(C9:C20,C35) -> 9570 | AP11: =SUM(D9:D20,D35) -> 16395 | AQ11: =SUM(E9:E20,E35) -> 9816 | AR11: =SUM(F9:F20,F35) -> 16498 | AS11: =SUM(G9:G20,G35) -> 10211 | AT11: =SUM(H9:H20,H35) -> 17339 | AU11: =SUM(I9:I20,I35) -> 10252 | AV11: =SUM(J9:J20,J35) -> 17469 | ... BX11: =SUM(AL9:AL20,AL35) -> 15234
B12: 3º | C12: 1465 | D12: 1494 | E12: 1346 | F12: 1419 | G12: 1321 | H12: 1405 | I12: 1308 | J12: 1520 | K12: 1280 | L12: 1421 | M12: 1282 | N12: 1376 | O12: 1154 | P12: 1534 | Q12: 1213 | R12: 1501 | S12: 1217 | T12: 1464 | U12: 1101 | V12: 1404 | W12: 1107 | X12: 1252 | Y12: 1113 | Z12: 1242 | AA12: 1036 | AB12: 1357 | AC12: 1193 | AD12: 1358 | AE12: 1056 | AF12: 1240 | AG12: 1063 | AH12: 1319 | AI12: 1127 | AJ12: 1276 | AK12: 1169 | AL12: 1403
B13: 4º | C13: 1275 | D13: 1458 | E13: 1363 | F13: 1492 | G13: 1282 | H13: 1499 | I13: 1300 | J13: 1360 | K13: 1246 | L13: 1523 | M13: 1249 | N13: 1418 | O13: 1182 | P13: 1399 | Q13: 1106 | R13: 1494 | S13: 1124 | T13: 1487 | U13: 1154 | V13: 1449 | W13: 1042 | X13: 1401 | Y13: 1046 | Z13: 1302 | AA13: 1081 | AB13: 1353 | AC13: 1067 | AD13: 1379 | AE13: 1180 | AF13: 1276 | AG13: 1067 | AH13: 1292 | AI13: 1083 | AJ13: 1356 | AK13: 1099 | AL13: 1322 | AN13: Matrícula por Nivel Educativo y Zona del Grado Cero a Once
B14: 5º | C14: 1187 | D14: 1502 | E14: 1188 | F14: 1496 | G14: 1310 | H14: 1558 | I14: 1192 | J14: 1485 | K14: 1228 | L14: 1421 | M14: 1218 | N14: 1541 | O14: 1153 | P14: 1392 | Q14: 1148 | R14: 1393 | S14: 1073 | T14: 1530 | U14: 1118 | V14: 1474 | W14: 1141 | X14: 1415 | Y14: 1034 | Z14: 1387 | AA14: 1024 | AB14: 1262 | AC14: 1142 | AD14: 1318 | AE14: 1045 | AF14: 1318 | AG14: 1143 | AH14: 1292 | AI14: 1038 | AJ14: 1296 | AK14: 1064 | AL14: 1375
B15: 6º | C15: 740 | D15: 1828 | E15: 752 | F15: 1836 | G15: 857 | H15: 2022 | I15: 897 | J15: 2108 | K15: 912 | L15: 2134 | M15: 1022 | N15: 2112 | O15: 1083 | P15: 2268 | Q15: 1061 | R15: 2220 | S15: 1052 | T15: 2161 | U15: 999 | V15: 2178 | W15: 1064 | X15: 2100 | Y15: 1063 | Z15: 2165 | AA15: 1053 | AB15: 2110 | AC15: 1017 | AD15: 1733 | AE15: 1003 | AF15: 1794 | AG15: 990 | AH15: 1753 | AI15: 1062 | AJ15: 1841 | AK15: 995 | AL15: 1716 | AO15: 2008 | AQ15: 2009 | AS15: 2010 | AU15: 2011 | AW15: 2012 | AY15: 2013 | BA15: 2014 | BC15: 2015 | BE15: 2016 | BG15: 2017 | BI15: 2018 | BK15: 2019 | BM15: 2020 | BO15: 2021 | BQ15: 2022 | BS15: 2023 | BU15: 2024 | BW15: 2025
B16: 7º | C16: 558 | D16: 1643 | E16: 590 | F16: 1624 | G16: 684 | H16: 1780 | I16: 677 | J16: 1740 | K16: 747 | L16: 1807 | M16: 809 | N16: 1738 | O16: 835 | P16: 1673 | Q16: 849 | R16: 1758 | S16: 829 | T16: 1683 | U16: 862 | V16: 1702 | W16: 810 | X16: 1532 | Y16: 895 | Z16: 1556 | AA16: 856 | AB16: 1584 | AC16: 920 | AD16: 1706 | AE16: 848 | AF16: 1432 | AG16: 853 | AH16: 1493 | AI16: 844 | AJ16: 1402 | AK16: 897 | AL16: 1490 | AO16: RURAL | AP16: URBANA | AQ16: RURAL | AR16: URBANA | AS16: RURAL | AT16: URBANA | AU16: RURAL | AV16: URBANA | AW16: RURAL | AX16: URBANA | AY16: RURAL | AZ16: URBANA | BA16: RURAL | BB16: URBANA | BC16: RURAL | BD16: URBANA | BE16: RURAL | BF16: URBANA | BG16: RURAL | BH16: URBANA | BI16: RURAL | BJ16: URBANA | BK16: RURAL | BL16: URBANA | BM16: RURAL | BN16: URBANA | BO16: RURAL | BP16: URBANA | BQ16: RURAL | BR16: URBANA | BS16: RURAL | BT16: URBANA | BU16: RURAL | BV16: URBANA | BW16: RURAL | BX16: URBANA
B17: 8º | C17: 330 | D17: 1425 | E17: 471 | F17: 1379 | G17: 577 | H17: 1564 | I17: 560 | J17: 1667 | K17: 568 | L17: 1503 | M17: 645 | N17: 1534 | O17: 665 | P17: 1504 | Q17: 738 | R17: 1465 | S17: 743 | T17: 1448 | U17: 748 | V17: 1391 | W17: 700 | X17: 1423 | Y17: 718 | Z17: 1457 | AA17: 740 | AB17: 1360 | AC17: 831 | AD17: 1389 | AE17: 734 | AF17: 1455 | AG17: 722 | AH17: 1248 | AI17: 729 | AJ17: 1237 | AK17: 652 | AL17: 1318 | AN17: Preescolar | AQ17: =(AQ7-AO7)/AO7*100 -> 2.5412961 | AR17: =(AR7-AP7)/AP7*100 -> -3.7718491 | AS17: =(AS7-AQ7)/AQ7*100 -> -0.61957869 | AT17: =(AT7-AR7)/AR7*100 -> 0.95602294 | AU17: =(AU7-AS7)/AS7*100 -> 5.2369077 | AV17: =(AV7-AT7)/AT7*100 -> 15.719697 | AW17: =(AW7-AU7)/AU7*100 -> -0.71090047 | AX17: =(AX7-AV7)/AV7*100 -> 3.6824877 | ... BX17: =(BX7-BV7)/BV7*100 -> -10.957722
B18: 9º | C18: 219 | D18: 1160 | E18: 269 | F18: 1255 | G18: 417 | H18: 1314 | I18: 473 | J18: 1285 | K18: 424 | L18: 1332 | M18: 460 | N18: 1304 | O18: 533 | P18: 1229 | Q18: 551 | R18: 1249 | S18: 515 | T18: 1218 | U18: 549 | V18: 1218 | W18: 562 | X18: 1138 | Y18: 586 | Z18: 1273 | AA18: 540 | AB18: 1244 | AC18: 638 | AD18: 1172 | AE18: 635 | AF18: 1102 | AG18: 614 | AH18: 1237 | AI18: 581 | AJ18: 1087 | AK18: 642 | AL18: 1075 | AN18: Primaria + Acel | AQ18: =(AQ8-AO8)/AO8*100 -> -0.39893617 | AR18: =(AR8-AP8)/AP8*100 -> 0.36625068 | AS18: =(AS8-AQ8)/AQ8*100 -> -2.0620086 | AT18: =(AT8-AR8)/AR8*100 -> 0.71631302 | AU18: =(AU8-AS8)/AS8*100 -> -3.4534989 | AV18: =(AV8-AT8)/AT8*100 -> -2.4691358 | AW18: =(AW8-AU8)/AU8*100 -> 0.2196423 | AX18: =(AX8-AV8)/AV8*100 -> 2.2564667 | ... BX18: =(BX8-BV8)/BV8*100 -> 2.3862789
B19: 10º | C19: 89 | D19: 1052 | E19: 114 | F19: 1038 | G19: 165 | H19: 1289 | I19: 317 | J19: 1264 | K19: 334 | L19: 1213 | M19: 355 | N19: 1183 | O19: 362 | P19: 1222 | Q19: 460 | R19: 1123 | S19: 465 | T19: 1163 | U19: 429 | V19: 1154 | W19: 483 | X19: 1082 | Y19: 491 | Z19: 986 | AA19: 490 | AB19: 1085 | AC19: 474 | AD19: 1132 | AE19: 538 | AF19: 1039 | AG19: 528 | AH19: 950 | AI19: 503 | AJ19: 1014 | AK19: 484 | AL19: 940 | AN19: Secundaria | AQ19: =(AQ9-AO9)/AO9*100 -> 12.723335 | AR19: =(AR9-AP9)/AP9*100 -> 0.62747688 | AS19: =(AS9-AQ9)/AQ9*100 -> 21.757925 | AT19: =(AT9-AR9)/AR9*100 -> 9.6160158 | AU19: =(AU9-AS9)/AS9*100 -> 2.8402367 | AV19: =(AV9-AT9)/AT9*100 -> 1.7964072 | AW19: =(AW9-AU9)/AU9*100 -> 1.6877637 | AX19: =(AX9-AV9)/AV9*100 -> -0.35294118 | ... BX19: =(BX9-BV9)/BV9*100 -> 0.57481588
B20: 11º | C20: 79 | D20: 828 | E20: 72 | F20: 921 | G20: 107 | H20: 862 | I20: 110 | J20: 915 | K20: 243 | L20: 841 | M20: 266 | N20: 873 | O20: 292 | P20: 827 | Q20: 303 | R20: 879 | S20: 355 | T20: 792 | U20: 405 | V20: 761 | W20: 307 | X20: 814 | Y20: 384 | Z20: 780 | AA20: 402 | AB20: 733 | AC20: 398 | AD20: 863 | AE20: 354 | AF20: 812 | AG20: 401 | AH20: 750 | AI20: 403 | AJ20: 737 | AK20: 423 | AL20: 798 | AN20: Media | AQ20: =(AQ10-AO10)/AO10*100 -> 10.714286 | AR20: =(AR10-AP10)/AP10*100 -> 4.2021277 | AS20: =(AS10-AQ10)/AQ10*100 -> 46.236559 | AT20: =(AT10-AR10)/AR10*100 -> 9.8009188 | AU20: =(AU10-AS10)/AS10*100 -> 56.985294 | AV20: =(AV10-AT10)/AT10*100 -> 1.3017201 | AW20: =(AW10-AU10)/AU10*100 -> 35.128806 | AX20: =(AX10-AV10)/AV10*100 -> -5.7365764 | ... BX20: =(BX10-BV10)/BV10*100 -> -0.7424329
B21: 12° | D21: 23 | F21: 58 | H21: 51 | J21: 42 | L21: 58 | N21: 59 | P21: 69 | R21: 65 | T21: 11 | V21: 40 | X21: 78 | Z21: 85 | AB21: 87 | AD21: 126 | AF21: 116 | AN21: Total (0 a 11) | AQ21: =(AQ11-AO11)/AO11*100 -> 2.5705329 | AR21: =(AR11-AP11)/AP11*100 -> 0.62824032 | AS21: =(AS11-AQ11)/AQ11*100 -> 4.0240424 | AT21: =(AT11-AR11)/AR11*100 -> 5.0975876 | AU21: =(AU11-AS11)/AS11*100 -> 0.40152776 | AV21: =(AV11-AT11)/AT11*100 -> 0.74975489 | AW21: =(AW11-AU11)/AU11*100 -> 1.9703472 | AX21: =(AX11-AV11)/AV11*100 -> 0.34346557 | ... BX21: =(BX11-BV11)/BV11*100 -> 0.34251087
B22: 13° | D22: 26 | F22: 57 | H22: 58 | J22: 106 | L22: 106 | N22: 55 | P22: 42 | R22: 39 | T22: 31 | V22: 62 | X22: 50 | Z22: 88 | AB22: 99 | AD22: 60 | AF22: 69
B23: C0 | M23: 1844 | N23: 1259 | AN23: Tasa de aumento o disminución de la matrícula por nivel y zona
B24: C1 | C24: 110 | D24: 164 | E24: 233 | F24: 146 | G24: 238 | H24: 107 | I24: 86 | J24: 109 | L24: 58 | N24: 22 | O24: 778 | P24: 991 | Q24: 903 | R24: 1205 | T24: 21 | V24: 21 | X24: 35 | AD24: 60 | AE24: 96 | AF24: 68 | AH24: 14 | AJ24: 26 | AL24: 17
B25: C2 | C25: 288 | D25: 232 | E25: 215 | F25: 200 | G25: 246 | H25: 290 | I25: 56 | J25: 95 | K25: 77 | L25: 111 | M25: 567 | N25: 561 | O25: 325 | P25: 484 | R25: 86 | T25: 66 | V25: 54 | X25: 75 | Z25: 34 | AB25: 44 | AD25: 58 | AF25: 86 | AH25: 48 | AJ25: 58 | AL25: 39
B26: C3 | C26: 71 | D26: 348 | E26: 162 | F26: 296 | G26: 215 | H26: 280 | I26: 292 | J26: 327 | K26: 203 | L26: 343 | M26: 204 | N26: 305 | O26: 735 | P26: 888 | Q26: 623 | R26: 723 | S26: 291 | T26: 441 | U26: 225 | V26: 368 | W26: 253 | X26: 410 | Y26: 245 | Z26: 351 | AA26: 287 | AB26: 309 | AC26: 218 | AD26: 252 | AE26: 262 | AF26: 285 | AG26: 193 | AH26: 248 | AI26: 179 | AJ26: 204 | AK26: 168 | AL26: 177
B27: C4 | C27: 28 | D27: 114 | E27: 83 | F27: 282 | G27: 95 | H27: 323 | I27: 146 | J27: 322 | K27: 224 | L27: 333 | M27: 182 | N27: 355 | O27: 183 | P27: 330 | Q27: 229 | R27: 394 | S27: 430 | T27: 545 | U27: 304 | V27: 405 | W27: 301 | X27: 362 | Y27: 265 | Z27: 433 | AA27: 259 | AB27: 389 | AC27: 231 | AD27: 250 | AE27: 241 | AF27: 261 | AG27: 245 | AH27: 256 | AI27: 201 | AJ27: 287 | AK27: 155 | AL27: 193
B28: C5 | C28: 27 | D28: 65 | E28: 21 | F28: 99 | G28: 87 | H28: 223 | I28: 94 | J28: 316 | K28: 148 | L28: 226 | M28: 220 | N28: 225 | O28: 70 | P28: 191 | Q28: 210 | R28: 259 | S28: 201 | T28: 232 | U28: 230 | V28: 307 | W28: 246 | X28: 297 | Y28: 208 | Z28: 346 | AA28: 243 | AB28: 313 | AC28: 218 | AD28: 287 | AE28: 210 | AF28: 245 | AG28: 219 | AH28: 267 | AI28: 201 | AJ28: 271 | AK28: 165 | AL28: 227
B29: C6 | E29: 30 | H29: 1 | J29: 28 | L29: 40 | N29: 52 | O29: 155 | P29: 219 | Q29: 23 | R29: 91 | T29: 125 | U29: 146 | V29: 191 | W29: 62 | X29: 134 | Z29: 89 | AB29: 94 | AD29: 14 | AF29: 10
B30: 41° | AH30: 29 | AJ30: 22 | AL30: 38
B31: 42° | AH31: 24 | AJ31: 35 | AL31: 29
B32: 43° | AH32: 43 | AJ32: 22 | AL32: 14
B33: 44° | AH33: 36 | AJ33: 35 | AL33: 28
B34: 45° | AH34: 48 | AJ34: 29 | AL34: 17
B35: Acel | D35: 79 | F35: 52 | H35: 22 | J35: 24 | L35: 28 | N35: 24 | P35: 18 | R35: 19 | T35: 22 | V35: 20 | X35: 11 | Z35: 25 | AB35: 25 | AD35: 21 | AF35: 21 | AH35: 20 | AJ35: 17 | AL35: 22
B36: Total | C36: 10094 | D36: 17367 | E36: 10560 | F36: 17636 | G36: 11092 | H36: 18672 | I36: 10926 | J36: 18814 | K36: 11106 | L36: 18804 | M36: 13945 | N36: 20396 | O36: 12982 | P36: 20479 | Q36: 12789 | R36: 19924 | S36: 11451 | T36: 18275 | U36: 11455 | V36: 17998 | W36: 11371 | X36: 17313 | Y36: 11435 | Z36: 17540 | AA36: 11296 | AB36: 17450 | AC36: 11525 | AD36: 17037 | AE36: 11518 | AF36: 16533 | AG36: 11654 | AH36: 16304 | AI36: 11439 | AJ36: 16171 | AK36: 11318 | AL36: 16048

Sheet COMPARATIVO IE
C2: Tasa de Variación de Población que Ingresa al Nivel de Preescolar (0°) y Culmina en Nivel de Primaria (5°)
C3: IE | D3: 0° (2019) | E3: 5° (2024) | F3: 5° (2024) vs 0° (2019)
B4: 1 | C4: IE MUNICIPAL JORGE VILLAMIL CORDOVEZ | D4: 61 | E4: 38 | F4: =(E4-D4)/D4*100 -> -37.704918
B5: 2 | C5: IE MUNICIPAL WINNIPEG | D5: 160 | E5: 143 | F5: =(E5-D5)/D5*100 -> -10.625
B6: 3 | C6: IE MUNICIPAL VILLA FATIMA | D6: 57 | E6: 54 | F6: =(E6-D6)/D6*100 -> -5.2631579
B7: 4 | C7: IE MUNICIPAL PALMARITO | D7: 59 | E7: 57 | F7: =(E7-D7)/D7*100 -> -3.3898305
B8: 5 | C8: IE MUNICIPAL JOSE EUSTASIO RIVERA | D8: 284 | E8: 279 | F8: =(E8-D8)/D8*100 -> -1.7605634
B9: 6 | C9: IE MUNICIPAL GUACACALLO | D9: 72 | E9: 71 | F9: =(E9-D9)/D9*100 -> -1.3888889
B10: 7 | C10: IE MUNICIPAL MONTESSORI | D10: 292 | E10: 298 | F10: =(E10-D10)/D10*100 -> 2.0547945
B11: 8 | C11: IE MUNICIPAL NORMAL SUPERIOR | D11: 303 | E11: 334 | F11: =(E11-D11)/D11*100 -> 10.231023
B12: 9 | C12: IE MUNICIPAL NACIONAL | D12: 270 | E12: 302 | F12: =(E12-D12)/D12*100 -> 11.851852
B13: 10 | C13: IE MUNICIPAL CRIOLLO | D13: 128 | E13: 149 | F13: =(E13-D13)/D13*100 -> 16.40625
B14: 11 | C14: IE MUNICIPAL CHILLURCO | D14: 25 | E14: 30 | F14: =(E14-D14)/D14*100 -> 20
B15: 12 | C15: IE MUNICIPAL HUMBERTO MUÑOZ ORDOÑEZ | D15: 185 | E15: 229 | F15: =(E15-D15)/D15*100 -> 23.783784
... B19: 16 | C19: IE MUNICIPAL PACHAKUTI | D19: 6 | E19: 14 | F19: =(E19-D19)/D19*100 -> 133.33333
C20: Total general | D20: 2134 | E20: 2334 | F20: =(E20-D20)/D20*100 -> 9.3720712
B22: Este análisis contempla el estudio de la población que ingresó al sistema escolar en un periodo de tiempo y cuantos de estos terminaron el nivel educativo. La I.E Jorge Villamil Cordovez presenta una disminución de población lo que significa que de 61 niños que ingresaron en el año 2019 al grado de transición, 38 culminaron el grado quinto en la vigencia 2024. De acuerdo a la cifra general se puede deducir que en el nivel de primaria se logra retener y promocionar a la población escolar.
C28: Tasa de Variación de Población que Ingresa al Nivel de Secundaria (6°) y Culmina en Nivel de Media (11°)
C29: IE | D29: 6° (2019 | E29: 11° (2024) | F29: 11° (2024) vs 6° (2019)
B30: 1 | C30: IE MUNICIPAL JOSE EUSTASIO RIVERA | D30: 316 | E30: 76 | F30: =(E30-D30)/D30*100 -> -75.949367
B31: 2 | C31: IE MUNICIPAL LICEO SUR ANDINO | D31: 240 | E31: 61 | F31: =(E31-D31)/D31*100 -> -74.583333
B32: 3 | C32: IE MUNICIPAL JORGE VILLAMIL CORDOVEZ | D32: 54 | E32: 15 | F32: =(E32-D32)/D32*100 -> -72.222222
B33: 4 | C33: IE MUNICIPAL HUMBERTO MUÑOZ ORDOÑEZ | D33: 536 | E33: 166 | F33: =(E33-D33)/D33*100 -> -69.029851
B34: 5 | C34: IE MUNICIPAL CHILLURCO | D34: 50 | E34: 16 | F34: =(E34-D34)/D34*100 -> -68
B35: 6 | C35: IE MUNICIPAL NORMAL SUPERIOR | D35: 529 | E35: 173 | F35: =(E35-D35)/D35*100 -> -67.296786
B36: 7 | C36: IE MUNICIPAL NACIONAL | D36: 506 | E36: 173 | F36: =(E36-D36)/D36*100 -> -65.810277
B37: 8 | C37: IE MUNICIPAL PALMARITO | D37: 92 | E37: 34 | F37: =(E37-D37)/D37*100 -> -63.043478
B38: 9 | C38: IE MUNICIPAL LA LAGUNA | D38: 68 | E38: 27 | F38: =(E38-D38)/D38*100 -> -60.294118
B39: 10 | C39: IE MUNICIPAL PACHAKUTI | D39: 30 | E39: 12 | F39: =(E39-D39)/D39*100 -> -60
B40: 11 | C40: IE MUNICIPAL MONTESSORI | D40: 340 | E40: 151 | F40: =(E40-D40)/D40*100 -> -55.588235
B41: 12 | C41: IE MUNICIPAL VILLA FATIMA | D41: 40 | E41: 18 | F41: =(E41-D41)/D41*100 -> -55
... B45: 16 | C45: IE MUNICIPAL DOMINGO SAVIO | D45: 52 | E45: 28 | F45: =(E45-D45)/D45*100 -> -46.153846
C46: Total general | D46: 3228 | E46: 1140 | F46: =(E46-D46)/D46*100 -> -64.684015
B48: En el Municipio de Pitalito la situación es muy crítica en los niveles de secundaria y media. En el año 2018 ingresaron 3228 estudiantes al grado sexto y de estos solamente 1140 lograron culminar el nivel de media en la vigencia 2024 en la jornada regular, lo que significa que el 64,68 % se queda rezagado, deserta del sistema escolar, se traslada a otro lugar diferente a Pitalito o se vincula a modelos flexibles. De la zona rural la I.E José Eustasio Rivera presenta el nivel mas crítico mientras que en la zona urbana es el I.E Liceo Sur Andino

Sheet CHILLURCO
B1: SECRETARÍA DE EDUCACIÓN MUNICIPAL DE PITALITO
B2: AREA DE COBERTURA - SISTEMA INTEGRADO DE MATRICULAS
B3: MATRICULA OFICIAL I.E MUNICIPAL CHILLURCO POR GRADO NIVELES
C5: 2008 | D5: 2009 | E5: 2010 | F5: 2011 | G5: 2012 | H5: 2013 | I5: 2014 | J5: 2015 | K5: 2016 | L5: 2017 | M5: 2018 | N5: 2019 | O5: 2020 | P5: 2021 | Q5: 2022 | R5: 2023 | S5: 2024 | T5: 2025 | W5: 2008 | X5: 2009 | Y5: 2010 | Z5: 2011 | AA5: 2012 | AB5: 2013 | AC5: 2014 | AD5: 2015 | AE5: 2016 | AF5: 2017 | AG5: 2018 | AH5: 2019 | AI5: 2020 | AJ5: 2021 | AK5: 2022 | AL5: 2023 | AM5: 2024 | AN5: 2025
B6: Prej | V6: Preescolar | W6: =C8 -> 30 | X6: =D8 -> 35 | Y6: =E8 -> 48 | Z6: =F8 -> 47 | AA6: =G8 -> 39 | AB6: =H8 -> 40 | AC6: =I8 -> 30 | AD6: =J8 -> 25 | ... AN6: =T8 -> 25
B7: Jard | V7: Primaria | W7: =SUM(C9:C13,C34) -> 259 | X7: =SUM(D9:D13,D34) -> 273 | Y7: =SUM(E9:E13,E34) -> 271 | Z7: =SUM(F9:F13,F34) -> 261 | AA7: =SUM(G9:G13,G34) -> 239 | AB7: =SUM(H9:H13,H34) -> 222 | AC7: =SUM(I9:I13,I34) -> 225 | AD7: =SUM(J9:J13,J34) -> 225 | ... AN7: =SUM(T9:T13,T34) -> 161
B8: 0° | C8: 30 | D8: 35 | E8: 48 | F8: 47 | G8: 39 | H8: 40 | I8: 30 | J8: 25 | K8: 31 | L8: 27 | M8: 33 | N8: 25 | O8: 35 | P8: 14 | Q8: 31 | R8: 32 | S8: 30 | T8: 25 | V8: Secundaria | W8: =SUM(C14:C17) -> 77 | X8: =SUM(D14:D17) -> 98 | Y8: =SUM(E14:E17) -> 118 | Z8: =SUM(F14:F17) -> 123 | AA8: =SUM(G14:G17) -> 127 | AB8: =SUM(H14:H17) -> 152 | AC8: =SUM(I14:I17) -> 140 | AD8: =SUM(J14:J17) -> 153 | ... AN8: =SUM(T14:T17) -> 107
B9: 1º | C9: 58 | D9: 52 | E9: 46 | F9: 58 | G9: 51 | H9: 40 | I9: 48 | J9: 50 | K9: 35 | L9: 41 | M9: 34 | N9: 46 | O9: 36 | P9: 38 | Q9: 28 | R9: 40 | S9: 39 | T9: 29 | V9: Media | W9: =SUM(C18:C19) -> 0 | X9: =SUM(D18:D19) -> 0 | Y9: =SUM(E18:E19) -> 0 | Z9: =SUM(F18:F19) -> 14 | AA9: =SUM(G18:G19) -> 23 | AB9: =SUM(H18:H19) -> 26 | AC9: =SUM(I18:I19) -> 19 | AD9: =SUM(J18:J19) -> 35 | ... AN9: =SUM(T18:T19) -> 35
B10: 2º | C10: 58 | D10: 61 | E10: 47 | F10: 53 | G10: 46 | H10: 51 | I10: 40 | J10: 48 | K10: 37 | L10: 30 | M10: 41 | N10: 33 | O10: 37 | P10: 32 | Q10: 34 | R10: 25 | S10: 35 | T10: 38 | V10: Total (0 a 11) | W10: =SUM(C8:C19,C34) -> 366 | X10: =SUM(D8:D19,D34) -> 406 | Y10: =SUM(E8:E19,E34) -> 437 | Z10: =SUM(F8:F19,F34) -> 445 | AA10: =SUM(G8:G19,G34) -> 428 | AB10: =SUM(H8:H19,H34) -> 440 | AC10: =SUM(I8:I19,I34) -> 414 | AD10: =SUM(J8:J19,J34) -> 438 | ... AN10: =SUM(T8:T19,T34) -> 328
B11: 3º | C11: 59 | D11: 57 | E11: 65 | F11: 35 | G11: 51 | H11: 46 | I11: 51 | J11: 43 | K11: 45 | L11: 36 | M11: 36 | N11: 39 | O11: 33 | P11: 34 | Q11: 38 | R11: 32 | S11: 34 | T11: 29
B12: 4º | C12: 45 | D12: 63 | E12: 55 | F12: 60 | G12: 40 | H12: 48 | I12: 42 | J12: 37 | K12: 42 | L12: 40 | M12: 36 | N12: 31 | O12: 44 | P12: 33 | Q12: 36 | R12: 38 | S12: 34 | T12: 30 | V12: Matrícula por Nivel Educativo del Grado Cero a Once
B13: 5º | C13: 39 | D13: 40 | E13: 58 | F13: 55 | G13: 51 | H13: 37 | I13: 44 | J13: 47 | K13: 35 | L13: 43 | M13: 38 | N13: 39 | O13: 35 | P13: 44 | Q13: 31 | R13: 37 | S13: 30 | T13: 35
B14: 6º | C14: 27 | D14: 35 | E14: 37 | F14: 48 | G14: 53 | H14: 55 | I14: 39 | J14: 55 | K14: 44 | L14: 41 | M14: 51 | N14: 50 | O14: 48 | P14: 44 | Q14: 42 | R14: 29 | S14: 40 | T14: 36
B15: 7º | C15: 22 | D15: 29 | E15: 34 | F15: 34 | G15: 38 | H15: 49 | I15: 47 | J15: 21 | K15: 35 | L15: 36 | M15: 25 | N15: 31 | O15: 44 | P15: 42 | Q15: 26 | R15: 37 | S15: 31 | T15: 26 | W15: 2008 | X15: 2009 | Y15: 2010 | Z15: 2011 | AA15: 2012 | AB15: 2013 | AC15: 2014 | AD15: 2015 | AE15: 2016 | AF15: 2017 | AG15: 2018 | AH15: 2019 | AI15: 2020 | AJ15: 2021 | AK15: 2022 | AL15: 2023 | AM15: 2024 | AN15: 2025
B16: 8º | C16: 15 | D16: 21 | E16: 29 | F16: 22 | G16: 18 | H16: 32 | I16: 31 | J16: 47 | K16: 16 | L16: 35 | M16: 30 | N16: 20 | O16: 29 | P16: 35 | Q16: 28 | R16: 23 | S16: 26 | T16: 27 | V16: Preescolar | X16: =(X6-W6)/W6*100 -> 16.666667 | Y16: =(Y6-X6)/X6*100 -> 37.142857 | Z16: =(Z6-Y6)/Y6*100 -> -2.0833333 | AA16: =(AA6-Z6)/Z6*100 -> -17.021277 | AB16: =(AB6-AA6)/AA6*100 -> 2.5641026 | AC16: =(AC6-AB6)/AB6*100 -> -25 | AD16: =(AD6-AC6)/AC6*100 -> -16.666667 | AE16: =(AE6-AD6)/AD6*100 -> 24 | ... AN16: =(AN6-AM6)/AM6*100 -> -16.666667
B17: 9º | C17: 13 | D17: 13 | E17: 18 | F17: 19 | G17: 18 | H17: 16 | I17: 23 | J17: 30 | K17: 29 | L17: 12 | M17: 24 | N17: 25 | O17: 23 | P17: 27 | Q17: 18 | R17: 26 | S17: 14 | T17: 18 | V17: Primaria | X17: =(X7-W7)/W7*100 -> 5.4054054 | Y17: =(Y7-X7)/X7*100 -> -0.73260073 | Z17: =(Z7-Y7)/Y7*100 -> -3.6900369 | AA17: =(AA7-Z7)/Z7*100 -> -8.4291188 | AB17: =(AB7-AA7)/AA7*100 -> -7.1129707 | AC17: =(AC7-AB7)/AB7*100 -> 1.3513514 | AD17: =(AD7-AC7)/AC7*100 -> 0 | AE17: =(AE7-AD7)/AD7*100 -> -13.777778 | ... AN17: =(AN7-AM7)/AM7*100 -> -6.3953488
B18: 10º | F18: 14 | G18: 13 | H18: 14 | I18: 7 | J18: 26 | K18: 27 | L18: 22 | M18: 5 | N18: 24 | O18: 20 | P18: 18 | Q18: 20 | R18: 16 | S18: 26 | T18: 12 | V18: Secundaria | X18: =(X8-W8)/W8*100 -> 27.272727 | Y18: =(Y8-X8)/X8*100 -> 20.408163 | Z18: =(Z8-Y8)/Y8*100 -> 4.2372881 | AA18: =(AA8-Z8)/Z8*100 -> 3.2520325 | AB18: =(AB8-AA8)/AA8*100 -> 19.685039 | AC18: =(AC8-AB8)/AB8*100 -> -7.8947368 | AD18: =(AD8-AC8)/AC8*100 -> 9.2857143 | AE18: =(AE8-AD8)/AD8*100 -> -18.954248 | ... AN18: =(AN8-AM8)/AM8*100 -> -3.6036036
B19: 11º | G19: 10 | H19: 12 | I19: 12 | J19: 9 | K19: 19 | L19: 24 | M19: 19 | N19: 5 | O19: 21 | P19: 21 | Q19: 12 | R19: 15 | S19: 16 | T19: 23 | V19: Media | AA19: =(AA9-Z9)/Z9*100 -> 64.285714 | AB19: =(AB9-AA9)/AA9*100 -> 13.043478 | AC19: =(AC9-AB9)/AB9*100 -> -26.923077 | AD19: =(AD9-AC9)/AC9*100 -> 84.210526 | AE19: =(AE9-AD9)/AD9*100 -> 31.428571 | AF19: =(AF9-AE9)/AE9*100 -> 0 | AG19: =(AG9-AF9)/AF9*100 -> -47.826087 | AH19: =(AH9-AG9)/AG9*100 -> 20.833333 | ... AN19: =(AN9-AM9)/AM9*100 -> -16.666667
B20: 12° | V20: Total (0 a 11) | X20: =(X10-W10)/W10*100 -> 10.928962 | Y20: =(Y10-X10)/X10*100 -> 7.635468 | Z20: =(Z10-Y10)/Y10*100 -> 1.8306636 | AA20: =(AA10-Z10)/Z10*100 -> -3.8202247 | AB20: =(AB10-AA10)/AA10*100 -> 2.8037383 | AC20: =(AC10-AB10)/AB10*100 -> -5.9090909 | AD20: =(AD10-AC10)/AC10*100 -> 5.7971014 | AE20: =(AE10-AD10)/AD10*100 -> -9.8173516 | ... AN20: =(AN10-AM10)/AM10*100 -> -7.6056338
B21: 13°
B22: C0 | H22: 19 | V22: Tasa de aumento o disminución de la matrícula por nivel y año
B23: C1 | I23: 22 | J23: 21 | Q23: 18
B24: C2 | C24: 55
B25: C3 | H25: 34 | I25: 26 | J25: 7 | K25: 11 | L25: 19 | M25: 7 | N25: 4
B26: C4 | H26: 8 | I26: 35 | J26: 11 | K26: 8 | L26: 10 | M26: 10 | N26: 12
B27: C5 | H27: 7 | J27: 31 | K27: 8 | L27: 9 | M27: 16 | N27: 8
B28: C6 | I28: 5
B29: 41°
B30: 42°
B31: 43°
B32: 44°
B33: 45°
B34: Acel
B35: Total | C35: 421 | D35: 406 | E35: 437 | F35: 445 | G35: 428 | H35: 508 | I35: 502 | J35: 508 | K35: 422 | L35: 425 | M35: 405 | N35: 392 | O35: 405 | P35: 382 | Q35: 362 | R35: 350 | S35: 355 | T35: 328
B37: Promoción por año del grado cero a quinto y de sexto a once, análisis de cohortes (%)
C38: 2008 | D38: 2009 | E38: 2010 | F38: 2011 | G38: 2012 | H38: 2013 | I38: 2014 | J38: 2015 | K38: 2016 | L38: 2017 | M38: 2018 | N38: 2019 | O38: 2020 | P38: 2021 | Q38: 2022 | R38: 2023 | S38: 2024
B39: 0° | N39: 25
B40: 1º | O40: =(O9-N8)/N8*100 -> 44
B41: 2º | P41: =(P10-O9)/O9*100 -> -11.111111
B42: 3º | Q42: =(Q11-P10)/P10*100 -> 18.75
...

Sheet CRIOLLO
B1: SECRETARÍA DE EDUCACIÓN MUNICIPAL DE PITALITO
B2: AREA DE COBERTURA - SISTEMA INTEGRADO DE MATRICULAS
B3: MATRICULA OFICIAL I.E MUNICIPAL CRIOLLO POR GRADO Y NIVELES
C5: 2008 | D5: 2009 | E5: 2010 | F5: 2011 | G5: 2012 | H5: 2013 | I5: 2014 | J5: 2015 | K5: 2016 | L5: 2017 | M5: 2018 | N5: 2019 | O5: 2020 | P5: 2021 | Q5: 2022 | R5: 2023 | S5: 2024 | T5: 2025 | W5: 2008 | X5: 2009 | Y5: 2010 | Z5: 2011 | AA5: 2012 | AB5: 2013 | AC5: 2014 | AD5: 2015 | AE5: 2016 | AF5: 2017 | AG5: 2018 | AH5: 2019 | AI5: 2020 | AJ5: 2021 | AK5: 2022 | AL5: 2023 | AM5: 2024 | AN5: 2025
B6: Prej | V6: Preescolar | W6: =C8 -> 170 | X6: =D8 -> 127 | Y6: =E8 -> 115 | Z6: =F8 -> 118 | AA6: =G8 -> 116 | AB6: =H8 -> 115 | AC6: =I8 -> 99 | AD6: =J8 -> 100 | ... AN6: =T8 -> 110
B7: Jard | V7: Primaria | W7: =SUM(C9:C13,C34) -> 862 | X7: =SUM(D9:D13,D34) -> 840 | Y7: =SUM(E9:E13,E34) -> 821 | Z7: =SUM(F9:F13,F34) -> 789 | AA7: =SUM(G9:G13,G34) -> 776 | AB7: =SUM(H9:H13,H34) -> 820 | AC7: =SUM(I9:I13,I34) -> 783 | AD7: =SUM(J9:J13,J34) -> 741 | ... AN7: =SUM(T9:T13,T34) -> 717
B8: 0° | C8: 170 | D8: 127 | E8: 115 | F8: 118 | G8: 116 | H8: 115 | I8: 99 | J8: 100 | K8: 114 | L8: 120 | M8: 107 | N8: 128 | O8: 120 | P8: 116 | Q8: 121 | R8: 141 | S8: 120 | T8: 110 | V8: Secundaria | W8: =SUM(C14:C17) -> 255 | X8: =SUM(D14:D17) -> 323 | Y8: =SUM(E14:E17) -> 439 | Z8: =SUM(F14:F17) -> 393 | AA8: =SUM(G14:G17) -> 372 | AB8: =SUM(H14:H17) -> 417 | AC8: =SUM(I14:I17) -> 468 | AD8: =SUM(J14:J17) -> 445 | ... AN8: =SUM(T14:T17) -> 466
B9: 1º | C9: 213 | D9: 210 | E9: 164 | F9: 177 | G9: 150 | H9: 182 | I9: 183 | J9: 136 | K9: 130 | L9: 153 | M9: 139 | N9: 156 | O9: 159 | P9: 138 | Q9: 145 | R9: 150 | S9: 165 | T9: 152 | V9: Media | W9: =SUM(C18:C19) -> 0 | X9: =SUM(D18:D19) -> 0 | Y9: =SUM(E18:E19) -> 14 | Z9: =SUM(F18:F19) -> 73 | AA9: =SUM(G18:G19) -> 99 | AB9: =SUM(H18:H19) -> 92 | AC9: =SUM(I18:I19) -> 104 | AD9: =SUM(J18:J19) -> 108 | ... AN9: =SUM(T18:T19) -> 116
B10: 2º | C10: 184 | D10: 185 | E10: 196 | F10: 146 | G10: 160 | H10: 151 | I10: 148 | J10: 163 | K10: 129 | L10: 128 | M10: 156 | N10: 129 | O10: 131 | P10: 152 | Q10: 125 | R10: 149 | S10: 142 | T10: 155 | V10: Total (0 a 11) | W10: =SUM(C8:C19,C34) -> 1287 | X10: =SUM(D8:D19,D34) -> 1290 | Y10: =SUM(E8:E19,E34) -> 1389 | Z10: =SUM(F8:F19,F34) -> 1373 | AA10: =SUM(G8:G19,G34) -> 1363 | AB10: =SUM(H8:H19,H34) -> 1444 | AC10: =SUM(I8:I19,I34) -> 1454 | AD10: =SUM(J8:J19,J34) -> 1394 | ... AN10: =SUM(T8:T19,T34) -> 1409
B11: 3º | C11: 160 | D11: 155 | E11: 179 | F11: 174 | G11: 143 | H11: 174 | I11: 154 | J11: 134 | K11: 149 | L11: 143 | M11: 132 | N11: 165 | O11: 127 | P11: 129 | Q11: 130 | R11: 125 | S11: 143 | T11: 142
B12: 4º | C12: 152 | D12: 144 | E12: 152 | F12: 153 | G12: 177 | H12: 141 | I12: 165 | J12: 153 | K12: 131 | L12: 138 | M12: 131 | N12: 122 | O12: 154 | P12: 126 | Q12: 132 | R12: 143 | S12: 139 | T12: 131 | V12: Matrícula por Nivel Educativo del Grado Cero a Once
B13: 5º | C13: 153 | D13: 146 | E13: 130 | F13: 139 | G13: 146 | H13: 172 | I13: 133 | J13: 155 | K13: 149 | L13: 143 | M13: 140 | N13: 137 | O13: 105 | P13: 155 | Q13: 125 | R13: 140 | S13: 149 | T13: 137
B14: 6º | C14: 125 | D14: 124 | E14: 143 | F14: 117 | G14: 111 | H14: 132 | I14: 176 | J14: 135 | K14: 153 | L14: 158 | M14: 174 | N14: 157 | O14: 164 | P14: 128 | Q14: 151 | R14: 150 | S14: 165 | T14: 160
B15: 7º | C15: 98 | D15: 103 | E15: 121 | F15: 102 | G15: 99 | H15: 105 | I15: 116 | J15: 142 | K15: 109 | L15: 136 | M15: 121 | N15: 136 | O15: 138 | P15: 151 | Q15: 125 | R15: 144 | S15: 116 | T15: 113 | W15: 2008 | X15: 2009 | Y15: 2010 | Z15: 2011 | AA15: 2012 | AB15: 2013 | AC15: 2014 | AD15: 2015 | AE15: 2016 | AF15: 2017 | AG15: 2018 | AH15: 2019 | AI15: 2020 | AJ15: 2021 | AK15: 2022 | AL15: 2023 | AM15: 2024 | AN15: 2025
B16: 8º | C16: 22 | D16: 81 | E16: 106 | F16: 92 | G16: 97 | H16: 88 | I16: 101 | J16: 92 | K16: 115 | L16: 101 | M16: 118 | N16: 115 | O16: 107 | P16: 144 | Q16: 118 | R16: 114 | S16: 122 | T16: 85 | V16: Preescolar | X16: =(X6-W6)/W6*100 -> -25.294118 | Y16: =(Y6-X6)/X6*100 -> -9.4488189 | Z16: =(Z6-Y6)/Y6*100 -> 2.6086957 | AA16: =(AA6-Z6)/Z6*100 -> -1.6949153 | AB16: =(AB6-AA6)/AA6*100 -> -0.86206897 | AC16: =(AC6-AB6)/AB6*100 -> -13.913043 | AD16: =(AD6-AC6)/AC6*100 -> 1.010101 | AE16: =(AE6-AD6)/AD6*100 -> 14 | ... AN16: =(AN6-AM6)/AM6*100 -> -8.3333333
B17: 9º | C17: 10 | D17: 15 | E17: 69 | F17: 82 | G17: 65 | H17: 92 | I17: 75 | J17: 76 | K17: 75 | L17: 93 | M17: 79 | N17: 105 | O17: 75 | P17: 98 | Q17: 119 | R17: 89 | S17: 84 | T17: 108 | V17: Primaria | X17: =(X7-W7)/W7*100 -> -2.5522042 | Y17: =(Y7-X7)/X7*100 -> -2.2619048 | Z17: =(Z7-Y7)/Y7*100 -> -3.8976857 | AA17: =(AA7-Z7)/Z7*100 -> -1.6476553 | AB17: =(AB7-AA7)/AA7*100 -> 5.6701031 | AC17: =(AC7-AB7)/AB7*100 -> -4.5121951 | AD17: =(AD7-AC7)/AC7*100 -> -5.3639847 | AE17: =(AE7-AD7)/AD7*100 -> -7.1524966 | ... AN17: =(AN7-AM7)/AM7*100 -> -2.8455285
B18: 10º | E18: 14 | F18: 63 | G18: 52 | H18: 45 | I18: 72 | J18: 53 | K18: 73 | L18: 65 | M18: 94 | N18: 70 | O18: 99 | P18: 76 | Q18: 82 | R18: 95 | S18: 67 | T18: 57 | V18: Secundaria | X18: =(X8-W8)/W8*100 -> 26.666667 | Y18: =(Y8-X8)/X8*100 -> 35.913313 | Z18: =(Z8-Y8)/Y8*100 -> -10.47836 | AA18: =(AA8-Z8)/Z8*100 -> -5.3435115 | AB18: =(AB8-AA8)/AA8*100 -> 12.096774 | AC18: =(AC8-AB8)/AB8*100 -> 12.230216 | AD18: =(AD8-AC8)/AC8*100 -> -4.9145299 | AE18: =(AE8-AD8)/AD8*100 -> 1.5730337 | ... AN18: =(AN8-AM8)/AM8*100 -> -4.312115
B19: 11º | F19: 10 | G19: 47 | H19: 47 | I19: 32 | J19: 55 | K19: 45 | L19: 66 | M19: 46 | N19: 68 | O19: 57 | P19: 78 | Q19: 63 | R19: 62 | S19: 79 | T19: 59 | V19: Media | Z19: =(Z9-Y9)/Y9*100 -> 421.42857 | AA19: =(AA9-Z9)/Z9*100 -> 35.616438 | AB19: =(AB9-AA9)/AA9*100 -> -7.0707071 | AC19: =(AC9-AB9)/AB9*100 -> 13.043478 | AD19: =(AD9-AC9)/AC9*100 -> 3.8461538 | AE19: =(AE9-AD9)/AD9*100 -> 9.2592593 | AF19: =(AF9-AE9)/AE9*100 -> 11.016949 | AG19: =(AG9-AF9)/AF9*100 -> 6.870229 | ... AN19: =(AN9-AM9)/AM9*100 -> -20.547945
B20: 12° | V20: Total (0 a 11) | X20: =(X10-W10)/W10*100 -> 0.23310023 | Y20: =(Y10-X10)/X10*100 -> 7.6744186 | Z20: =(Z10-Y10)/Y10*100 -> -1.1519078 | AA20: =(AA10-Z10)/Z10*100 -> -0.72833212 | AB20: =(AB10-AA10)/AA10*100 -> 5.9427733 | AC20: =(AC10-AB10)/AB10*100 -> 0.69252078 | AD20: =(AD10-AC10)/AC10*100 -> -4.1265475 | AE20: =(AE10-AD10)/AD10*100 -> -1.5781923 | ... AN20: =(AN10-AM10)/AM10*100 -> -5.4996647
B21: 13°
B22: C0 | H22: 246 | V22: Tasa de aumento o disminución de la matrícula por nivel y año
B23: C1 | C23: 109 | D23: 45 | E23: 50 | F23: 22 | I23: 69 | J23: 73 | Q23: 25
B24: C2 | C24: 37 | E24: 20 | F24: 1 | G24: 5 | H24: 48 | I24: 16
B25: C3 | C25: 22 | F25: 47 | G25: 14 | H25: 43 | I25: 85 | J25: 77 | K25: 37 | L25: 35 | M25: 34 | N25: 35 | O25: 37 | P25: 25 | Q25: 22 | R25: 18 | S25: 16 | T25: 21
B26: C4 | F26: 16 | G26: 25 | H26: 35 | I26: 36 | J26: 47 | K26: 59 | L26: 46 | M26: 53 | N26: 35 | O26: 32 | P26: 43 | Q26: 38 | R26: 25 | S26: 29 | T26: 25
B27: C5 | F27: 6 | G27: 27 | H27: 37 | I27: 40 | J27: 43 | K27: 40 | L27: 36 | M27: 37 | N27: 29 | O27: 33 | P27: 42 | Q27: 28 | R27: 30 | S27: 33 | T27: 26
B28: C6 | L28: 14
B29: 41°
B30: 42°
B31: 43°
B32: 44°
B33: 45°
B34: Acel
B35: Total | C35: 1455 | D35: 1335 | E35: 1459 | F35: 1465 | G35: 1434 | H35: 1853 | I35: 1700 | J35: 1634 | K35: 1508 | L35: 1575 | M35: 1561 | N35: 1587 | O35: 1538 | P35: 1601 | Q35: 1549 | R35: 1575 | S35: 1569 | T35: 1481
B37: Promoción por año del grado cero a quinto y de sexto a once, análisis de cohortes (%)
C38: 2008 | D38: 2009 | E38: 2010 | F38: 2011 | G38: 2012 | H38: 2013 | I38: 2014 | J38: 2015 | K38: 2016 | L38: 2017 | M38: 2018 | N38: 2019 | O38: 2020 | P38: 2021 | Q38: 2022 | R38: 2023 | S38: 2024
B39: 0° | N39: 128
B40: 1º | O40: =(O9-N8)/N8*100 -> 24.21875
B41: 2º | P41: =(P10-O9)/O9*100 -> -4.4025157
B42: 3º | Q42: =(Q11-P10)/P10*100 -> -14.473684
...

Sheet DOMINGO SAVIO
B1: SECRETARÍA DE EDUCACIÓN MUNICIPAL DE PITALITO
B2: AREA DE COBERTURA - SISTEMA INTEGRADO DE MATRICULAS
B3: MATRICULA OFICIAL I.E MUNICIPAL DOMINGO SAVIO POR GRADO Y NIVELES
C5: 2008 | D5: 2009 | E5: 2010 | F5: 2011 | G5: 2012 | H5: 2013 | I5: 2014 | J5: 2015 | K5: 2016 | L5: 2017 | M5: 2018 | N5: 2019 | O5: 2020 | P5: 2021 | Q5: 2022 | R5: 2023 | S5: 2024 | T5: 2025 | W5: 2008 | X5: 2009 | Y5: 2010 | Z5: 2011 | AA5: 2012 | AB5: 2013 | AC5: 2014 | AD5: 2015 | AE5: 2016 | AF5: 2017 | AG5: 2018 | AH5: 2019 | AI5: 2020 | AJ5: 2021 | AK5: 2022 | AL5: 2023 | AM5: 2024 | AN5: 2025
B6: Prej | T6: 3 | V6: Preescolar | W6: =C8 -> 77 | X6: =D8 -> 72 | Y6: =E8 -> 70 | Z6: =F8 -> 82 | AA6: =G8 -> 60 | AB6: =H8 -> 68 | AC6: =I8 -> 44 | AD6: =J8 -> 48 | ... AN6: =T8 -> 56
B7: Jard | T7: 7 | V7: Primaria | W7: =SUM(C9:C13,C34) -> 434 | X7: =SUM(D9:D13,D34) -> 395 | Y7: =SUM(E9:E13,E34) -> 399 | Z7: =SUM(F9:F13,F34) -> 377 | AA7: =SUM(G9:G13,G34) -> 397 | AB7: =SUM(H9:H13,H34) -> 399 | AC7: =SUM(I9:I13,I34) -> 360 | AD7: =SUM(J9:J13,J34) -> 357 | ... AN7: =SUM(T9:T13,T34) -> 339
B8: 0° | C8: 77 | D8: 72 | E8: 70 | F8: 82 | G8: 60 | H8: 68 | I8: 44 | J8: 48 | K8: 72 | L8: 75 | M8: 64 | N8: 54 | O8: 36 | P8: 60 | Q8: 56 | R8: 58 | S8: 69 | T8: 56 | V8: Secundaria | W8: =SUM(C14:C17) -> 100 | X8: =SUM(D14:D17) -> 117 | Y8: =SUM(E14:E17) -> 120 | Z8: =SUM(F14:F17) -> 140 | AA8: =SUM(G14:G17) -> 126 | AB8: =SUM(H14:H17) -> 138 | AC8: =SUM(I14:I17) -> 163 | AD8: =SUM(J14:J17) -> 174 | ... AN8: =SUM(T14:T17) -> 179
B9: 1º | C9: 98 | D9: 87 | E9: 79 | F9: 63 | G9: 96 | H9: 94 | I9: 91 | J9: 64 | K9: 73 | L9: 79 | M9: 92 | N9: 75 | O9: 68 | P9: 49 | Q9: 84 | R9: 74 | S9: 68 | T9: 79 | V9: Media | W9: =SUM(C18:C19) -> 0 | X9: =SUM(D18:D19) -> 0 | Y9: =SUM(E18:E19) -> 0 | Z9: =SUM(F18:F19) -> 0 | AA9: =SUM(G18:G19) -> 15 | AB9: =SUM(H18:H19) -> 31 | AC9: =SUM(I18:I19) -> 35 | AD9: =SUM(J18:J19) -> 37 | ... AN9: =SUM(T18:T19) -> 63
B10: 2º | C10: 86 | D10: 85 | E10: 92 | F10: 75 | G10: 67 | H10: 89 | I10: 74 | J10: 87 | K10: 56 | L10: 70 | M10: 74 | N10: 89 | O10: 75 | P10: 65 | Q10: 54 | R10: 88 | S10: 67 | T10: 56 | V10: Total (0 a 11) | W10: =SUM(C8:C19,C34) -> 611 | X10: =SUM(D8:D19,D34) -> 584 | Y10: =SUM(E8:E19,E34) -> 589 | Z10: =SUM(F8:F19,F34) -> 599 | AA10: =SUM(G8:G19,G34) -> 598 | AB10: =SUM(H8:H19,H34) -> 636 | AC10: =SUM(I8:I19,I34) -> 602 | AD10: =SUM(J8:J19,J34) -> 616 | ... AN10: =SUM(T8:T19,T34) -> 637
B11: 3º | C11: 91 | D11: 84 | E11: 84 | F11: 87 | G11: 74 | H11: 61 | I11: 71 | J11: 81 | K11: 92 | L11: 54 | M11: 62 | N11: 88 | O11: 67 | P11: 77 | Q11: 66 | R11: 68 | S11: 85 | T11: 73
B12: 4º | C12: 74 | D12: 74 | E12: 76 | F12: 87 | G12: 84 | H12: 76 | I12: 62 | J12: 62 | K12: 74 | L12: 83 | M12: 53 | N12: 48 | O12: 73 | P12: 63 | Q12: 77 | R12: 79 | S12: 53 | T12: 80 | V12: Matrícula por Nivel Educativo del Grado Cero a Once
B13: 5º | C13: 85 | D13: 65 | E13: 68 | F13: 65 | G13: 76 | H13: 79 | I13: 62 | J13: 63 | K13: 60 | L13: 69 | M13: 78 | N13: 55 | O13: 48 | P13: 72 | Q13: 66 | R13: 75 | S13: 72 | T13: 51
B14: 6º | C14: 36 | D14: 46 | E14: 35 | F14: 54 | G14: 43 | H14: 57 | I14: 66 | J14: 62 | K14: 70 | L14: 58 | M14: 44 | N14: 52 | O14: 44 | P14: 46 | Q14: 59 | R14: 53 | S14: 58 | T14: 58
B15: 7º | C15: 26 | D15: 31 | E15: 44 | F15: 30 | G15: 30 | H15: 34 | I15: 40 | J15: 56 | K15: 41 | L15: 40 | M15: 51 | N15: 39 | O15: 43 | P15: 45 | Q15: 43 | R15: 45 | S15: 46 | T15: 44 | W15: 2008 | X15: 2009 | Y15: 2010 | Z15: 2011 | AA15: 2012 | AB15: 2013 | AC15: 2014 | AD15: 2015 | AE15: 2016 | AF15: 2017 | AG15: 2018 | AH15: 2019 | AI15: 2020 | AJ15: 2021 | AK15: 2022 | AL15: 2023 | AM15: 2024 | AN15: 2025
B16: 8º | C16: 25 | D16: 20 | E16: 24 | F16: 37 | G16: 31 | H16: 28 | I16: 32 | J16: 32 | K16: 38 | L16: 31 | M16: 36 | N16: 48 | O16: 39 | P16: 39 | Q16: 35 | R16: 34 | S16: 37 | T16: 42 | V16: Preescolar | X16: =(X6-W6)/W6*100 -> -6.4935065 | Y16: =(Y6-X6)/X6*100 -> -2.7777778 | Z16: =(Z6-Y6)/Y6*100 -> 17.142857 | AA16: =(AA6-Z6)/Z6*100 -> -26.829268 | AB16: =(AB6-AA6)/AA6*100 -> 13.333333 | AC16: =(AC6-AB6)/AB6*100 -> -35.294118 | AD16: =(AD6-AC6)/AC6*100 -> 9.0909091 | AE16: =(AE6-AD6)/AD6*100 -> 50 | ... AN16: =(AN6-AM6)/AM6*100 -> -18.84058
B17: 9º | C17: 13 | D17: 20 | E17: 17 | F17: 19 | G17: 22 | H17: 19 | I17: 25 | J17: 24 | K17: 19 | L17: 32 | M17: 25 | N17: 35 | O17: 38 | P17: 27 | Q17: 33 | R17: 38 | S17: 31 | T17: 35 | V17: Primaria | X17: =(X7-W7)/W7*100 -> -8.9861751 | Y17: =(Y7-X7)/X7*100 -> 1.0126582 | Z17: =(Z7-Y7)/Y7*100 -> -5.5137845 | AA17: =(AA7-Z7)/Z7*100 -> 5.3050398 | AB17: =(AB7-AA7)/AA7*100 -> 0.50377834 | AC17: =(AC7-AB7)/AB7*100 -> -9.7744361 | AD17: =(AD7-AC7)/AC7*100 -> -0.83333333 | AE17: =(AE7-AD7)/AD7*100 -> -0.56022409 | ... AN17: =(AN7-AM7)/AM7*100 -> -1.7391304
B18: 10º | G18: 15 | H18: 17 | I18: 19 | J18: 20 | K18: 20 | L18: 14 | M18: 24 | N18: 32 | O18: 30 | P18: 35 | Q18: 22 | R18: 34 | S18: 36 | T18: 31 | V18: Secundaria | X18: =(X8-W8)/W8*100 -> 17 | Y18: =(Y8-X8)/X8*100 -> 2.5641026 | Z18: =(Z8-Y8)/Y8*100 -> 16.666667 | AA18: =(AA8-Z8)/Z8*100 -> -10 | AB18: =(AB8-AA8)/AA8*100 -> 9.5238095 | AC18: =(AC8-AB8)/AB8*100 -> 18.115942 | AD18: =(AD8-AC8)/AC8*100 -> 6.7484663 | AE18: =(AE8-AD8)/AD8*100 -> -3.4482759 | ... AN18: =(AN8-AM8)/AM8*100 -> 4.0697674
B19: 11º | H19: 14 | I19: 16 | J19: 17 | K19: 16 | L19: 17 | M19: 9 | N19: 22 | O19: 25 | P19: 23 | Q19: 26 | R19: 18 | S19: 28 | T19: 32 | V19: Media | AB19: =(AB9-AA9)/AA9*100 -> 106.66667 | AC19: =(AC9-AB9)/AB9*100 -> 12.903226 | AD19: =(AD9-AC9)/AC9*100 -> 5.7142857 | AE19: =(AE9-AD9)/AD9*100 -> -2.7027027 | AF19: =(AF9-AE9)/AE9*100 -> -13.888889 | AG19: =(AG9-AF9)/AF9*100 -> 6.4516129 | AH19: =(AH9-AG9)/AG9*100 -> 63.636364 | AI19: =(AI9-AH9)/AH9*100 -> 1.8518519 | ... AN19: =(AN9-AM9)/AM9*100 -> -1.5625
B20: 12° | V20: Total (0 a 11) | X20: =(X10-W10)/W10*100 -> -4.4189853 | Y20: =(Y10-X10)/X10*100 -> 0.85616438 | Z20: =(Z10-Y10)/Y10*100 -> 1.6977929 | AA20: =(AA10-Z10)/Z10*100 -> -0.16694491 | AB20: =(AB10-AA10)/AA10*100 -> 6.3545151 | AC20: =(AC10-AB10)/AB10*100 -> -5.3459119 | AD20: =(AD10-AC10)/AC10*100 -> 2.3255814 | AE20: =(AE10-AD10)/AD10*100 -> 2.4350649 | ... AN20: =(AN10-AM10)/AM10*100 -> -2
B21: 13°
B22: C0 | H22: 70 | V22: Tasa de aumento o disminución de la matrícula por nivel y año
B23: C1 | I23: 18 | J23: 23
B24: C2 | H24: 43 | I24: 12
B25: C3
B26: C4
B27: C5
B28: C6
B29: 41°
B30: 42°
B31: 43°
B32: 44°
B33: 45°
B34: Acel
B35: Total | C35: 611 | D35: 584 | E35: 589 | F35: 599 | G35: 598 | H35: 749 | I35: 632 | J35: 639 | K35: 631 | L35: 622 | M35: 612 | N35: 637 | O35: 586 | P35: 601 | Q35: 621 | R35: 664 | S35: 650 | T35: 647
B37: Promoción por año del grado cero a quinto y de sexto a once, análisis de cohortes (%)
C38: 2008 | D38: 2009 | E38: 2010 | F38: 2011 | G38: 2012 | H38: 2013 | I38: 2014 | J38: 2015 | K38: 2016 | L38: 2017 | M38: 2018 | N38: 2019 | O38: 2020 | P38: 2021 | Q38: 2022 | R38: 2023 | S38: 2024
B39: 0° | N39: 54
B40: 1º | O40: =(O9-N8)/N8*100 -> 25.925926
B41: 2º | P41: =(P10-O9)/O9*100 -> -4.4117647
B42: 3º | Q42: =(Q11-P10)/P10*100 -> 1.5384615
...

Sheet GUACACALLO
B1: SECRETARÍA DE EDUCACIÓN MUNICIPAL DE PITALITO
B2: AREA DE COBERTURA - SISTEMA INTEGRADO DE MATRICULAS
B3: MATRICULA OFICIAL I.E MUNICIPAL GUACACALLO POR GRADO Y NIVELES
C5: 2008 | D5: 2009 | E5: 2010 | F5: 2011 | G5: 2012 | H5: 2013 | I5: 2014 | J5: 2015 | K5: 2016 | L5: 2017 | M5: 2018 | N5: 2019 | O5: 2020 | P5: 2021 | Q5: 2022 | R5: 2023 | S5: 2024 | T5: 2025 | W5: 2008 | X5: 2009 | Y5: 2010 | Z5: 2011 | AA5: 2012 | AB5: 2013 | AC5: 2014 | AD5: 2015 | AE5: 2016 | AF5: 2017 | AG5: 2018 | AH5: 2019 | AI5: 2020 | AJ5: 2021 | AK5: 2022 | AL5: 2023 | AM5: 2024 | AN5: 2025
B6: Prej | V6: Preescolar | W6: =C8 -> 51 | X6: =D8 -> 63 | Y6: =E8 -> 65 | Z6: =F8 -> 44 | AA6: =G8 -> 50 | AB6: =H8 -> 72 | AC6: =I8 -> 66 | AD6: =J8 -> 65 | ... AN6: =T8 -> 76
B7: Jard | T7: 13 | V7: Primaria | W7: =SUM(C9:C13,C34) -> 393 | X7: =SUM(D9:D13,D34) -> 380 | Y7: =SUM(E9:E13,E34) -> 385 | Z7: =SUM(F9:F13,F34) -> 389 | AA7: =SUM(G9:G13,G34) -> 397 | AB7: =SUM(H9:H13,H34) -> 417 | AC7: =SUM(I9:I13,I34) -> 403 | AD7: =SUM(J9:J13,J34) -> 376 | ... AN7: =SUM(T9:T13,T34) -> 433
B8: 0° | C8: 51 | D8: 63 | E8: 65 | F8: 44 | G8: 50 | H8: 72 | I8: 66 | J8: 65 | K8: 60 | L8: 72 | M8: 83 | N8: 72 | O8: 65 | P8: 75 | Q8: 74 | R8: 80 | S8: 77 | T8: 76 | V8: Secundaria | W8: =SUM(C14:C17) -> 177 | X8: =SUM(D14:D17) -> 197 | Y8: =SUM(E14:E17) -> 221 | Z8: =SUM(F14:F17) -> 228 | AA8: =SUM(G14:G17) -> 242 | AB8: =SUM(H14:H17) -> 259 | AC8: =SUM(I14:I17) -> 266 | AD8: =SUM(J14:J17) -> 295 | ... AN8: =SUM(T14:T17) -> 257
B9: 1º | C9: 77 | D9: 85 | E9: 78 | F9: 89 | G9: 72 | H9: 100 | I9: 89 | J9: 87 | K9: 92 | L9: 86 | M9: 85 | N9: 105 | O9: 89 | P9: 97 | Q9: 97 | R9: 88 | S9: 97 | T9: 99 | V9: Media | W9: =SUM(C18:C19) -> 37 | X9: =SUM(D18:D19) -> 39 | Y9: =SUM(E18:E19) -> 46 | Z9: =SUM(F18:F19) -> 48 | AA9: =SUM(G18:G19) -> 48 | AB9: =SUM(H18:H19) -> 57 | AC9: =SUM(I18:I19) -> 62 | AD9: =SUM(J18:J19) -> 69 | ... AN9: =SUM(T18:T19) -> 85
B10: 2º | C10: 89 | D10: 77 | E10: 85 | F10: 70 | G10: 87 | H10: 67 | I10: 81 | J10: 74 | K10: 75 | L10: 78 | M10: 80 | N10: 80 | O10: 99 | P10: 75 | Q10: 93 | R10: 89 | S10: 77 | T10: 87 | V10: Total (0 a 11) | W10: =SUM(C8:C19,C34) -> 658 | X10: =SUM(D8:D19,D34) -> 679 | Y10: =SUM(E8:E19,E34) -> 717 | Z10: =SUM(F8:F19,F34) -> 709 | AA10: =SUM(G8:G19,G34) -> 737 | AB10: =SUM(H8:H19,H34) -> 805 | AC10: =SUM(I8:I19,I34) -> 797 | AD10: =SUM(J8:J19,J34) -> 805 | ... AN10: =SUM(T8:T19,T34) -> 851
B11: 3º | C11: 62 | D11: 86 | E11: 73 | F11: 84 | G11: 80 | H11: 87 | I11: 58 | J11: 75 | K11: 81 | L11: 75 | M11: 71 | N11: 68 | O11: 80 | P11: 98 | Q11: 67 | R11: 84 | S11: 84 | T11: 85
B12: 4º | C12: 80 | D12: 59 | E12: 85 | F12: 69 | G12: 81 | H12: 87 | I12: 85 | J12: 56 | K12: 80 | L12: 69 | M12: 72 | N12: 68 | O12: 71 | P12: 91 | Q12: 97 | R12: 73 | S12: 88 | T12: 76 | V12: Matrícula por Nivel Educativo del Grado Cero a Once
B13: 5º | C13: 85 | D13: 73 | E13: 64 | F13: 77 | G13: 77 | H13: 76 | I13: 90 | J13: 84 | K13: 66 | L13: 76 | M13: 73 | N13: 70 | O13: 76 | P13: 74 | Q13: 84 | R13: 89 | S13: 71 | T13: 86
B14: 6º | C14: 71 | D14: 75 | E14: 70 | F14: 65 | G14: 77 | H14: 84 | I14: 103 | J14: 112 | K14: 100 | L14: 76 | M14: 71 | N14: 83 | O14: 77 | P14: 77 | Q14: 83 | R14: 89 | S14: 90 | T14: 79
B15: 7º | C15: 41 | D15: 59 | E15: 71 | F15: 69 | G15: 63 | H15: 76 | I15: 69 | J15: 72 | K15: 101 | L15: 90 | M15: 59 | N15: 75 | O15: 76 | P15: 85 | Q15: 75 | R15: 59 | S15: 74 | T15: 66 | W15: 2008 | X15: 2009 | Y15: 2010 | Z15: 2011 | AA15: 2012 | AB15: 2013 | AC15: 2014 | AD15: 2015 | AE15: 2016 | AF15: 2017 | AG15: 2018 | AH15: 2019 | AI15: 2020 | AJ15: 2021 | AK15: 2022 | AL15: 2023 | AM15: 2024 | AN15: 2025
B16: 8º | C16: 41 | D16: 33 | E16: 54 | F16: 49 | G16: 62 | H16: 41 | I16: 56 | J16: 56 | K16: 60 | L16: 61 | M16: 61 | N16: 53 | O16: 63 | P16: 74 | Q16: 66 | R16: 62 | S16: 56 | T16: 66 | V16: Preescolar | X16: =(X6-W6)/W6*100 -> 23.529412 | Y16: =(Y6-X6)/X6*100 -> 3.1746032 | Z16: =(Z6-Y6)/Y6*100 -> -32.307692 | AA16: =(AA6-Z6)/Z6*100 -> 13.636364 | AB16: =(AB6-AA6)/AA6*100 -> 44 | AC16: =(AC6-AB6)/AB6*100 -> -8.3333333 | AD16: =(AD6-AC6)/AC6*100 -> -1.5151515 | AE16: =(AE6-AD6)/AD6*100 -> -7.6923077 | ... AN16: =(AN6-AM6)/AM6*100 -> -1.2987013
B17: 9º | C17: 24 | D17: 30 | E17: 26 | F17: 45 | G17: 40 | H17: 58 | I17: 38 | J17: 55 | K17: 35 | L17: 47 | M17: 66 | N17: 53 | O17: 44 | P17: 54 | Q17: 52 | R17: 59 | S17: 50 | T17: 46 | V17: Primaria | X17: =(X7-W7)/W7*100 -> -3.307888 | Y17: =(Y7-X7)/X7*100 -> 1.3157895 | Z17: =(Z7-Y7)/Y7*100 -> 1.038961 | AA17: =(AA7-Z7)/Z7*100 -> 2.0565553 | AB17: =(AB7-AA7)/AA7*100 -> 5.0377834 | AC17: =(AC7-AB7)/AB7*100 -> -3.3573141 | AD17: =(AD7-AC7)/AC7*100 -> -6.6997519 | AE17: =(AE7-AD7)/AD7*100 -> 4.787234 | ... AN17: =(AN7-AM7)/AM7*100 -> 3.8369305
B18: 10º | C18: 25 | D18: 18 | E18: 29 | F18: 22 | G18: 31 | H18: 30 | I18: 38 | J18: 42 | K18: 47 | L18: 33 | M18: 45 | N18: 70 | O18: 47 | P18: 34 | Q18: 46 | R18: 50 | S18: 42 | T18: 50 | V18: Secundaria | X18: =(X8-W8)/W8*100 -> 11.299435 | Y18: =(Y8-X8)/X8*100 -> 12.182741 | Z18: =(Z8-Y8)/Y8*100 -> 3.1674208 | AA18: =(AA8-Z8)/Z8*100 -> 6.1403509 | AB18: =(AB8-AA8)/AA8*100 -> 7.0247934 | AC18: =(AC8-AB8)/AB8*100 -> 2.7027027 | AD18: =(AD8-AC8)/AC8*100 -> 10.902256 | AE18: =(AE8-AD8)/AD8*100 -> 0.33898305 | ... AN18: =(AN8-AM8)/AM8*100 -> -4.8148148
B19: 11º | C19: 12 | D19: 21 | E19: 17 | F19: 26 | G19: 17 | H19: 27 | I19: 24 | J19: 27 | K19: 29 | L19: 37 | M19: 24 | N19: 39 | O19: 57 | P19: 46 | Q19: 27 | R19: 40 | S19: 42 | T19: 35 | V19: Media | X19: =(X9-W9)/W9*100 -> 5.4054054 | Y19: =(Y9-X9)/X9*100 -> 17.948718 | Z19: =(Z9-Y9)/Y9*100 -> 4.3478261 | AA19: =(AA9-Z9)/Z9*100 -> 0 | AB19: =(AB9-AA9)/AA9*100 -> 18.75 | AC19: =(AC9-AB9)/AB9*100 -> 8.7719298 | AD19: =(AD9-AC9)/AC9*100 -> 11.290323 | AE19: =(AE9-AD9)/AD9*100 -> 10.144928 | ... AN19: =(AN9-AM9)/AM9*100 -> 1.1904762
B20: 12° | V20: Total (0 a 11) | X20: =(X10-W10)/W10*100 -> 3.1914894 | Y20: =(Y10-X10)/X10*100 -> 5.5964654 | Z20: =(Z10-Y10)/Y10*100 -> -1.1157601 | AA20: =(AA10-Z10)/Z10*100 -> 3.9492243 | AB20: =(AB10-AA10)/AA10*100 -> 9.2265943 | AC20: =(AC10-AB10)/AB10*100 -> -0.99378882 | AD20: =(AD10-AC10)/AC10*100 -> 1.0037641 | AE20: =(AE10-AD10)/AD10*100 -> 2.6086957 | ... AN20: =(AN10-AM10)/AM10*100 -> 0.35377358
B21: 13°
B22: C0 | H22: 62 | V22: Tasa de aumento o disminución de la matrícula por nivel y año
B23: C1 | D23: 13 | E23: 16 | F23: 50 | I23: 53 | J23: 64
B24: C2 | C24: 12 | D24: 121 | E24: 123 | F24: 20 | G24: 48 | H24: 105 | I24: 25
B25: C3 | D25: 36 | E25: 49 | F25: 35 | G25: 23 | H25: 21 | I25: 99 | J25: 75 | K25: 27 | L25: 30 | M25: 42 | N25: 48 | O25: 41 | P25: 38 | Q25: 44 | R25: 31 | S25: 28 | T25: 29
B26: C4 | F26: 26 | G26: 23 | H26: 22 | I26: 24 | J26: 35 | K26: 59 | L26: 29 | M26: 37 | N26: 44 | O26: 53 | P26: 45 | Q26: 39 | R26: 32 | S26: 30 | T26: 27
B27: C5 | G27: 20 | H27: 21 | J27: 34 | K27: 34 | L27: 62 | M27: 47 | N27: 47 | O27: 59 | P27: 42 | Q27: 46 | R27: 47 | S27: 34 | T27: 24
B28: C6 | I28: 36
B29: 41°
B30: 42°
B31: 43°
B32: 44°
B33: 45°
B34: Acel
B35: Total | C35: 670 | D35: 849 | E35: 905 | F35: 840 | G35: 851 | H35: 1036 | I35: 1034 | J35: 1013 | K35: 946 | L35: 921 | M35: 916 | N35: 975 | O35: 997 | P35: 1005 | Q35: 990 | R35: 972 | S35: 940 | T35: 944
B37: Promoción por año del grado cero a quinto y de sexto a once, análisis de cohortes (%)
C38: 2008 | D38: 2009 | E38: 2010 | F38: 2011 | G38: 2012 | H38: 2013 | I38: 2014 | J38: 2015 | K38: 2016 | L38: 2017 | M38: 2018 | N38: 2019 | O38: 2020 | P38: 2021 | Q38: 2022 | R38: 2023 | S38: 2024
B39: 0° | N39: 72
B40: 1º | O40: =(O9-N8)/N8*100 -> 23.611111
B41: 2º | P41: =(P10-O9)/O9*100 -> -15.730337
B42: 3º | Q42: =(Q11-P10)/P10*100 -> -10.666667
...

Sheet HUMBERTO M ORDOÑEZ
B1: SECRETARÍA DE EDUCACIÓN MUNICIPAL DE PITALITO
B2: AREA DE COBERTURA - SISTEMA INTEGRADO DE MATRICULAS
B3: MATRICULA OFICIAL I.E MUNICIPAL HUMBERTO MUÑOZ ORDOÑEZ POR GRADO Y NIVELES
C5: 2008 | D5: 2009 | E5: 2010 | F5: 2011 | G5: 2012 | H5: 2013 | I5: 2014 | J5: 2015 | K5: 2016 | L5: 2017 | M5: 2018 | N5: 2019 | O5: 2020 | P5: 2021 | Q5: 2022 | R5: 2023 | S5: 2024 | T5: 2025 | W5: 2008 | X5: 2009 | Y5: 2010 | Z5: 2011 | AA5: 2012 | AB5: 2013 | AC5: 2014 | AD5: 2015 | AE5: 2016 | AF5: 2017 | AG5: 2018 | AH5: 2019 | AI5: 2020 | AJ5: 2021 | AK5: 2022 | AL5: 2023 | AM5: 2024 | AN5: 2025
B6: Prej | V6: Preescolar | W6: =C8 -> 162 | X6: =D8 -> 146 | Y6: =E8 -> 154 | Z6: =F8 -> 217 | AA6: =G8 -> 219 | AB6: =H8 -> 201 | AC6: =I8 -> 201 | AD6: =J8 -> 175 | ... AN6: =T8 -> 151
B7: Jard | T7: 9 | V7: Primaria | W7: =SUM(C9:C13,C34) -> 1130 | X7: =SUM(D9:D13,D34) -> 1127 | Y7: =SUM(E9:E13,E34) -> 1158 | Z7: =SUM(F9:F13,F34) -> 1126 | AA7: =SUM(G9:G13,G34) -> 1137 | AB7: =SUM(H9:H13,H34) -> 1253 | AC7: =SUM(I9:I13,I34) -> 1211 | AD7: =SUM(J9:J13,J34) -> 1242 | ... AN7: =SUM(T9:T13,T34) -> 1139
B8: 0° | C8: 162 | D8: 146 | E8: 154 | F8: 217 | G8: 219 | H8: 201 | I8: 201 | J8: 175 | K8: 157 | L8: 204 | M8: 185 | N8: 185 | O8: 187 | P8: 169 | Q8: 210 | R8: 160 | S8: 164 | T8: 151 | V8: Secundaria | W8: =SUM(C14:C17) -> 1593 | X8: =SUM(D14:D17) -> 1554 | Y8: =SUM(E14:E17) -> 1632 | Z8: =SUM(F14:F17) -> 1620 | AA8: =SUM(G14:G17) -> 1658 | AB8: =SUM(H14:H17) -> 1619 | AC8: =SUM(I14:I17) -> 1538 | AD8: =SUM(J14:J17) -> 1580 | ... AN8: =SUM(T14:T17) -> 932
